BEGIN:VCALENDAR
VERSION:2.0
PRODID:-//Eagle Point Senior Living - ECPv6.11.2.1//NONSGML v1.0//EN
CALSCALE:GREGORIAN
METHOD:PUBLISH
X-ORIGINAL-URL:https://eaglepointseniorliving.com
X-WR-CALDESC:Events for Eagle Point Senior Living
REFRESH-INTERVAL;VALUE=DURATION:PT1H
X-Robots-Tag:noindex
X-PUBLISHED-TTL:PT1H
BEGIN:VTIMEZONE
TZID:America/Chicago
BEGIN:DAYLIGHT
TZOFFSETFROM:-0600
TZOFFSETTO:-0500
TZNAME:CDT
DTSTART:20260308T080000
END:DAYLIGHT
BEGIN:STANDARD
TZOFFSETFROM:-0500
TZOFFSETTO:-0600
TZNAME:CST
DTSTART:20261101T070000
END:STANDARD
END:VTIMEZONE
BEGIN:VEVENT
DTSTART;TZID=America/Chicago:20260107T080000
DTEND;TZID=America/Chicago:20260107T090000
DTSTAMP:20260421T030831
CREATED:20251224T013927Z
LAST-MODIFIED:20260107T020929Z
UID:10003767-1767772800-1767776400@eaglepointseniorliving.com
SUMMARY:Morning Melodies
DESCRIPTION:
URL:https://eaglepointseniorliving.com/event-calendar/morning-melodies-254/
CATEGORIES:Memory Care
END:VEVENT
BEGIN:VEVENT
DTSTART;TZID=America/Chicago:20260107T093000
DTEND;TZID=America/Chicago:20260107T100000
DTSTAMP:20260421T030831
CREATED:20251224T013928Z
LAST-MODIFIED:20260107T020929Z
UID:10003768-1767778200-1767780000@eaglepointseniorliving.com
SUMMARY:Fit While You Sit- Chair Exercise
DESCRIPTION:
URL:https://eaglepointseniorliving.com/event-calendar/fit-while-you-sit-chair-exercise-4/
CATEGORIES:Memory Care
END:VEVENT
BEGIN:VEVENT
DTSTART;TZID=America/Chicago:20260107T100000
DTEND;TZID=America/Chicago:20260107T103000
DTSTAMP:20260421T030831
CREATED:20251209T005453Z
LAST-MODIFIED:20260107T020929Z
UID:10003561-1767780000-1767781800@eaglepointseniorliving.com
SUMMARY:Weekly Worship
DESCRIPTION:Christian worship service with communion led by Chaplain Peter.
URL:https://eaglepointseniorliving.com/event-calendar/weekly-worship-30/
CATEGORIES:Memory Care
END:VEVENT
BEGIN:VEVENT
DTSTART;TZID=America/Chicago:20260107T110000
DTEND;TZID=America/Chicago:20260107T114500
DTSTAMP:20260421T030831
CREATED:20251224T013928Z
LAST-MODIFIED:20260107T020929Z
UID:10003769-1767783600-1767786300@eaglepointseniorliving.com
SUMMARY:Watercolor Wednesday
DESCRIPTION:
URL:https://eaglepointseniorliving.com/event-calendar/watercolor-wednesday/
CATEGORIES:Memory Care
END:VEVENT
BEGIN:VEVENT
DTSTART;TZID=America/Chicago:20260107T120000
DTEND;TZID=America/Chicago:20260107T123000
DTSTAMP:20260421T030831
CREATED:20251231T015438Z
LAST-MODIFIED:20260107T020929Z
UID:10003923-1767787200-1767789000@eaglepointseniorliving.com
SUMMARY:Oshibori
DESCRIPTION:
URL:https://eaglepointseniorliving.com/event-calendar/oshibori-262/
CATEGORIES:Memory Care
END:VEVENT
BEGIN:VEVENT
DTSTART;TZID=America/Chicago:20260107T131500
DTEND;TZID=America/Chicago:20260107T140000
DTSTAMP:20260421T030831
CREATED:20260101T015446Z
LAST-MODIFIED:20260107T020929Z
UID:10003973-1767791700-1767794400@eaglepointseniorliving.com
SUMMARY:Fireside Stories-Chicken Soup for the Soul
DESCRIPTION:
URL:https://eaglepointseniorliving.com/event-calendar/fireside-stories-chicken-soup-for-the-soul/
LOCATION:Fireplace Room
CATEGORIES:Memory Care
END:VEVENT
BEGIN:VEVENT
DTSTART;TZID=America/Chicago:20260107T141500
DTEND;TZID=America/Chicago:20260107T150000
DTSTAMP:20260421T030831
CREATED:20251209T005453Z
LAST-MODIFIED:20260107T020929Z
UID:10003564-1767795300-1767798000@eaglepointseniorliving.com
SUMMARY:Active Games & Phyical Movement Activity
DESCRIPTION:
URL:https://eaglepointseniorliving.com/event-calendar/active-games-phyical-movement-activity-15/
LOCATION:Activity room
CATEGORIES:Memory Care
END:VEVENT
BEGIN:VEVENT
DTSTART;TZID=America/Chicago:20260107T150000
DTEND;TZID=America/Chicago:20260107T153000
DTSTAMP:20260421T030831
CREATED:20251213T010927Z
LAST-MODIFIED:20260107T020929Z
UID:10003616-1767798000-1767799800@eaglepointseniorliving.com
SUMMARY:Antler Matching Game
DESCRIPTION:
URL:https://eaglepointseniorliving.com/event-calendar/antler-matching-game-2/
LOCATION:Activity room
CATEGORIES:Memory Care
END:VEVENT
BEGIN:VEVENT
DTSTART;TZID=America/Chicago:20260107T153000
DTEND;TZID=America/Chicago:20260107T161500
DTSTAMP:20260421T030831
CREATED:20251213T010927Z
LAST-MODIFIED:20260107T020929Z
UID:10003615-1767799800-1767802500@eaglepointseniorliving.com
SUMMARY:Daily Delights
DESCRIPTION:
URL:https://eaglepointseniorliving.com/event-calendar/daily-delights/
LOCATION:Dining Room
CATEGORIES:Memory Care
END:VEVENT
BEGIN:VEVENT
DTSTART;TZID=America/Chicago:20260107T190000
DTEND;TZID=America/Chicago:20260107T191500
DTSTAMP:20260421T030831
CREATED:20251224T013928Z
LAST-MODIFIED:20260107T020929Z
UID:10003770-1767812400-1767813300@eaglepointseniorliving.com
SUMMARY:Snack Pass
DESCRIPTION:
URL:https://eaglepointseniorliving.com/event-calendar/snack-pass-136/
LOCATION:Dining Room
CATEGORIES:Memory Care
END:VEVENT
END:VCALENDAR