BEGIN:VCALENDAR
VERSION:2.0
PRODID:-//Eagle Point Senior Living - ECPv6.11.2.1//NONSGML v1.0//EN
CALSCALE:GREGORIAN
METHOD:PUBLISH
X-ORIGINAL-URL:https://eaglepointseniorliving.com
X-WR-CALDESC:Events for Eagle Point Senior Living
REFRESH-INTERVAL;VALUE=DURATION:PT1H
X-Robots-Tag:noindex
X-PUBLISHED-TTL:PT1H
BEGIN:VTIMEZONE
TZID:America/Chicago
BEGIN:DAYLIGHT
TZOFFSETFROM:-0600
TZOFFSETTO:-0500
TZNAME:CDT
DTSTART:20260308T080000
END:DAYLIGHT
BEGIN:STANDARD
TZOFFSETFROM:-0500
TZOFFSETTO:-0600
TZNAME:CST
DTSTART:20261101T070000
END:STANDARD
END:VTIMEZONE
BEGIN:VEVENT
DTSTART;TZID=America/Chicago:20260104T080000
DTEND;TZID=America/Chicago:20260104T090000
DTSTAMP:20260421T043527
CREATED:20251206T004012Z
LAST-MODIFIED:20260104T020925Z
UID:10003528-1767513600-1767517200@eaglepointseniorliving.com
SUMMARY:Morning Melodies
DESCRIPTION:
URL:https://eaglepointseniorliving.com/event-calendar/morning-melodies-236/
CATEGORIES:Memory Care
END:VEVENT
BEGIN:VEVENT
DTSTART;TZID=America/Chicago:20260104T093000
DTEND;TZID=America/Chicago:20260104T103000
DTSTAMP:20260421T043527
CREATED:20251224T013927Z
LAST-MODIFIED:20260104T020925Z
UID:10003759-1767519000-1767522600@eaglepointseniorliving.com
SUMMARY:Daliy Delights
DESCRIPTION:
URL:https://eaglepointseniorliving.com/event-calendar/daliy-delights-2/
CATEGORIES:Memory Care
END:VEVENT
BEGIN:VEVENT
DTSTART;TZID=America/Chicago:20260104T110000
DTEND;TZID=America/Chicago:20260104T114500
DTSTAMP:20260421T043527
CREATED:20251224T013927Z
LAST-MODIFIED:20260104T020925Z
UID:10003760-1767524400-1767527100@eaglepointseniorliving.com
SUMMARY:Creative Calm Coloring
DESCRIPTION:
URL:https://eaglepointseniorliving.com/event-calendar/creative-calm-coloring-2/
CATEGORIES:Memory Care
END:VEVENT
BEGIN:VEVENT
DTSTART;TZID=America/Chicago:20260104T190000
DTEND;TZID=America/Chicago:20260104T191500
DTSTAMP:20260421T043527
CREATED:20251224T013927Z
LAST-MODIFIED:20260104T020925Z
UID:10003761-1767553200-1767554100@eaglepointseniorliving.com
SUMMARY:Snack Pass
DESCRIPTION:
URL:https://eaglepointseniorliving.com/event-calendar/snack-pass-133/
LOCATION:Dining Room
CATEGORIES:Memory Care
END:VEVENT
END:VCALENDAR