BEGIN:VCALENDAR
VERSION:2.0
PRODID:-//Eagle Point Senior Living - ECPv6.11.2.1//NONSGML v1.0//EN
CALSCALE:GREGORIAN
METHOD:PUBLISH
X-ORIGINAL-URL:https://eaglepointseniorliving.com
X-WR-CALDESC:Events for Eagle Point Senior Living
REFRESH-INTERVAL;VALUE=DURATION:PT1H
X-Robots-Tag:noindex
X-PUBLISHED-TTL:PT1H
BEGIN:VTIMEZONE
TZID:America/Chicago
BEGIN:DAYLIGHT
TZOFFSETFROM:-0600
TZOFFSETTO:-0500
TZNAME:CDT
DTSTART:20250309T080000
END:DAYLIGHT
BEGIN:STANDARD
TZOFFSETFROM:-0500
TZOFFSETTO:-0600
TZNAME:CST
DTSTART:20251102T070000
END:STANDARD
END:VTIMEZONE
BEGIN:VEVENT
DTSTART;TZID=America/Chicago:20251227T080000
DTEND;TZID=America/Chicago:20251227T090000
DTSTAMP:20260421T043742
CREATED:20251128T120930Z
LAST-MODIFIED:20251227T013938Z
UID:10003437-1766822400-1766826000@eaglepointseniorliving.com
SUMMARY:Morning Melodies
DESCRIPTION:
URL:https://eaglepointseniorliving.com/event-calendar/morning-melodies-228/
CATEGORIES:Memory Care
END:VEVENT
BEGIN:VEVENT
DTSTART;TZID=America/Chicago:20251227T093000
DTEND;TZID=America/Chicago:20251227T103000
DTSTAMP:20260421T043742
CREATED:20251128T120930Z
LAST-MODIFIED:20251227T013938Z
UID:10003439-1766827800-1766831400@eaglepointseniorliving.com
SUMMARY:Holiday Wreaths Video Judging
DESCRIPTION:
URL:https://eaglepointseniorliving.com/event-calendar/special-day-recognition-2/
LOCATION:Activity room
CATEGORIES:Memory Care
END:VEVENT
BEGIN:VEVENT
DTSTART;TZID=America/Chicago:20251227T100000
DTEND;TZID=America/Chicago:20251227T103000
DTSTAMP:20260421T043742
CREATED:20251128T120930Z
LAST-MODIFIED:20251227T013938Z
UID:10003438-1766829600-1766831400@eaglepointseniorliving.com
SUMMARY:Morning Doughnuts & Social
DESCRIPTION:
URL:https://eaglepointseniorliving.com/event-calendar/morning-doughnuts-social-4/
CATEGORIES:Memory Care
END:VEVENT
BEGIN:VEVENT
DTSTART;TZID=America/Chicago:20251227T110000
DTEND;TZID=America/Chicago:20251227T113000
DTSTAMP:20260421T043742
CREATED:20251128T120930Z
LAST-MODIFIED:20251227T013938Z
UID:10003440-1766833200-1766835000@eaglepointseniorliving.com
SUMMARY:Midmorning with Brenda-Game Time
DESCRIPTION:
URL:https://eaglepointseniorliving.com/event-calendar/midmorning-with-brenda-3/
LOCATION:Dining Room
CATEGORIES:Memory Care
END:VEVENT
BEGIN:VEVENT
DTSTART;TZID=America/Chicago:20251227T140000
DTEND;TZID=America/Chicago:20251227T150000
DTSTAMP:20260421T043742
CREATED:20251128T120930Z
LAST-MODIFIED:20251227T013938Z
UID:10003441-1766844000-1766847600@eaglepointseniorliving.com
SUMMARY:Reminisce
DESCRIPTION:
URL:https://eaglepointseniorliving.com/event-calendar/reminisce-66/
CATEGORIES:Memory Care
END:VEVENT
BEGIN:VEVENT
DTSTART;TZID=America/Chicago:20251227T180000
DTEND;TZID=America/Chicago:20251227T190000
DTSTAMP:20260421T043742
CREATED:20251128T120931Z
LAST-MODIFIED:20251227T013938Z
UID:10003442-1766858400-1766862000@eaglepointseniorliving.com
SUMMARY:Movie & A Snack
DESCRIPTION:
URL:https://eaglepointseniorliving.com/event-calendar/movie-a-snack-33/
CATEGORIES:Memory Care
END:VEVENT
BEGIN:VEVENT
DTSTART;TZID=America/Chicago:20251227T190000
DTEND;TZID=America/Chicago:20251227T191500
DTSTAMP:20260421T043742
CREATED:20251128T120931Z
LAST-MODIFIED:20251227T013938Z
UID:10003443-1766862000-1766862900@eaglepointseniorliving.com
SUMMARY:Snack Pass
DESCRIPTION:
URL:https://eaglepointseniorliving.com/event-calendar/snack-pass-124/
LOCATION:Dining Room
CATEGORIES:Memory Care
END:VEVENT
END:VCALENDAR