BEGIN:VCALENDAR
VERSION:2.0
PRODID:-//Eagle Point Senior Living - ECPv6.11.2.1//NONSGML v1.0//EN
CALSCALE:GREGORIAN
METHOD:PUBLISH
X-WR-CALNAME:Eagle Point Senior Living
X-ORIGINAL-URL:https://eaglepointseniorliving.com
X-WR-CALDESC:Events for Eagle Point Senior Living
REFRESH-INTERVAL;VALUE=DURATION:PT1H
X-Robots-Tag:noindex
X-PUBLISHED-TTL:PT1H
BEGIN:VTIMEZONE
TZID:America/Chicago
BEGIN:DAYLIGHT
TZOFFSETFROM:-0600
TZOFFSETTO:-0500
TZNAME:CDT
DTSTART:20250309T080000
END:DAYLIGHT
BEGIN:STANDARD
TZOFFSETFROM:-0500
TZOFFSETTO:-0600
TZNAME:CST
DTSTART:20251102T070000
END:STANDARD
END:VTIMEZONE
BEGIN:VEVENT
DTSTART;TZID=America/Chicago:20251225T080000
DTEND;TZID=America/Chicago:20251225T090000
DTSTAMP:20260421T043310
CREATED:20251126T115454Z
LAST-MODIFIED:20251225T014004Z
UID:10003415-1766649600-1766653200@eaglepointseniorliving.com
SUMMARY:Morning Melodies
DESCRIPTION:
URL:https://eaglepointseniorliving.com/event-calendar/morning-melodies-226/
CATEGORIES:Memory Care
END:VEVENT
BEGIN:VEVENT
DTSTART;TZID=America/Chicago:20251225T090000
DTEND;TZID=America/Chicago:20251225T100000
DTSTAMP:20260421T043310
CREATED:20251224T013923Z
LAST-MODIFIED:20251225T014004Z
UID:10003750-1766653200-1766656800@eaglepointseniorliving.com
SUMMARY:Christmas Day Church Service On Television
DESCRIPTION:
URL:https://eaglepointseniorliving.com/event-calendar/christmas-day-church-service-on-television/
LOCATION:Dining Room
CATEGORIES:Memory Care
END:VEVENT
BEGIN:VEVENT
DTSTART;TZID=America/Chicago:20251225T100000
DTEND;TZID=America/Chicago:20251225T113000
DTSTAMP:20260421T043310
CREATED:20251213T010925Z
LAST-MODIFIED:20251225T014004Z
UID:10003609-1766656800-1766662200@eaglepointseniorliving.com
SUMMARY:Today's Special is Christmas Day
DESCRIPTION:
URL:https://eaglepointseniorliving.com/event-calendar/todays-special-9/
LOCATION:Activity room
CATEGORIES:Memory Care
END:VEVENT
BEGIN:VEVENT
DTSTART;TZID=America/Chicago:20251225T120000
DTEND;TZID=America/Chicago:20251225T123000
DTSTAMP:20260421T043310
CREATED:20251126T115454Z
LAST-MODIFIED:20251225T014004Z
UID:10003418-1766664000-1766665800@eaglepointseniorliving.com
SUMMARY:Oshibori
DESCRIPTION:
URL:https://eaglepointseniorliving.com/event-calendar/oshibori-253/
CATEGORIES:Memory Care
END:VEVENT
BEGIN:VEVENT
DTSTART;TZID=America/Chicago:20251225T190000
DTEND;TZID=America/Chicago:20251225T191500
DTSTAMP:20260421T043310
CREATED:20251126T115454Z
LAST-MODIFIED:20251225T014004Z
UID:10003423-1766689200-1766690100@eaglepointseniorliving.com
SUMMARY:Snack Pass
DESCRIPTION:
URL:https://eaglepointseniorliving.com/event-calendar/snack-pass-122/
LOCATION:Dining Room
CATEGORIES:Memory Care
END:VEVENT
END:VCALENDAR