BEGIN:VCALENDAR
VERSION:2.0
PRODID:-//Eagle Point Senior Living - ECPv6.11.2.1//NONSGML v1.0//EN
CALSCALE:GREGORIAN
METHOD:PUBLISH
X-ORIGINAL-URL:https://eaglepointseniorliving.com
X-WR-CALDESC:Events for Eagle Point Senior Living
REFRESH-INTERVAL;VALUE=DURATION:PT1H
X-Robots-Tag:noindex
X-PUBLISHED-TTL:PT1H
BEGIN:VTIMEZONE
TZID:America/Chicago
BEGIN:DAYLIGHT
TZOFFSETFROM:-0600
TZOFFSETTO:-0500
TZNAME:CDT
DTSTART:20250309T080000
END:DAYLIGHT
BEGIN:STANDARD
TZOFFSETFROM:-0500
TZOFFSETTO:-0600
TZNAME:CST
DTSTART:20251102T070000
END:STANDARD
END:VTIMEZONE
BEGIN:VEVENT
DTSTART;TZID=America/Chicago:20251218T080000
DTEND;TZID=America/Chicago:20251218T090000
DTSTAMP:20260421T043735
CREATED:20251119T112450Z
LAST-MODIFIED:20251218T010924Z
UID:10003311-1766044800-1766048400@eaglepointseniorliving.com
SUMMARY:Morning Melodies
DESCRIPTION:
URL:https://eaglepointseniorliving.com/event-calendar/morning-melodies-219/
CATEGORIES:Memory Care
END:VEVENT
BEGIN:VEVENT
DTSTART;TZID=America/Chicago:20251218T093000
DTEND;TZID=America/Chicago:20251218T103000
DTSTAMP:20260421T043735
CREATED:20251119T112450Z
LAST-MODIFIED:20251218T010924Z
UID:10003312-1766050200-1766053800@eaglepointseniorliving.com
SUMMARY:News Currents-The Longest Walk
DESCRIPTION:
URL:https://eaglepointseniorliving.com/event-calendar/news-currents-21/
LOCATION:Activity room
CATEGORIES:Memory Care
END:VEVENT
BEGIN:VEVENT
DTSTART;TZID=America/Chicago:20251218T100000
DTEND;TZID=America/Chicago:20251218T110000
DTSTAMP:20260421T043735
CREATED:20251119T112450Z
LAST-MODIFIED:20251218T010924Z
UID:10003313-1766052000-1766055600@eaglepointseniorliving.com
SUMMARY:Daily Spirit Spark
DESCRIPTION:Various spiritual topics and activities with Chaplain Peter.
URL:https://eaglepointseniorliving.com/event-calendar/daily-spirit-spark-87/
CATEGORIES:Memory Care
END:VEVENT
BEGIN:VEVENT
DTSTART;TZID=America/Chicago:20251218T110000
DTEND;TZID=America/Chicago:20251218T113000
DTSTAMP:20260421T043735
CREATED:20251213T010923Z
LAST-MODIFIED:20251218T010924Z
UID:10003607-1766055600-1766057400@eaglepointseniorliving.com
SUMMARY:Today's Special-Ear Muffs
DESCRIPTION:Cover Your Ears Month-AC- A young man from Farmington\, Maine\, patented his simple invention: earmuffs. Greenwood\, who first had the idea for this “improvement in ear-mufflers\,” as the patent documents describe it\, at the age of 15\, turned chilly ears into a business.
URL:https://eaglepointseniorliving.com/event-calendar/todays-special-ear-muffs/
LOCATION:Activity room
CATEGORIES:Memory Care
END:VEVENT
BEGIN:VEVENT
DTSTART;TZID=America/Chicago:20251218T120000
DTEND;TZID=America/Chicago:20251218T123000
DTSTAMP:20260421T043735
CREATED:20251119T112450Z
LAST-MODIFIED:20251218T010924Z
UID:10003314-1766059200-1766061000@eaglepointseniorliving.com
SUMMARY:Oshibori
DESCRIPTION:
URL:https://eaglepointseniorliving.com/event-calendar/oshibori-248/
CATEGORIES:Memory Care
END:VEVENT
BEGIN:VEVENT
DTSTART;TZID=America/Chicago:20251218T130000
DTEND;TZID=America/Chicago:20251218T133000
DTSTAMP:20260421T043735
CREATED:20251119T112450Z
LAST-MODIFIED:20251218T010924Z
UID:10003315-1766062800-1766064600@eaglepointseniorliving.com
SUMMARY:Jeopardy
DESCRIPTION:
URL:https://eaglepointseniorliving.com/event-calendar/jeopardy-17/
LOCATION:Activity room
CATEGORIES:Memory Care
END:VEVENT
BEGIN:VEVENT
DTSTART;TZID=America/Chicago:20251218T133000
DTEND;TZID=America/Chicago:20251218T143000
DTSTAMP:20260421T043735
CREATED:20251119T112450Z
LAST-MODIFIED:20251218T010924Z
UID:10003316-1766064600-1766068200@eaglepointseniorliving.com
SUMMARY:Reading Together
DESCRIPTION:
URL:https://eaglepointseniorliving.com/event-calendar/reading-together-6/
LOCATION:Activity room
CATEGORIES:Memory Care
END:VEVENT
BEGIN:VEVENT
DTSTART;TZID=America/Chicago:20251218T143000
DTEND;TZID=America/Chicago:20251218T153000
DTSTAMP:20260421T043735
CREATED:20251119T112450Z
LAST-MODIFIED:20251218T010924Z
UID:10003317-1766068200-1766071800@eaglepointseniorliving.com
SUMMARY:Location of the Week-Bethlehem\, Pennsylvania
DESCRIPTION:
URL:https://eaglepointseniorliving.com/event-calendar/time-capsule-6/
LOCATION:Activity room
CATEGORIES:Memory Care
END:VEVENT
BEGIN:VEVENT
DTSTART;TZID=America/Chicago:20251218T153000
DTEND;TZID=America/Chicago:20251218T163000
DTSTAMP:20260421T043735
CREATED:20251119T112450Z
LAST-MODIFIED:20251218T010924Z
UID:10003318-1766071800-1766075400@eaglepointseniorliving.com
SUMMARY:Sing A Long
DESCRIPTION:
URL:https://eaglepointseniorliving.com/event-calendar/sing-a-long-8/
LOCATION:Activity room
CATEGORIES:Memory Care
END:VEVENT
BEGIN:VEVENT
DTSTART;TZID=America/Chicago:20251218T190000
DTEND;TZID=America/Chicago:20251218T191500
DTSTAMP:20260421T043735
CREATED:20251119T112450Z
LAST-MODIFIED:20251219T010923Z
UID:10003319-1766084400-1766085300@eaglepointseniorliving.com
SUMMARY:Snack Pass
DESCRIPTION:
URL:https://eaglepointseniorliving.com/event-calendar/snack-pass-115/
LOCATION:Dining Room
CATEGORIES:Memory Care
END:VEVENT
END:VCALENDAR