BEGIN:VCALENDAR
VERSION:2.0
PRODID:-//Eagle Point Senior Living - ECPv6.11.2.1//NONSGML v1.0//EN
CALSCALE:GREGORIAN
METHOD:PUBLISH
X-ORIGINAL-URL:https://eaglepointseniorliving.com
X-WR-CALDESC:Events for Eagle Point Senior Living
REFRESH-INTERVAL;VALUE=DURATION:PT1H
X-Robots-Tag:noindex
X-PUBLISHED-TTL:PT1H
BEGIN:VTIMEZONE
TZID:America/Chicago
BEGIN:DAYLIGHT
TZOFFSETFROM:-0600
TZOFFSETTO:-0500
TZNAME:CDT
DTSTART:20250309T080000
END:DAYLIGHT
BEGIN:STANDARD
TZOFFSETFROM:-0500
TZOFFSETTO:-0600
TZNAME:CST
DTSTART:20251102T070000
END:STANDARD
END:VTIMEZONE
BEGIN:VEVENT
DTSTART;TZID=America/Chicago:20251217T080000
DTEND;TZID=America/Chicago:20251217T090000
DTSTAMP:20260421T043555
CREATED:20251118T112434Z
LAST-MODIFIED:20251217T010923Z
UID:10003293-1765958400-1765962000@eaglepointseniorliving.com
SUMMARY:Morning Melodies
DESCRIPTION:
URL:https://eaglepointseniorliving.com/event-calendar/morning-melodies-218/
CATEGORIES:Memory Care
END:VEVENT
BEGIN:VEVENT
DTSTART;TZID=America/Chicago:20251217T093000
DTEND;TZID=America/Chicago:20251217T100000
DTSTAMP:20260421T043555
CREATED:20251118T112434Z
LAST-MODIFIED:20251217T010923Z
UID:10003294-1765963800-1765965600@eaglepointseniorliving.com
SUMMARY:Fit While You Sit
DESCRIPTION:
URL:https://eaglepointseniorliving.com/event-calendar/fit-while-you-sit-59/
CATEGORIES:Memory Care
END:VEVENT
BEGIN:VEVENT
DTSTART;TZID=America/Chicago:20251217T100000
DTEND;TZID=America/Chicago:20251217T103000
DTSTAMP:20260421T043555
CREATED:20251125T113956Z
LAST-MODIFIED:20251217T010923Z
UID:10003397-1765965600-1765967400@eaglepointseniorliving.com
SUMMARY:Weekly Worship
DESCRIPTION:Christian worship service with communion led by Chaplain Peter.
URL:https://eaglepointseniorliving.com/event-calendar/weekly-worship-27/
CATEGORIES:Memory Care
END:VEVENT
BEGIN:VEVENT
DTSTART;TZID=America/Chicago:20251217T120000
DTEND;TZID=America/Chicago:20251217T123000
DTSTAMP:20260421T043555
CREATED:20251118T112434Z
LAST-MODIFIED:20251217T010923Z
UID:10003297-1765972800-1765974600@eaglepointseniorliving.com
SUMMARY:Oshibori
DESCRIPTION:
URL:https://eaglepointseniorliving.com/event-calendar/oshibori-247/
CATEGORIES:Memory Care
END:VEVENT
BEGIN:VEVENT
DTSTART;TZID=America/Chicago:20251217T133000
DTEND;TZID=America/Chicago:20251217T141500
DTSTAMP:20260421T043555
CREATED:20251118T112434Z
LAST-MODIFIED:20251217T010923Z
UID:10003299-1765978200-1765980900@eaglepointseniorliving.com
SUMMARY:Balloon Ball
DESCRIPTION:
URL:https://eaglepointseniorliving.com/event-calendar/active-games-phyical-movement-activity-12/
LOCATION:Activity room
CATEGORIES:Memory Care
END:VEVENT
BEGIN:VEVENT
DTSTART;TZID=America/Chicago:20251217T141500
DTEND;TZID=America/Chicago:20251217T150000
DTSTAMP:20260421T043555
CREATED:20251211T005510Z
LAST-MODIFIED:20251217T010923Z
UID:10003584-1765980900-1765983600@eaglepointseniorliving.com
SUMMARY:Price is right & Wheel of Fortune
DESCRIPTION:
URL:https://eaglepointseniorliving.com/event-calendar/price-is-right-wheel-of-fortune/
CATEGORIES:Memory Care
END:VEVENT
BEGIN:VEVENT
DTSTART;TZID=America/Chicago:20251217T150000
DTEND;TZID=America/Chicago:20251217T154500
DTSTAMP:20260421T043555
CREATED:20251211T005510Z
LAST-MODIFIED:20251217T010923Z
UID:10003585-1765983600-1765986300@eaglepointseniorliving.com
SUMMARY:Holiday Art/Craft Project-Puzzle Ornament
DESCRIPTION:
URL:https://eaglepointseniorliving.com/event-calendar/holiday-art-craft-project-puzzle-ornament/
LOCATION:Activity room
CATEGORIES:Memory Care
END:VEVENT
BEGIN:VEVENT
DTSTART;TZID=America/Chicago:20251217T173000
DTEND;TZID=America/Chicago:20251217T181500
DTSTAMP:20260421T043555
CREATED:20251211T005510Z
LAST-MODIFIED:20251217T010923Z
UID:10003586-1765992600-1765995300@eaglepointseniorliving.com
SUMMARY:Holiday Singalong
DESCRIPTION:
URL:https://eaglepointseniorliving.com/event-calendar/holiday-singalong/
LOCATION:Dining Room
CATEGORIES:Memory Care
END:VEVENT
BEGIN:VEVENT
DTSTART;TZID=America/Chicago:20251217T181500
DTEND;TZID=America/Chicago:20251217T190000
DTSTAMP:20260421T043555
CREATED:20251211T005510Z
LAST-MODIFIED:20251217T010923Z
UID:10003587-1765995300-1765998000@eaglepointseniorliving.com
SUMMARY:Daily Delights & Tabletop activities
DESCRIPTION:
URL:https://eaglepointseniorliving.com/event-calendar/daily-delights-tabletop-activities/
CATEGORIES:Memory Care
END:VEVENT
BEGIN:VEVENT
DTSTART;TZID=America/Chicago:20251217T190000
DTEND;TZID=America/Chicago:20251217T191500
DTSTAMP:20260421T043555
CREATED:20251118T112434Z
LAST-MODIFIED:20251218T010924Z
UID:10003300-1765998000-1765998900@eaglepointseniorliving.com
SUMMARY:Snack Pass
DESCRIPTION:
URL:https://eaglepointseniorliving.com/event-calendar/snack-pass-114/
LOCATION:Dining Room
CATEGORIES:Memory Care
END:VEVENT
END:VCALENDAR