BEGIN:VCALENDAR
VERSION:2.0
PRODID:-//Eagle Point Senior Living - ECPv6.11.2.1//NONSGML v1.0//EN
CALSCALE:GREGORIAN
METHOD:PUBLISH
X-ORIGINAL-URL:https://eaglepointseniorliving.com
X-WR-CALDESC:Events for Eagle Point Senior Living
REFRESH-INTERVAL;VALUE=DURATION:PT1H
X-Robots-Tag:noindex
X-PUBLISHED-TTL:PT1H
BEGIN:VTIMEZONE
TZID:America/Chicago
BEGIN:DAYLIGHT
TZOFFSETFROM:-0600
TZOFFSETTO:-0500
TZNAME:CDT
DTSTART:20250309T080000
END:DAYLIGHT
BEGIN:STANDARD
TZOFFSETFROM:-0500
TZOFFSETTO:-0600
TZNAME:CST
DTSTART:20251102T070000
END:STANDARD
END:VTIMEZONE
BEGIN:VEVENT
DTSTART;TZID=America/Chicago:20251216T080000
DTEND;TZID=America/Chicago:20251216T090000
DTSTAMP:20260421T043735
CREATED:20251117T112431Z
LAST-MODIFIED:20251216T010958Z
UID:10003277-1765872000-1765875600@eaglepointseniorliving.com
SUMMARY:Morning Melodies
DESCRIPTION:
URL:https://eaglepointseniorliving.com/event-calendar/morning-melodies-217/
CATEGORIES:Memory Care
END:VEVENT
BEGIN:VEVENT
DTSTART;TZID=America/Chicago:20251216T093000
DTEND;TZID=America/Chicago:20251216T100000
DTSTAMP:20260421T043735
CREATED:20251117T112432Z
LAST-MODIFIED:20251216T010958Z
UID:10003278-1765877400-1765879200@eaglepointseniorliving.com
SUMMARY:Fit While You Sit
DESCRIPTION:
URL:https://eaglepointseniorliving.com/event-calendar/fit-while-you-sit-58/
CATEGORIES:Memory Care
END:VEVENT
BEGIN:VEVENT
DTSTART;TZID=America/Chicago:20251216T100000
DTEND;TZID=America/Chicago:20251216T110000
DTSTAMP:20260421T043735
CREATED:20251117T112432Z
LAST-MODIFIED:20251216T010958Z
UID:10003279-1765879200-1765882800@eaglepointseniorliving.com
SUMMARY:Daily Spirit Spark
DESCRIPTION:Various spiritual topics and activities with Chaplain Peter.
URL:https://eaglepointseniorliving.com/event-calendar/daily-spirit-spark-86/
CATEGORIES:Memory Care
END:VEVENT
BEGIN:VEVENT
DTSTART;TZID=America/Chicago:20251216T110000
DTEND;TZID=America/Chicago:20251216T114500
DTSTAMP:20260421T043735
CREATED:20251117T112432Z
LAST-MODIFIED:20251216T010958Z
UID:10003280-1765882800-1765885500@eaglepointseniorliving.com
SUMMARY:Resident Tuesday
DESCRIPTION:
URL:https://eaglepointseniorliving.com/event-calendar/brain-games-21/
CATEGORIES:Memory Care
END:VEVENT
BEGIN:VEVENT
DTSTART;TZID=America/Chicago:20251216T120000
DTEND;TZID=America/Chicago:20251216T123000
DTSTAMP:20260421T043735
CREATED:20251117T112432Z
LAST-MODIFIED:20251216T010958Z
UID:10003281-1765886400-1765888200@eaglepointseniorliving.com
SUMMARY:Oshibori
DESCRIPTION:
URL:https://eaglepointseniorliving.com/event-calendar/oshibori-246/
CATEGORIES:Memory Care
END:VEVENT
BEGIN:VEVENT
DTSTART;TZID=America/Chicago:20251216T133000
DTEND;TZID=America/Chicago:20251216T150000
DTSTAMP:20260421T043735
CREATED:20251119T112450Z
LAST-MODIFIED:20251216T010958Z
UID:10003310-1765891800-1765897200@eaglepointseniorliving.com
SUMMARY:Holiday Movie Matinee
DESCRIPTION:
URL:https://eaglepointseniorliving.com/event-calendar/holiday-movie-matinee/
CATEGORIES:Memory Care
END:VEVENT
BEGIN:VEVENT
DTSTART;TZID=America/Chicago:20251216T180000
DTEND;TZID=America/Chicago:20251216T190000
DTSTAMP:20260421T043735
CREATED:20251117T112432Z
LAST-MODIFIED:20251216T010958Z
UID:10003284-1765908000-1765911600@eaglepointseniorliving.com
SUMMARY:Bingo With Dawn
DESCRIPTION:Bingo is a fun\, low-pressure game that supports cognitive skills like memory\, attention\, and pattern recognition while encouraging social interaction and emotional well-being. Its adaptability makes it accessible for various ability levels\, offering joy\, routine\, and community.
URL:https://eaglepointseniorliving.com/event-calendar/bingo-with-dawn-27/
CATEGORIES:Memory Care
END:VEVENT
BEGIN:VEVENT
DTSTART;TZID=America/Chicago:20251216T190000
DTEND;TZID=America/Chicago:20251216T191500
DTSTAMP:20260421T043735
CREATED:20251117T112432Z
LAST-MODIFIED:20251217T010923Z
UID:10003285-1765911600-1765912500@eaglepointseniorliving.com
SUMMARY:Snack Pass
DESCRIPTION:
URL:https://eaglepointseniorliving.com/event-calendar/snack-pass-113/
LOCATION:Dining Room
CATEGORIES:Memory Care
END:VEVENT
END:VCALENDAR