BEGIN:VCALENDAR
VERSION:2.0
PRODID:-//Eagle Point Senior Living - ECPv6.11.2.1//NONSGML v1.0//EN
CALSCALE:GREGORIAN
METHOD:PUBLISH
X-ORIGINAL-URL:https://eaglepointseniorliving.com
X-WR-CALDESC:Events for Eagle Point Senior Living
REFRESH-INTERVAL;VALUE=DURATION:PT1H
X-Robots-Tag:noindex
X-PUBLISHED-TTL:PT1H
BEGIN:VTIMEZONE
TZID:America/Chicago
BEGIN:DAYLIGHT
TZOFFSETFROM:-0600
TZOFFSETTO:-0500
TZNAME:CDT
DTSTART:20250309T080000
END:DAYLIGHT
BEGIN:STANDARD
TZOFFSETFROM:-0500
TZOFFSETTO:-0600
TZNAME:CST
DTSTART:20251102T070000
END:STANDARD
END:VTIMEZONE
BEGIN:VEVENT
DTSTART;TZID=America/Chicago:20251211T080000
DTEND;TZID=America/Chicago:20251211T090000
DTSTAMP:20260421T043742
CREATED:20251112T112524Z
LAST-MODIFIED:20251211T005509Z
UID:10003205-1765440000-1765443600@eaglepointseniorliving.com
SUMMARY:Morning Melodies
DESCRIPTION:
URL:https://eaglepointseniorliving.com/event-calendar/morning-melodies-212/
CATEGORIES:Memory Care
END:VEVENT
BEGIN:VEVENT
DTSTART;TZID=America/Chicago:20251211T093000
DTEND;TZID=America/Chicago:20251211T103000
DTSTAMP:20260421T043742
CREATED:20251112T112524Z
LAST-MODIFIED:20251211T005509Z
UID:10003206-1765445400-1765449000@eaglepointseniorliving.com
SUMMARY:News Currents
DESCRIPTION:
URL:https://eaglepointseniorliving.com/event-calendar/news-currents-20/
LOCATION:Dining Room
CATEGORIES:Memory Care
END:VEVENT
BEGIN:VEVENT
DTSTART;TZID=America/Chicago:20251211T100000
DTEND;TZID=America/Chicago:20251211T110000
DTSTAMP:20260421T043742
CREATED:20251112T112524Z
LAST-MODIFIED:20251211T005509Z
UID:10003207-1765447200-1765450800@eaglepointseniorliving.com
SUMMARY:Daily Spirit Spark
DESCRIPTION:Various spiritual topics and activities with Chaplain Peter.
URL:https://eaglepointseniorliving.com/event-calendar/daily-spirit-spark-84/
CATEGORIES:Memory Care
END:VEVENT
BEGIN:VEVENT
DTSTART;TZID=America/Chicago:20251211T120000
DTEND;TZID=America/Chicago:20251211T123000
DTSTAMP:20260421T043742
CREATED:20251112T112524Z
LAST-MODIFIED:20251211T005509Z
UID:10003208-1765454400-1765456200@eaglepointseniorliving.com
SUMMARY:Oshibori
DESCRIPTION:
URL:https://eaglepointseniorliving.com/event-calendar/oshibori-243/
CATEGORIES:Memory Care
END:VEVENT
BEGIN:VEVENT
DTSTART;TZID=America/Chicago:20251211T130000
DTEND;TZID=America/Chicago:20251211T133000
DTSTAMP:20260421T043742
CREATED:20251112T112525Z
LAST-MODIFIED:20251211T005509Z
UID:10003209-1765458000-1765459800@eaglepointseniorliving.com
SUMMARY:Jeopardy
DESCRIPTION:
URL:https://eaglepointseniorliving.com/event-calendar/jeopardy-16/
LOCATION:Activity room
CATEGORIES:Memory Care
END:VEVENT
BEGIN:VEVENT
DTSTART;TZID=America/Chicago:20251211T133000
DTEND;TZID=America/Chicago:20251211T143000
DTSTAMP:20260421T043742
CREATED:20251112T112525Z
LAST-MODIFIED:20251211T005509Z
UID:10003210-1765459800-1765463400@eaglepointseniorliving.com
SUMMARY:Reading Together-A Miracle This Christmas &
DESCRIPTION:
URL:https://eaglepointseniorliving.com/event-calendar/reading-together-5/
LOCATION:Activity room
CATEGORIES:Memory Care
END:VEVENT
BEGIN:VEVENT
DTSTART;TZID=America/Chicago:20251211T143000
DTEND;TZID=America/Chicago:20251211T153000
DTSTAMP:20260421T043742
CREATED:20251112T112525Z
LAST-MODIFIED:20251211T005509Z
UID:10003211-1765463400-1765467000@eaglepointseniorliving.com
SUMMARY:Location of the Week-Reindeer Lands
DESCRIPTION:
URL:https://eaglepointseniorliving.com/event-calendar/time-capsule-5/
CATEGORIES:Memory Care
END:VEVENT
BEGIN:VEVENT
DTSTART;TZID=America/Chicago:20251211T153000
DTEND;TZID=America/Chicago:20251211T163000
DTSTAMP:20260421T043742
CREATED:20251112T112525Z
LAST-MODIFIED:20251211T005509Z
UID:10003212-1765467000-1765470600@eaglepointseniorliving.com
SUMMARY:Sing A Long
DESCRIPTION:
URL:https://eaglepointseniorliving.com/event-calendar/sing-a-long-7/
CATEGORIES:Memory Care
END:VEVENT
BEGIN:VEVENT
DTSTART;TZID=America/Chicago:20251211T190000
DTEND;TZID=America/Chicago:20251211T191500
DTSTAMP:20260421T043742
CREATED:20251112T112525Z
LAST-MODIFIED:20251212T010937Z
UID:10003213-1765479600-1765480500@eaglepointseniorliving.com
SUMMARY:Snack Pass
DESCRIPTION:
URL:https://eaglepointseniorliving.com/event-calendar/snack-pass-107/
LOCATION:Dining Room
CATEGORIES:Memory Care
END:VEVENT
END:VCALENDAR