BEGIN:VCALENDAR
VERSION:2.0
PRODID:-//Eagle Point Senior Living - ECPv6.11.2.1//NONSGML v1.0//EN
CALSCALE:GREGORIAN
METHOD:PUBLISH
X-WR-CALNAME:Eagle Point Senior Living
X-ORIGINAL-URL:https://eaglepointseniorliving.com
X-WR-CALDESC:Events for Eagle Point Senior Living
REFRESH-INTERVAL;VALUE=DURATION:PT1H
X-Robots-Tag:noindex
X-PUBLISHED-TTL:PT1H
BEGIN:VTIMEZONE
TZID:America/Chicago
BEGIN:DAYLIGHT
TZOFFSETFROM:-0600
TZOFFSETTO:-0500
TZNAME:CDT
DTSTART:20250309T080000
END:DAYLIGHT
BEGIN:STANDARD
TZOFFSETFROM:-0500
TZOFFSETTO:-0600
TZNAME:CST
DTSTART:20251102T070000
END:STANDARD
END:VTIMEZONE
BEGIN:VEVENT
DTSTART;TZID=America/Chicago:20251210T080000
DTEND;TZID=America/Chicago:20251210T090000
DTSTAMP:20260421T043217
CREATED:20251111T110931Z
LAST-MODIFIED:20251210T005425Z
UID:10003187-1765353600-1765357200@eaglepointseniorliving.com
SUMMARY:Morning Melodies
DESCRIPTION:
URL:https://eaglepointseniorliving.com/event-calendar/morning-melodies-211/
CATEGORIES:Memory Care
END:VEVENT
BEGIN:VEVENT
DTSTART;TZID=America/Chicago:20251210T093000
DTEND;TZID=America/Chicago:20251210T100000
DTSTAMP:20260421T043217
CREATED:20251111T110931Z
LAST-MODIFIED:20251210T005425Z
UID:10003188-1765359000-1765360800@eaglepointseniorliving.com
SUMMARY:Fit While You Sit
DESCRIPTION:
URL:https://eaglepointseniorliving.com/event-calendar/fit-while-you-sit-55/
CATEGORIES:Memory Care
END:VEVENT
BEGIN:VEVENT
DTSTART;TZID=America/Chicago:20251210T100000
DTEND;TZID=America/Chicago:20251210T103000
DTSTAMP:20260421T043217
CREATED:20251125T113954Z
LAST-MODIFIED:20251210T005425Z
UID:10003396-1765360800-1765362600@eaglepointseniorliving.com
SUMMARY:Weekly Worship
DESCRIPTION:Christian worship service with communion led by Chaplain Peter.
URL:https://eaglepointseniorliving.com/event-calendar/weekly-worship-26/
CATEGORIES:Memory Care
END:VEVENT
BEGIN:VEVENT
DTSTART;TZID=America/Chicago:20251210T110000
DTEND;TZID=America/Chicago:20251210T114500
DTSTAMP:20260421T043217
CREATED:20251111T110931Z
LAST-MODIFIED:20251210T005425Z
UID:10003190-1765364400-1765367100@eaglepointseniorliving.com
SUMMARY:Resident Wednesday
DESCRIPTION:
URL:https://eaglepointseniorliving.com/event-calendar/resident-wednesday-25/
CATEGORIES:Memory Care
END:VEVENT
BEGIN:VEVENT
DTSTART;TZID=America/Chicago:20251210T120000
DTEND;TZID=America/Chicago:20251210T123000
DTSTAMP:20260421T043217
CREATED:20251111T110931Z
LAST-MODIFIED:20251210T005425Z
UID:10003191-1765368000-1765369800@eaglepointseniorliving.com
SUMMARY:Oshibori
DESCRIPTION:
URL:https://eaglepointseniorliving.com/event-calendar/oshibori-242/
CATEGORIES:Memory Care
END:VEVENT
BEGIN:VEVENT
DTSTART;TZID=America/Chicago:20251210T133000
DTEND;TZID=America/Chicago:20251210T143000
DTSTAMP:20260421T043217
CREATED:20251126T115450Z
LAST-MODIFIED:20251210T005425Z
UID:10003414-1765373400-1765377000@eaglepointseniorliving.com
SUMMARY:Piano Music With Vicki
DESCRIPTION:
URL:https://eaglepointseniorliving.com/event-calendar/piano-music-with-vicki-2/
CATEGORIES:Memory Care
END:VEVENT
BEGIN:VEVENT
DTSTART;TZID=America/Chicago:20251210T180000
DTEND;TZID=America/Chicago:20251210T183000
DTSTAMP:20260421T043217
CREATED:20251111T110932Z
LAST-MODIFIED:20251210T005425Z
UID:10003194-1765389600-1765391400@eaglepointseniorliving.com
SUMMARY:Yoga with the Traveling Yogi
DESCRIPTION:
URL:https://eaglepointseniorliving.com/event-calendar/yoga-with-the-traveling-yogi-4/
CATEGORIES:Memory Care
END:VEVENT
BEGIN:VEVENT
DTSTART;TZID=America/Chicago:20251210T190000
DTEND;TZID=America/Chicago:20251210T191500
DTSTAMP:20260421T043217
CREATED:20251111T110932Z
LAST-MODIFIED:20251211T005509Z
UID:10003195-1765393200-1765394100@eaglepointseniorliving.com
SUMMARY:Snack Pass
DESCRIPTION:
URL:https://eaglepointseniorliving.com/event-calendar/snack-pass-106/
LOCATION:Dining Room
CATEGORIES:Memory Care
END:VEVENT
END:VCALENDAR