BEGIN:VCALENDAR
VERSION:2.0
PRODID:-//Eagle Point Senior Living - ECPv6.11.2.1//NONSGML v1.0//EN
CALSCALE:GREGORIAN
METHOD:PUBLISH
X-WR-CALNAME:Eagle Point Senior Living
X-ORIGINAL-URL:https://eaglepointseniorliving.com
X-WR-CALDESC:Events for Eagle Point Senior Living
REFRESH-INTERVAL;VALUE=DURATION:PT1H
X-Robots-Tag:noindex
X-PUBLISHED-TTL:PT1H
BEGIN:VTIMEZONE
TZID:America/Chicago
BEGIN:DAYLIGHT
TZOFFSETFROM:-0600
TZOFFSETTO:-0500
TZNAME:CDT
DTSTART:20250309T080000
END:DAYLIGHT
BEGIN:STANDARD
TZOFFSETFROM:-0500
TZOFFSETTO:-0600
TZNAME:CST
DTSTART:20251102T070000
END:STANDARD
END:VTIMEZONE
BEGIN:VEVENT
DTSTART;TZID=America/Chicago:20251208T080000
DTEND;TZID=America/Chicago:20251208T090000
DTSTAMP:20260421T043200
CREATED:20251109T110931Z
LAST-MODIFIED:20251208T005527Z
UID:10003149-1765180800-1765184400@eaglepointseniorliving.com
SUMMARY:Morning Melodies
DESCRIPTION:
URL:https://eaglepointseniorliving.com/event-calendar/morning-melodies-209/
CATEGORIES:Memory Care
END:VEVENT
BEGIN:VEVENT
DTSTART;TZID=America/Chicago:20251208T093000
DTEND;TZID=America/Chicago:20251208T100000
DTSTAMP:20260421T043200
CREATED:20251109T110931Z
LAST-MODIFIED:20251208T005527Z
UID:10003150-1765186200-1765188000@eaglepointseniorliving.com
SUMMARY:Fit While You Sit
DESCRIPTION:
URL:https://eaglepointseniorliving.com/event-calendar/fit-while-you-sit-53/
CATEGORIES:Memory Care
END:VEVENT
BEGIN:VEVENT
DTSTART;TZID=America/Chicago:20251208T110000
DTEND;TZID=America/Chicago:20251208T114500
DTSTAMP:20260421T043200
CREATED:20251109T110931Z
LAST-MODIFIED:20251208T005527Z
UID:10003151-1765191600-1765194300@eaglepointseniorliving.com
SUMMARY:Wheel of Fortune
DESCRIPTION:
URL:https://eaglepointseniorliving.com/event-calendar/wheel-of-fortune-21/
CATEGORIES:Memory Care
END:VEVENT
BEGIN:VEVENT
DTSTART;TZID=America/Chicago:20251208T120000
DTEND;TZID=America/Chicago:20251208T123000
DTSTAMP:20260421T043200
CREATED:20251109T110931Z
LAST-MODIFIED:20251208T005527Z
UID:10003152-1765195200-1765197000@eaglepointseniorliving.com
SUMMARY:Oshibori
DESCRIPTION:
URL:https://eaglepointseniorliving.com/event-calendar/oshibori-240/
CATEGORIES:Memory Care
END:VEVENT
BEGIN:VEVENT
DTSTART;TZID=America/Chicago:20251208T140000
DTEND;TZID=America/Chicago:20251208T150000
DTSTAMP:20260421T043200
CREATED:20251202T003925Z
LAST-MODIFIED:20251208T005527Z
UID:10003482-1765202400-1765206000@eaglepointseniorliving.com
SUMMARY:Violin Music with Marisa
DESCRIPTION:
URL:https://eaglepointseniorliving.com/event-calendar/violin-music-with-marisa/
CATEGORIES:Memory Care
END:VEVENT
BEGIN:VEVENT
DTSTART;TZID=America/Chicago:20251208T190000
DTEND;TZID=America/Chicago:20251208T191500
DTSTAMP:20260421T043200
CREATED:20251109T110931Z
LAST-MODIFIED:20251209T005447Z
UID:10003154-1765220400-1765221300@eaglepointseniorliving.com
SUMMARY:Snack Pass
DESCRIPTION:
URL:https://eaglepointseniorliving.com/event-calendar/snack-pass-103/
LOCATION:Dining Room
CATEGORIES:Memory Care
END:VEVENT
END:VCALENDAR