BEGIN:VCALENDAR
VERSION:2.0
PRODID:-//Eagle Point Senior Living - ECPv6.11.2.1//NONSGML v1.0//EN
CALSCALE:GREGORIAN
METHOD:PUBLISH
X-WR-CALNAME:Eagle Point Senior Living
X-ORIGINAL-URL:https://eaglepointseniorliving.com
X-WR-CALDESC:Events for Eagle Point Senior Living
REFRESH-INTERVAL;VALUE=DURATION:PT1H
X-Robots-Tag:noindex
X-PUBLISHED-TTL:PT1H
BEGIN:VTIMEZONE
TZID:America/Chicago
BEGIN:DAYLIGHT
TZOFFSETFROM:-0600
TZOFFSETTO:-0500
TZNAME:CDT
DTSTART:20250309T080000
END:DAYLIGHT
BEGIN:STANDARD
TZOFFSETFROM:-0500
TZOFFSETTO:-0600
TZNAME:CST
DTSTART:20251102T070000
END:STANDARD
END:VTIMEZONE
BEGIN:VEVENT
DTSTART;TZID=America/Chicago:20251205T080000
DTEND;TZID=America/Chicago:20251205T090000
DTSTAMP:20260421T043217
CREATED:20251106T105431Z
LAST-MODIFIED:20251205T003930Z
UID:10003114-1764921600-1764925200@eaglepointseniorliving.com
SUMMARY:Morning Melodies
DESCRIPTION:
URL:https://eaglepointseniorliving.com/event-calendar/morning-melodies-206/
CATEGORIES:Memory Care
END:VEVENT
BEGIN:VEVENT
DTSTART;TZID=America/Chicago:20251205T093000
DTEND;TZID=America/Chicago:20251205T100000
DTSTAMP:20260421T043217
CREATED:20251106T105431Z
LAST-MODIFIED:20251205T003930Z
UID:10003115-1764927000-1764928800@eaglepointseniorliving.com
SUMMARY:Fit While You Sit
DESCRIPTION:
URL:https://eaglepointseniorliving.com/event-calendar/fit-while-you-sit-52/
CATEGORIES:Memory Care
END:VEVENT
BEGIN:VEVENT
DTSTART;TZID=America/Chicago:20251205T100000
DTEND;TZID=America/Chicago:20251205T110000
DTSTAMP:20260421T043217
CREATED:20251106T105431Z
LAST-MODIFIED:20251205T003930Z
UID:10003116-1764928800-1764932400@eaglepointseniorliving.com
SUMMARY:Daily Spirit Spark
DESCRIPTION:Various spiritual topics and activities with Chaplain Peter.
URL:https://eaglepointseniorliving.com/event-calendar/daily-spirit-spark-82/
CATEGORIES:Memory Care
END:VEVENT
BEGIN:VEVENT
DTSTART;TZID=America/Chicago:20251205T120000
DTEND;TZID=America/Chicago:20251205T123000
DTSTAMP:20260421T043217
CREATED:20251106T105431Z
LAST-MODIFIED:20251205T003930Z
UID:10003117-1764936000-1764937800@eaglepointseniorliving.com
SUMMARY:Oshibori
DESCRIPTION:
URL:https://eaglepointseniorliving.com/event-calendar/oshibori-239/
CATEGORIES:Memory Care
END:VEVENT
BEGIN:VEVENT
DTSTART;TZID=America/Chicago:20251205T133000
DTEND;TZID=America/Chicago:20251205T143000
DTSTAMP:20260421T043217
CREATED:20251205T003929Z
LAST-MODIFIED:20251205T003930Z
UID:10003516-1764941400-1764945000@eaglepointseniorliving.com
SUMMARY:Mitten Trace and Cut
DESCRIPTION:
URL:https://eaglepointseniorliving.com/event-calendar/mitten-trace-and-cut/
LOCATION:Activity room
CATEGORIES:Memory Care
END:VEVENT
BEGIN:VEVENT
DTSTART;TZID=America/Chicago:20251205T153000
DTEND;TZID=America/Chicago:20251205T163000
DTSTAMP:20260421T043217
CREATED:20251106T105431Z
LAST-MODIFIED:20251205T003930Z
UID:10003119-1764948600-1764952200@eaglepointseniorliving.com
SUMMARY:Holiday Friday Fun Day
DESCRIPTION:
URL:https://eaglepointseniorliving.com/event-calendar/friday-fun-day-9/
LOCATION:Activity room
CATEGORIES:Memory Care
END:VEVENT
BEGIN:VEVENT
DTSTART;TZID=America/Chicago:20251205T190000
DTEND;TZID=America/Chicago:20251205T191500
DTSTAMP:20260421T043217
CREATED:20251106T105431Z
LAST-MODIFIED:20251206T004006Z
UID:10003120-1764961200-1764962100@eaglepointseniorliving.com
SUMMARY:Snack Pass
DESCRIPTION:
URL:https://eaglepointseniorliving.com/event-calendar/snack-pass-100/
LOCATION:Dining Room
CATEGORIES:Memory Care
END:VEVENT
END:VCALENDAR