BEGIN:VCALENDAR
VERSION:2.0
PRODID:-//Eagle Point Senior Living - ECPv6.11.2.1//NONSGML v1.0//EN
CALSCALE:GREGORIAN
METHOD:PUBLISH
X-WR-CALNAME:Eagle Point Senior Living
X-ORIGINAL-URL:https://eaglepointseniorliving.com
X-WR-CALDESC:Events for Eagle Point Senior Living
REFRESH-INTERVAL;VALUE=DURATION:PT1H
X-Robots-Tag:noindex
X-PUBLISHED-TTL:PT1H
BEGIN:VTIMEZONE
TZID:America/Chicago
BEGIN:DAYLIGHT
TZOFFSETFROM:-0600
TZOFFSETTO:-0500
TZNAME:CDT
DTSTART:20250309T080000
END:DAYLIGHT
BEGIN:STANDARD
TZOFFSETFROM:-0500
TZOFFSETTO:-0600
TZNAME:CST
DTSTART:20251102T070000
END:STANDARD
END:VTIMEZONE
BEGIN:VEVENT
DTSTART;TZID=America/Chicago:20251201T080000
DTEND;TZID=America/Chicago:20251201T090000
DTSTAMP:20260421T043217
CREATED:20251102T102430Z
LAST-MODIFIED:20251201T003926Z
UID:10003028-1764576000-1764579600@eaglepointseniorliving.com
SUMMARY:Morning Melodies
DESCRIPTION:
URL:https://eaglepointseniorliving.com/event-calendar/morning-melodies-202/
CATEGORIES:Memory Care
END:VEVENT
BEGIN:VEVENT
DTSTART;TZID=America/Chicago:20251201T110000
DTEND;TZID=America/Chicago:20251201T114500
DTSTAMP:20260421T043217
CREATED:20251102T102430Z
LAST-MODIFIED:20251201T003926Z
UID:10003029-1764586800-1764589500@eaglepointseniorliving.com
SUMMARY:Wheel of Fortune
DESCRIPTION:
URL:https://eaglepointseniorliving.com/event-calendar/wheel-of-fortune-20/
CATEGORIES:Memory Care
END:VEVENT
BEGIN:VEVENT
DTSTART;TZID=America/Chicago:20251201T120000
DTEND;TZID=America/Chicago:20251201T123000
DTSTAMP:20260421T043217
CREATED:20251102T102430Z
LAST-MODIFIED:20251201T003926Z
UID:10003030-1764590400-1764592200@eaglepointseniorliving.com
SUMMARY:Oshibori
DESCRIPTION:
URL:https://eaglepointseniorliving.com/event-calendar/oshibori-235/
CATEGORIES:Memory Care
END:VEVENT
BEGIN:VEVENT
DTSTART;TZID=America/Chicago:20251201T134500
DTEND;TZID=America/Chicago:20251201T153000
DTSTAMP:20260421T043217
CREATED:20251102T102430Z
LAST-MODIFIED:20251201T003926Z
UID:10003031-1764596700-1764603000@eaglepointseniorliving.com
SUMMARY:Movie Matinee
DESCRIPTION:
URL:https://eaglepointseniorliving.com/event-calendar/movie-matinee-7/
CATEGORIES:Memory Care
END:VEVENT
BEGIN:VEVENT
DTSTART;TZID=America/Chicago:20251201T180000
DTEND;TZID=America/Chicago:20251201T190000
DTSTAMP:20260421T043217
CREATED:20251102T102430Z
LAST-MODIFIED:20251202T003925Z
UID:10003032-1764612000-1764615600@eaglepointseniorliving.com
SUMMARY:Who am I?
DESCRIPTION:
URL:https://eaglepointseniorliving.com/event-calendar/holiday-lights-craft/
CATEGORIES:Memory Care
END:VEVENT
BEGIN:VEVENT
DTSTART;TZID=America/Chicago:20251201T190000
DTEND;TZID=America/Chicago:20251201T191500
DTSTAMP:20260421T043217
CREATED:20251102T102430Z
LAST-MODIFIED:20251202T003925Z
UID:10003033-1764615600-1764616500@eaglepointseniorliving.com
SUMMARY:Snack Pass
DESCRIPTION:
URL:https://eaglepointseniorliving.com/event-calendar/snack-pass-95/
LOCATION:Dining Room
CATEGORIES:Memory Care
END:VEVENT
END:VCALENDAR