BEGIN:VCALENDAR
VERSION:2.0
PRODID:-//Eagle Point Senior Living - ECPv6.11.2.1//NONSGML v1.0//EN
CALSCALE:GREGORIAN
METHOD:PUBLISH
X-ORIGINAL-URL:https://eaglepointseniorliving.com
X-WR-CALDESC:Events for Eagle Point Senior Living
REFRESH-INTERVAL;VALUE=DURATION:PT1H
X-Robots-Tag:noindex
X-PUBLISHED-TTL:PT1H
BEGIN:VTIMEZONE
TZID:America/Chicago
BEGIN:DAYLIGHT
TZOFFSETFROM:-0600
TZOFFSETTO:-0500
TZNAME:CDT
DTSTART:20250309T080000
END:DAYLIGHT
BEGIN:STANDARD
TZOFFSETFROM:-0500
TZOFFSETTO:-0600
TZNAME:CST
DTSTART:20251102T070000
END:STANDARD
END:VTIMEZONE
BEGIN:VEVENT
DTSTART;TZID=America/Chicago:20251130T080000
DTEND;TZID=America/Chicago:20251130T090000
DTSTAMP:20260421T043620
CREATED:20251101T102433Z
LAST-MODIFIED:20251130T004002Z
UID:10003014-1764489600-1764493200@eaglepointseniorliving.com
SUMMARY:Morning Melodies
DESCRIPTION:
URL:https://eaglepointseniorliving.com/event-calendar/morning-melodies-201/
CATEGORIES:Memory Care
END:VEVENT
BEGIN:VEVENT
DTSTART;TZID=America/Chicago:20251130T100000
DTEND;TZID=America/Chicago:20251130T110000
DTSTAMP:20260421T043620
CREATED:20251101T102433Z
LAST-MODIFIED:20251130T004002Z
UID:10003015-1764496800-1764500400@eaglepointseniorliving.com
SUMMARY:The National Flower of Mexico
DESCRIPTION:
URL:https://eaglepointseniorliving.com/event-calendar/puzzle-and-games/
CATEGORIES:Memory Care
END:VEVENT
BEGIN:VEVENT
DTSTART;TZID=America/Chicago:20251130T130000
DTEND;TZID=America/Chicago:20251130T133000
DTSTAMP:20260421T043620
CREATED:20251101T102433Z
LAST-MODIFIED:20251130T004002Z
UID:10003016-1764507600-1764509400@eaglepointseniorliving.com
SUMMARY:Claude Monet
DESCRIPTION:
URL:https://eaglepointseniorliving.com/event-calendar/poultry-puns-and-jokes/
CATEGORIES:Memory Care
END:VEVENT
BEGIN:VEVENT
DTSTART;TZID=America/Chicago:20251130T133000
DTEND;TZID=America/Chicago:20251130T140000
DTSTAMP:20260421T043620
CREATED:20251101T102433Z
LAST-MODIFIED:20251130T004002Z
UID:10003017-1764509400-1764511200@eaglepointseniorliving.com
SUMMARY:EZ Detective
DESCRIPTION:
URL:https://eaglepointseniorliving.com/event-calendar/ez-detective-4/
CATEGORIES:Memory Care
END:VEVENT
BEGIN:VEVENT
DTSTART;TZID=America/Chicago:20251130T140000
DTEND;TZID=America/Chicago:20251130T143000
DTSTAMP:20260421T043620
CREATED:20251101T102433Z
LAST-MODIFIED:20251130T004002Z
UID:10003018-1764511200-1764513000@eaglepointseniorliving.com
SUMMARY:Exercise
DESCRIPTION:
URL:https://eaglepointseniorliving.com/event-calendar/exercise-29/
CATEGORIES:Memory Care
END:VEVENT
BEGIN:VEVENT
DTSTART;TZID=America/Chicago:20251130T150000
DTEND;TZID=America/Chicago:20251130T160000
DTSTAMP:20260421T043620
CREATED:20251101T102433Z
LAST-MODIFIED:20251130T004002Z
UID:10003019-1764514800-1764518400@eaglepointseniorliving.com
SUMMARY:What am I?
DESCRIPTION:
URL:https://eaglepointseniorliving.com/event-calendar/what-am-i/
CATEGORIES:Memory Care
END:VEVENT
BEGIN:VEVENT
DTSTART;TZID=America/Chicago:20251130T190000
DTEND;TZID=America/Chicago:20251130T191500
DTSTAMP:20260421T043620
CREATED:20251101T102433Z
LAST-MODIFIED:20251201T003926Z
UID:10003020-1764529200-1764530100@eaglepointseniorliving.com
SUMMARY:Snack Pass
DESCRIPTION:
URL:https://eaglepointseniorliving.com/event-calendar/snack-pass-94/
LOCATION:Dining Room
CATEGORIES:Memory Care
END:VEVENT
END:VCALENDAR