BEGIN:VCALENDAR
VERSION:2.0
PRODID:-//Eagle Point Senior Living - ECPv6.11.2.1//NONSGML v1.0//EN
CALSCALE:GREGORIAN
METHOD:PUBLISH
X-WR-CALNAME:Eagle Point Senior Living
X-ORIGINAL-URL:https://eaglepointseniorliving.com
X-WR-CALDESC:Events for Eagle Point Senior Living
REFRESH-INTERVAL;VALUE=DURATION:PT1H
X-Robots-Tag:noindex
X-PUBLISHED-TTL:PT1H
BEGIN:VTIMEZONE
TZID:America/Chicago
BEGIN:DAYLIGHT
TZOFFSETFROM:-0600
TZOFFSETTO:-0500
TZNAME:CDT
DTSTART:20250309T080000
END:DAYLIGHT
BEGIN:STANDARD
TZOFFSETFROM:-0500
TZOFFSETTO:-0600
TZNAME:CST
DTSTART:20251102T070000
END:STANDARD
END:VTIMEZONE
BEGIN:VEVENT
DTSTART;TZID=America/Chicago:20251127T080000
DTEND;TZID=America/Chicago:20251127T090000
DTSTAMP:20260421T060114
CREATED:20251029T102432Z
LAST-MODIFIED:20251127T115444Z
UID:10002981-1764230400-1764234000@eaglepointseniorliving.com
SUMMARY:Morning Melodies
DESCRIPTION:
URL:https://eaglepointseniorliving.com/event-calendar/morning-melodies-198/
CATEGORIES:Memory Care
END:VEVENT
BEGIN:VEVENT
DTSTART;TZID=America/Chicago:20251127T093000
DTEND;TZID=America/Chicago:20251127T103000
DTSTAMP:20260421T060114
CREATED:20251029T102432Z
LAST-MODIFIED:20251127T115444Z
UID:10002982-1764235800-1764239400@eaglepointseniorliving.com
SUMMARY:Daily Delights & Tabletop Activities
DESCRIPTION:
URL:https://eaglepointseniorliving.com/event-calendar/news-currents-18/
LOCATION:Dining Room
CATEGORIES:Memory Care
END:VEVENT
BEGIN:VEVENT
DTSTART;TZID=America/Chicago:20251127T100000
DTEND;TZID=America/Chicago:20251127T110000
DTSTAMP:20260421T060114
CREATED:20251029T102432Z
LAST-MODIFIED:20251127T115444Z
UID:10002983-1764237600-1764241200@eaglepointseniorliving.com
SUMMARY:Daily Spirit Spark
DESCRIPTION:Various spiritual topics and activities with Chaplain Peter.
URL:https://eaglepointseniorliving.com/event-calendar/daily-spirit-spark-78/
CATEGORIES:Memory Care
END:VEVENT
BEGIN:VEVENT
DTSTART;TZID=America/Chicago:20251127T110000
DTEND;TZID=America/Chicago:20251127T113000
DTSTAMP:20260421T060114
CREATED:20251106T105428Z
LAST-MODIFIED:20251127T115444Z
UID:10003110-1764241200-1764243000@eaglepointseniorliving.com
SUMMARY:Stick Turkey Word Game
DESCRIPTION:
URL:https://eaglepointseniorliving.com/event-calendar/poultry-puns-jokes/
LOCATION:Activity room
CATEGORIES:Memory Care
END:VEVENT
BEGIN:VEVENT
DTSTART;TZID=America/Chicago:20251127T120000
DTEND;TZID=America/Chicago:20251127T123000
DTSTAMP:20260421T060114
CREATED:20251029T102432Z
LAST-MODIFIED:20251127T115444Z
UID:10002984-1764244800-1764246600@eaglepointseniorliving.com
SUMMARY:Oshibori
DESCRIPTION:
URL:https://eaglepointseniorliving.com/event-calendar/oshibori-233/
CATEGORIES:Memory Care
END:VEVENT
BEGIN:VEVENT
DTSTART;TZID=America/Chicago:20251127T130000
DTEND;TZID=America/Chicago:20251127T133000
DTSTAMP:20260421T060114
CREATED:20251106T105428Z
LAST-MODIFIED:20251127T115444Z
UID:10003111-1764248400-1764250200@eaglepointseniorliving.com
SUMMARY:Turkey Toss & Chicken Shoot Game
DESCRIPTION:
URL:https://eaglepointseniorliving.com/event-calendar/chicken-shoot-game/
LOCATION:Activity room
CATEGORIES:Memory Care
END:VEVENT
BEGIN:VEVENT
DTSTART;TZID=America/Chicago:20251127T133000
DTEND;TZID=America/Chicago:20251127T140000
DTSTAMP:20260421T060114
CREATED:20251106T105428Z
LAST-MODIFIED:20251127T115444Z
UID:10003112-1764250200-1764252000@eaglepointseniorliving.com
SUMMARY:Gobble Bingo
DESCRIPTION:Just like regular bingo\, just cuter!
URL:https://eaglepointseniorliving.com/event-calendar/gobble-bingo/
LOCATION:Activity room
CATEGORIES:Memory Care
END:VEVENT
BEGIN:VEVENT
DTSTART;TZID=America/Chicago:20251127T143000
DTEND;TZID=America/Chicago:20251127T160000
DTSTAMP:20260421T060114
CREATED:20251122T113923Z
LAST-MODIFIED:20251127T115444Z
UID:10003356-1764253800-1764259200@eaglepointseniorliving.com
SUMMARY:Holiday Movie
DESCRIPTION:
URL:https://eaglepointseniorliving.com/event-calendar/holiday-movie/
LOCATION:Fireplace Room
CATEGORIES:Memory Care
END:VEVENT
BEGIN:VEVENT
DTSTART;TZID=America/Chicago:20251127T190000
DTEND;TZID=America/Chicago:20251127T191500
DTSTAMP:20260421T060114
CREATED:20251029T102432Z
LAST-MODIFIED:20251127T115444Z
UID:10002985-1764270000-1764270900@eaglepointseniorliving.com
SUMMARY:Snack Pass
DESCRIPTION:
URL:https://eaglepointseniorliving.com/event-calendar/snack-pass-91/
LOCATION:Dining Room
CATEGORIES:Memory Care
END:VEVENT
END:VCALENDAR