BEGIN:VCALENDAR
VERSION:2.0
PRODID:-//Eagle Point Senior Living - ECPv6.11.2.1//NONSGML v1.0//EN
CALSCALE:GREGORIAN
METHOD:PUBLISH
X-ORIGINAL-URL:https://eaglepointseniorliving.com
X-WR-CALDESC:Events for Eagle Point Senior Living
REFRESH-INTERVAL;VALUE=DURATION:PT1H
X-Robots-Tag:noindex
X-PUBLISHED-TTL:PT1H
BEGIN:VTIMEZONE
TZID:America/Chicago
BEGIN:DAYLIGHT
TZOFFSETFROM:-0600
TZOFFSETTO:-0500
TZNAME:CDT
DTSTART:20250309T080000
END:DAYLIGHT
BEGIN:STANDARD
TZOFFSETFROM:-0500
TZOFFSETTO:-0600
TZNAME:CST
DTSTART:20251102T070000
END:STANDARD
END:VTIMEZONE
BEGIN:VEVENT
DTSTART;TZID=America/Chicago:20251126T080000
DTEND;TZID=America/Chicago:20251126T090000
DTSTAMP:20260421T060602
CREATED:20251028T102431Z
LAST-MODIFIED:20251126T115448Z
UID:10002965-1764144000-1764147600@eaglepointseniorliving.com
SUMMARY:Morning Melodies
DESCRIPTION:
URL:https://eaglepointseniorliving.com/event-calendar/morning-melodies-197/
CATEGORIES:Memory Care
END:VEVENT
BEGIN:VEVENT
DTSTART;TZID=America/Chicago:20251126T093000
DTEND;TZID=America/Chicago:20251126T100000
DTSTAMP:20260421T060602
CREATED:20251028T102431Z
LAST-MODIFIED:20251126T115448Z
UID:10002966-1764149400-1764151200@eaglepointseniorliving.com
SUMMARY:Fit While You Sit
DESCRIPTION:
URL:https://eaglepointseniorliving.com/event-calendar/fit-while-you-sit-48/
CATEGORIES:Memory Care
END:VEVENT
BEGIN:VEVENT
DTSTART;TZID=America/Chicago:20251126T100000
DTEND;TZID=America/Chicago:20251126T103000
DTSTAMP:20260421T060602
CREATED:20251028T102431Z
LAST-MODIFIED:20251126T115448Z
UID:10002967-1764151200-1764153000@eaglepointseniorliving.com
SUMMARY:Weekly Worship
DESCRIPTION:Christian worship service with communion led by Chaplain Peter.
URL:https://eaglepointseniorliving.com/event-calendar/weekly-worship-22/
CATEGORIES:Memory Care
END:VEVENT
BEGIN:VEVENT
DTSTART;TZID=America/Chicago:20251126T110000
DTEND;TZID=America/Chicago:20251126T114500
DTSTAMP:20260421T060602
CREATED:20251028T102431Z
LAST-MODIFIED:20251126T115448Z
UID:10002968-1764154800-1764157500@eaglepointseniorliving.com
SUMMARY:Resident Wednesday
DESCRIPTION:
URL:https://eaglepointseniorliving.com/event-calendar/resident-wednesday-23/
CATEGORIES:Memory Care
END:VEVENT
BEGIN:VEVENT
DTSTART;TZID=America/Chicago:20251126T120000
DTEND;TZID=America/Chicago:20251126T123000
DTSTAMP:20260421T060602
CREATED:20251028T102431Z
LAST-MODIFIED:20251126T115448Z
UID:10002969-1764158400-1764160200@eaglepointseniorliving.com
SUMMARY:Oshibori
DESCRIPTION:
URL:https://eaglepointseniorliving.com/event-calendar/oshibori-232/
CATEGORIES:Memory Care
END:VEVENT
BEGIN:VEVENT
DTSTART;TZID=America/Chicago:20251126T133000
DTEND;TZID=America/Chicago:20251126T141500
DTSTAMP:20260421T060602
CREATED:20251120T112424Z
LAST-MODIFIED:20251126T115448Z
UID:10003330-1764163800-1764166500@eaglepointseniorliving.com
SUMMARY:Turkey Toss!
DESCRIPTION:
URL:https://eaglepointseniorliving.com/event-calendar/turkey-toss/
LOCATION:Activity room
CATEGORIES:Memory Care
END:VEVENT
BEGIN:VEVENT
DTSTART;TZID=America/Chicago:20251126T141500
DTEND;TZID=America/Chicago:20251126T150000
DTSTAMP:20260421T060602
CREATED:20251028T102431Z
LAST-MODIFIED:20251126T115448Z
UID:10002971-1764166500-1764169200@eaglepointseniorliving.com
SUMMARY:Stick Turkey Word Game (hangman)
DESCRIPTION:
URL:https://eaglepointseniorliving.com/event-calendar/word-games-6/
LOCATION:Activity room
CATEGORIES:Memory Care
END:VEVENT
BEGIN:VEVENT
DTSTART;TZID=America/Chicago:20251126T150000
DTEND;TZID=America/Chicago:20251126T154500
DTSTAMP:20260421T060602
CREATED:20251120T112424Z
LAST-MODIFIED:20251126T115448Z
UID:10003331-1764169200-1764171900@eaglepointseniorliving.com
SUMMARY:Unusual Chickens Documentary
DESCRIPTION:
URL:https://eaglepointseniorliving.com/event-calendar/unusual-chickens-documentary/
LOCATION:Dining Room
CATEGORIES:Memory Care
END:VEVENT
BEGIN:VEVENT
DTSTART;TZID=America/Chicago:20251126T173000
DTEND;TZID=America/Chicago:20251126T184500
DTSTAMP:20260421T060602
CREATED:20251028T102431Z
LAST-MODIFIED:20251126T115448Z
UID:10002972-1764178200-1764182700@eaglepointseniorliving.com
SUMMARY:Daily Delights/Tabletop activities
DESCRIPTION:
URL:https://eaglepointseniorliving.com/event-calendar/sing-a-long-to-the-oldies-11/
LOCATION:Activity room
CATEGORIES:Memory Care
END:VEVENT
BEGIN:VEVENT
DTSTART;TZID=America/Chicago:20251126T190000
DTEND;TZID=America/Chicago:20251126T191500
DTSTAMP:20260421T060602
CREATED:20251028T102431Z
LAST-MODIFIED:20251126T115448Z
UID:10002974-1764183600-1764184500@eaglepointseniorliving.com
SUMMARY:Snack Pass
DESCRIPTION:
URL:https://eaglepointseniorliving.com/event-calendar/snack-pass-90/
LOCATION:Dining Room
CATEGORIES:Memory Care
END:VEVENT
END:VCALENDAR