BEGIN:VCALENDAR
VERSION:2.0
PRODID:-//Eagle Point Senior Living - ECPv6.11.2.1//NONSGML v1.0//EN
CALSCALE:GREGORIAN
METHOD:PUBLISH
X-WR-CALNAME:Eagle Point Senior Living
X-ORIGINAL-URL:https://eaglepointseniorliving.com
X-WR-CALDESC:Events for Eagle Point Senior Living
REFRESH-INTERVAL;VALUE=DURATION:PT1H
X-Robots-Tag:noindex
X-PUBLISHED-TTL:PT1H
BEGIN:VTIMEZONE
TZID:America/Chicago
BEGIN:DAYLIGHT
TZOFFSETFROM:-0600
TZOFFSETTO:-0500
TZNAME:CDT
DTSTART:20250309T080000
END:DAYLIGHT
BEGIN:STANDARD
TZOFFSETFROM:-0500
TZOFFSETTO:-0600
TZNAME:CST
DTSTART:20251102T070000
END:STANDARD
END:VTIMEZONE
BEGIN:VEVENT
DTSTART;TZID=America/Chicago:20251120T080000
DTEND;TZID=America/Chicago:20251120T090000
DTSTAMP:20260421T060046
CREATED:20251022T095432Z
LAST-MODIFIED:20251120T112423Z
UID:10002856-1763625600-1763629200@eaglepointseniorliving.com
SUMMARY:Morning Melodies
DESCRIPTION:
URL:https://eaglepointseniorliving.com/event-calendar/morning-melodies-191/
CATEGORIES:Memory Care
END:VEVENT
BEGIN:VEVENT
DTSTART;TZID=America/Chicago:20251120T093000
DTEND;TZID=America/Chicago:20251120T100000
DTSTAMP:20260421T060046
CREATED:20251022T095432Z
LAST-MODIFIED:20251120T112423Z
UID:10002859-1763631000-1763632800@eaglepointseniorliving.com
SUMMARY:News Currents
DESCRIPTION:
URL:https://eaglepointseniorliving.com/event-calendar/news-currents-17/
CATEGORIES:Memory Care
END:VEVENT
BEGIN:VEVENT
DTSTART;TZID=America/Chicago:20251120T100000
DTEND;TZID=America/Chicago:20251120T110000
DTSTAMP:20260421T060046
CREATED:20251022T095432Z
LAST-MODIFIED:20251120T112423Z
UID:10002857-1763632800-1763636400@eaglepointseniorliving.com
SUMMARY:Daily Spirit Spark
DESCRIPTION:Various spiritual topics and activities with Chaplain Peter.
URL:https://eaglepointseniorliving.com/event-calendar/daily-spirit-spark-75/
CATEGORIES:Memory Care
END:VEVENT
BEGIN:VEVENT
DTSTART;TZID=America/Chicago:20251120T120000
DTEND;TZID=America/Chicago:20251120T123000
DTSTAMP:20260421T060046
CREATED:20251022T095432Z
LAST-MODIFIED:20251120T112423Z
UID:10002858-1763640000-1763641800@eaglepointseniorliving.com
SUMMARY:Oshibori
DESCRIPTION:
URL:https://eaglepointseniorliving.com/event-calendar/oshibori-228/
CATEGORIES:Memory Care
END:VEVENT
BEGIN:VEVENT
DTSTART;TZID=America/Chicago:20251120T130000
DTEND;TZID=America/Chicago:20251120T133000
DTSTAMP:20260421T060046
CREATED:20251022T095432Z
LAST-MODIFIED:20251120T112423Z
UID:10002860-1763643600-1763645400@eaglepointseniorliving.com
SUMMARY:Jeopardy
DESCRIPTION:
URL:https://eaglepointseniorliving.com/event-calendar/drumming-7/
CATEGORIES:Memory Care
END:VEVENT
BEGIN:VEVENT
DTSTART;TZID=America/Chicago:20251120T133000
DTEND;TZID=America/Chicago:20251120T143000
DTSTAMP:20260421T060046
CREATED:20251024T100931Z
LAST-MODIFIED:20251120T112423Z
UID:10002907-1763645400-1763649000@eaglepointseniorliving.com
SUMMARY:Reading Together-A Wild Turkey Tale
DESCRIPTION:
URL:https://eaglepointseniorliving.com/event-calendar/reading-together-3/
CATEGORIES:Memory Care
END:VEVENT
BEGIN:VEVENT
DTSTART;TZID=America/Chicago:20251120T143000
DTEND;TZID=America/Chicago:20251120T153000
DTSTAMP:20260421T060046
CREATED:20251024T100931Z
LAST-MODIFIED:20251120T112423Z
UID:10002908-1763649000-1763652600@eaglepointseniorliving.com
SUMMARY:Time Capsule
DESCRIPTION:
URL:https://eaglepointseniorliving.com/event-calendar/time-capsule-3/
CATEGORIES:Memory Care
END:VEVENT
BEGIN:VEVENT
DTSTART;TZID=America/Chicago:20251120T153000
DTEND;TZID=America/Chicago:20251120T163000
DTSTAMP:20260421T060046
CREATED:20251024T100931Z
LAST-MODIFIED:20251120T112423Z
UID:10002909-1763652600-1763656200@eaglepointseniorliving.com
SUMMARY:Sing A Long
DESCRIPTION:
URL:https://eaglepointseniorliving.com/event-calendar/sing-a-long-4/
CATEGORIES:Memory Care
END:VEVENT
BEGIN:VEVENT
DTSTART;TZID=America/Chicago:20251120T190000
DTEND;TZID=America/Chicago:20251120T191500
DTSTAMP:20260421T060046
CREATED:20251022T095432Z
LAST-MODIFIED:20251120T112424Z
UID:10002861-1763665200-1763666100@eaglepointseniorliving.com
SUMMARY:Snack Pass
DESCRIPTION:
URL:https://eaglepointseniorliving.com/event-calendar/snack-pass-83/
LOCATION:Dining Room
CATEGORIES:Memory Care
END:VEVENT
END:VCALENDAR