BEGIN:VCALENDAR
VERSION:2.0
PRODID:-//Eagle Point Senior Living - ECPv6.11.2.1//NONSGML v1.0//EN
CALSCALE:GREGORIAN
METHOD:PUBLISH
X-ORIGINAL-URL:https://eaglepointseniorliving.com
X-WR-CALDESC:Events for Eagle Point Senior Living
REFRESH-INTERVAL;VALUE=DURATION:PT1H
X-Robots-Tag:noindex
X-PUBLISHED-TTL:PT1H
BEGIN:VTIMEZONE
TZID:America/Chicago
BEGIN:DAYLIGHT
TZOFFSETFROM:-0600
TZOFFSETTO:-0500
TZNAME:CDT
DTSTART:20250309T080000
END:DAYLIGHT
BEGIN:STANDARD
TZOFFSETFROM:-0500
TZOFFSETTO:-0600
TZNAME:CST
DTSTART:20251102T070000
END:STANDARD
END:VTIMEZONE
BEGIN:VEVENT
DTSTART;TZID=America/Chicago:20251119T080000
DTEND;TZID=America/Chicago:20251119T090000
DTSTAMP:20260421T060511
CREATED:20251021T095430Z
LAST-MODIFIED:20251119T112443Z
UID:10002838-1763539200-1763542800@eaglepointseniorliving.com
SUMMARY:Morning Melodies
DESCRIPTION:
URL:https://eaglepointseniorliving.com/event-calendar/morning-melodies-190/
CATEGORIES:Memory Care
END:VEVENT
BEGIN:VEVENT
DTSTART;TZID=America/Chicago:20251119T093000
DTEND;TZID=America/Chicago:20251119T100000
DTSTAMP:20260421T060511
CREATED:20251021T095431Z
LAST-MODIFIED:20251119T112443Z
UID:10002839-1763544600-1763546400@eaglepointseniorliving.com
SUMMARY:Fit While You Sit
DESCRIPTION:
URL:https://eaglepointseniorliving.com/event-calendar/fit-while-you-sit-44/
CATEGORIES:Memory Care
END:VEVENT
BEGIN:VEVENT
DTSTART;TZID=America/Chicago:20251119T100000
DTEND;TZID=America/Chicago:20251119T103000
DTSTAMP:20260421T060511
CREATED:20251021T095431Z
LAST-MODIFIED:20251119T112444Z
UID:10002840-1763546400-1763548200@eaglepointseniorliving.com
SUMMARY:Weekly Worship
DESCRIPTION:Christian worship service with communion led by Chaplain Peter.
URL:https://eaglepointseniorliving.com/event-calendar/weekly-worship-21/
CATEGORIES:Memory Care
END:VEVENT
BEGIN:VEVENT
DTSTART;TZID=America/Chicago:20251119T110000
DTEND;TZID=America/Chicago:20251119T114500
DTSTAMP:20260421T060511
CREATED:20251021T095431Z
LAST-MODIFIED:20251119T112444Z
UID:10002841-1763550000-1763552700@eaglepointseniorliving.com
SUMMARY:Resident Wednesday
DESCRIPTION:
URL:https://eaglepointseniorliving.com/event-calendar/resident-wednesday-22/
CATEGORIES:Memory Care
END:VEVENT
BEGIN:VEVENT
DTSTART;TZID=America/Chicago:20251119T120000
DTEND;TZID=America/Chicago:20251119T123000
DTSTAMP:20260421T060511
CREATED:20251021T095431Z
LAST-MODIFIED:20251119T112444Z
UID:10002842-1763553600-1763555400@eaglepointseniorliving.com
SUMMARY:Oshibori
DESCRIPTION:
URL:https://eaglepointseniorliving.com/event-calendar/oshibori-227/
CATEGORIES:Memory Care
END:VEVENT
BEGIN:VEVENT
DTSTART;TZID=America/Chicago:20251119T130000
DTEND;TZID=America/Chicago:20251119T140000
DTSTAMP:20260421T060511
CREATED:20251023T100204Z
LAST-MODIFIED:20251119T112444Z
UID:10002881-1763557200-1763560800@eaglepointseniorliving.com
SUMMARY:Spark Challenge
DESCRIPTION:
URL:https://eaglepointseniorliving.com/event-calendar/spark-challenge-10/
CATEGORIES:Memory Care
END:VEVENT
BEGIN:VEVENT
DTSTART;TZID=America/Chicago:20251119T141500
DTEND;TZID=America/Chicago:20251119T143000
DTSTAMP:20260421T060511
CREATED:20251021T095431Z
LAST-MODIFIED:20251119T112444Z
UID:10002844-1763561700-1763562600@eaglepointseniorliving.com
SUMMARY:Talking Turkeys & Chickens
DESCRIPTION:Refreshments (Iced water) after physical activity\, then socializing with some word games.
URL:https://eaglepointseniorliving.com/event-calendar/word-games-5/
LOCATION:Activity room
CATEGORIES:Memory Care
END:VEVENT
BEGIN:VEVENT
DTSTART;TZID=America/Chicago:20251119T173000
DTEND;TZID=America/Chicago:20251119T181500
DTSTAMP:20260421T060511
CREATED:20251021T095431Z
LAST-MODIFIED:20251119T112444Z
UID:10002845-1763573400-1763576100@eaglepointseniorliving.com
SUMMARY:Sing a long to the oldies
DESCRIPTION:
URL:https://eaglepointseniorliving.com/event-calendar/sing-a-long-to-the-oldies-10/
LOCATION:Activity room
CATEGORIES:Memory Care
END:VEVENT
BEGIN:VEVENT
DTSTART;TZID=America/Chicago:20251119T181500
DTEND;TZID=America/Chicago:20251119T190000
DTSTAMP:20260421T060511
CREATED:20251021T095431Z
LAST-MODIFIED:20251119T112444Z
UID:10002846-1763576100-1763578800@eaglepointseniorliving.com
SUMMARY:Current Events/Daily Delights
DESCRIPTION:
URL:https://eaglepointseniorliving.com/event-calendar/current-events-daily-delights-8/
LOCATION:Dining Room
CATEGORIES:Memory Care
END:VEVENT
BEGIN:VEVENT
DTSTART;TZID=America/Chicago:20251119T190000
DTEND;TZID=America/Chicago:20251119T191500
DTSTAMP:20260421T060511
CREATED:20251021T095431Z
LAST-MODIFIED:20251119T112444Z
UID:10002847-1763578800-1763579700@eaglepointseniorliving.com
SUMMARY:Snack Pass
DESCRIPTION:
URL:https://eaglepointseniorliving.com/event-calendar/snack-pass-82/
LOCATION:Dining Room
CATEGORIES:Memory Care
END:VEVENT
END:VCALENDAR