BEGIN:VCALENDAR
VERSION:2.0
PRODID:-//Eagle Point Senior Living - ECPv6.11.2.1//NONSGML v1.0//EN
CALSCALE:GREGORIAN
METHOD:PUBLISH
X-ORIGINAL-URL:https://eaglepointseniorliving.com
X-WR-CALDESC:Events for Eagle Point Senior Living
REFRESH-INTERVAL;VALUE=DURATION:PT1H
X-Robots-Tag:noindex
X-PUBLISHED-TTL:PT1H
BEGIN:VTIMEZONE
TZID:America/Chicago
BEGIN:DAYLIGHT
TZOFFSETFROM:-0600
TZOFFSETTO:-0500
TZNAME:CDT
DTSTART:20250309T080000
END:DAYLIGHT
BEGIN:STANDARD
TZOFFSETFROM:-0500
TZOFFSETTO:-0600
TZNAME:CST
DTSTART:20251102T070000
END:STANDARD
END:VTIMEZONE
BEGIN:VEVENT
DTSTART;TZID=America/Chicago:20251117T080000
DTEND;TZID=America/Chicago:20251117T090000
DTSTAMP:20260421T060331
CREATED:20251019T093934Z
LAST-MODIFIED:20251117T112424Z
UID:10002794-1763366400-1763370000@eaglepointseniorliving.com
SUMMARY:Morning Melodies
DESCRIPTION:
URL:https://eaglepointseniorliving.com/event-calendar/morning-melodies-188/
CATEGORIES:Memory Care
END:VEVENT
BEGIN:VEVENT
DTSTART;TZID=America/Chicago:20251117T093000
DTEND;TZID=America/Chicago:20251117T100000
DTSTAMP:20260421T060331
CREATED:20251019T093934Z
LAST-MODIFIED:20251117T112424Z
UID:10002795-1763371800-1763373600@eaglepointseniorliving.com
SUMMARY:Fit While You Sit
DESCRIPTION:
URL:https://eaglepointseniorliving.com/event-calendar/fit-while-you-sit-42/
CATEGORIES:Memory Care
END:VEVENT
BEGIN:VEVENT
DTSTART;TZID=America/Chicago:20251117T110000
DTEND;TZID=America/Chicago:20251117T114500
DTSTAMP:20260421T060331
CREATED:20251019T093934Z
LAST-MODIFIED:20251117T112424Z
UID:10002796-1763377200-1763379900@eaglepointseniorliving.com
SUMMARY:Wheel of Fortune
DESCRIPTION:
URL:https://eaglepointseniorliving.com/event-calendar/wheel-of-fortune-18/
CATEGORIES:Memory Care
END:VEVENT
BEGIN:VEVENT
DTSTART;TZID=America/Chicago:20251117T120000
DTEND;TZID=America/Chicago:20251117T123000
DTSTAMP:20260421T060331
CREATED:20251019T093934Z
LAST-MODIFIED:20251117T112424Z
UID:10002797-1763380800-1763382600@eaglepointseniorliving.com
SUMMARY:Oshibori
DESCRIPTION:
URL:https://eaglepointseniorliving.com/event-calendar/oshibori-225/
CATEGORIES:Memory Care
END:VEVENT
BEGIN:VEVENT
DTSTART;TZID=America/Chicago:20251117T134500
DTEND;TZID=America/Chicago:20251117T153000
DTSTAMP:20260421T060331
CREATED:20251019T093934Z
LAST-MODIFIED:20251117T112424Z
UID:10002798-1763387100-1763393400@eaglepointseniorliving.com
SUMMARY:Movie Matinee
DESCRIPTION:
URL:https://eaglepointseniorliving.com/event-calendar/movie-matinee-5/
CATEGORIES:Memory Care
END:VEVENT
BEGIN:VEVENT
DTSTART;TZID=America/Chicago:20251117T180000
DTEND;TZID=America/Chicago:20251117T190000
DTSTAMP:20260421T060331
CREATED:20251020T094023Z
LAST-MODIFIED:20251117T112424Z
UID:10002817-1763402400-1763406000@eaglepointseniorliving.com
SUMMARY:True or Fowl
DESCRIPTION:
URL:https://eaglepointseniorliving.com/event-calendar/true-or-fowl/
CATEGORIES:Memory Care
END:VEVENT
BEGIN:VEVENT
DTSTART;TZID=America/Chicago:20251117T190000
DTEND;TZID=America/Chicago:20251117T191500
DTSTAMP:20260421T060331
CREATED:20251019T093934Z
LAST-MODIFIED:20251117T112425Z
UID:10002799-1763406000-1763406900@eaglepointseniorliving.com
SUMMARY:Snack Pass
DESCRIPTION:
URL:https://eaglepointseniorliving.com/event-calendar/snack-pass-79/
LOCATION:Dining Room
CATEGORIES:Memory Care
END:VEVENT
END:VCALENDAR