BEGIN:VCALENDAR
VERSION:2.0
PRODID:-//Eagle Point Senior Living - ECPv6.11.2.1//NONSGML v1.0//EN
CALSCALE:GREGORIAN
METHOD:PUBLISH
X-WR-CALNAME:Eagle Point Senior Living
X-ORIGINAL-URL:https://eaglepointseniorliving.com
X-WR-CALDESC:Events for Eagle Point Senior Living
REFRESH-INTERVAL;VALUE=DURATION:PT1H
X-Robots-Tag:noindex
X-PUBLISHED-TTL:PT1H
BEGIN:VTIMEZONE
TZID:America/Chicago
BEGIN:DAYLIGHT
TZOFFSETFROM:-0600
TZOFFSETTO:-0500
TZNAME:CDT
DTSTART:20250309T080000
END:DAYLIGHT
BEGIN:STANDARD
TZOFFSETFROM:-0500
TZOFFSETTO:-0600
TZNAME:CST
DTSTART:20251102T070000
END:STANDARD
END:VTIMEZONE
BEGIN:VEVENT
DTSTART;TZID=America/Chicago:20251116T080000
DTEND;TZID=America/Chicago:20251116T090000
DTSTAMP:20260421T060045
CREATED:20251018T093937Z
LAST-MODIFIED:20251116T112425Z
UID:10002782-1763280000-1763283600@eaglepointseniorliving.com
SUMMARY:Morning Melodies
DESCRIPTION:
URL:https://eaglepointseniorliving.com/event-calendar/morning-melodies-187/
CATEGORIES:Memory Care
END:VEVENT
BEGIN:VEVENT
DTSTART;TZID=America/Chicago:20251116T100000
DTEND;TZID=America/Chicago:20251116T110000
DTSTAMP:20260421T060045
CREATED:20251020T094023Z
LAST-MODIFIED:20251116T112425Z
UID:10002814-1763287200-1763290800@eaglepointseniorliving.com
SUMMARY:Fill in Autumn
DESCRIPTION:
URL:https://eaglepointseniorliving.com/event-calendar/fill-in-autumn/
CATEGORIES:Memory Care
END:VEVENT
BEGIN:VEVENT
DTSTART;TZID=America/Chicago:20251116T130000
DTEND;TZID=America/Chicago:20251116T140000
DTSTAMP:20260421T060045
CREATED:20251020T094023Z
LAST-MODIFIED:20251116T112425Z
UID:10002815-1763298000-1763301600@eaglepointseniorliving.com
SUMMARY:Travel to Turkey
DESCRIPTION:
URL:https://eaglepointseniorliving.com/event-calendar/travel-to-turkey/
CATEGORIES:Memory Care
END:VEVENT
BEGIN:VEVENT
DTSTART;TZID=America/Chicago:20251116T140000
DTEND;TZID=America/Chicago:20251116T143000
DTSTAMP:20260421T060045
CREATED:20251018T093938Z
LAST-MODIFIED:20251116T112425Z
UID:10002783-1763301600-1763303400@eaglepointseniorliving.com
SUMMARY:Exercise
DESCRIPTION:
URL:https://eaglepointseniorliving.com/event-calendar/exercise-27/
CATEGORIES:Memory Care
END:VEVENT
BEGIN:VEVENT
DTSTART;TZID=America/Chicago:20251116T143000
DTEND;TZID=America/Chicago:20251116T153000
DTSTAMP:20260421T060045
CREATED:20251020T094023Z
LAST-MODIFIED:20251116T112425Z
UID:10002816-1763303400-1763307000@eaglepointseniorliving.com
SUMMARY:Puzzles and Pondering
DESCRIPTION:
URL:https://eaglepointseniorliving.com/event-calendar/puzzles-and-pondering-2/
CATEGORIES:Memory Care
END:VEVENT
BEGIN:VEVENT
DTSTART;TZID=America/Chicago:20251116T190000
DTEND;TZID=America/Chicago:20251116T191500
DTSTAMP:20260421T060045
CREATED:20251018T093938Z
LAST-MODIFIED:20251116T112425Z
UID:10002784-1763319600-1763320500@eaglepointseniorliving.com
SUMMARY:Snack Pass
DESCRIPTION:
URL:https://eaglepointseniorliving.com/event-calendar/snack-pass-78/
LOCATION:Dining Room
CATEGORIES:Memory Care
END:VEVENT
END:VCALENDAR