BEGIN:VCALENDAR
VERSION:2.0
PRODID:-//Eagle Point Senior Living - ECPv6.11.2.1//NONSGML v1.0//EN
CALSCALE:GREGORIAN
METHOD:PUBLISH
X-ORIGINAL-URL:https://eaglepointseniorliving.com
X-WR-CALDESC:Events for Eagle Point Senior Living
REFRESH-INTERVAL;VALUE=DURATION:PT1H
X-Robots-Tag:noindex
X-PUBLISHED-TTL:PT1H
BEGIN:VTIMEZONE
TZID:America/Chicago
BEGIN:DAYLIGHT
TZOFFSETFROM:-0600
TZOFFSETTO:-0500
TZNAME:CDT
DTSTART:20250309T080000
END:DAYLIGHT
BEGIN:STANDARD
TZOFFSETFROM:-0500
TZOFFSETTO:-0600
TZNAME:CST
DTSTART:20251102T070000
END:STANDARD
END:VTIMEZONE
BEGIN:VEVENT
DTSTART;TZID=America/Chicago:20251115T080000
DTEND;TZID=America/Chicago:20251115T090000
DTSTAMP:20260421T060631
CREATED:20251017T092833Z
LAST-MODIFIED:20251115T112436Z
UID:10002771-1763193600-1763197200@eaglepointseniorliving.com
SUMMARY:Morning Melodies
DESCRIPTION:
URL:https://eaglepointseniorliving.com/event-calendar/morning-melodies-186/
CATEGORIES:Memory Care
END:VEVENT
BEGIN:VEVENT
DTSTART;TZID=America/Chicago:20251115T100000
DTEND;TZID=America/Chicago:20251115T103000
DTSTAMP:20260421T060631
CREATED:20251017T092833Z
LAST-MODIFIED:20251115T112436Z
UID:10002772-1763200800-1763202600@eaglepointseniorliving.com
SUMMARY:Morning Doughnuts & Social
DESCRIPTION:
URL:https://eaglepointseniorliving.com/event-calendar/morning-mingle-4/
CATEGORIES:Memory Care
END:VEVENT
BEGIN:VEVENT
DTSTART;TZID=America/Chicago:20251115T100000
DTEND;TZID=America/Chicago:20251115T110000
DTSTAMP:20260421T060631
CREATED:20251103T103927Z
LAST-MODIFIED:20251115T112436Z
UID:10003045-1763200800-1763204400@eaglepointseniorliving.com
SUMMARY:American Teddy Bear Day Recognition
DESCRIPTION:
URL:https://eaglepointseniorliving.com/event-calendar/american-teddy-bear-day-recognition/
CATEGORIES:Memory Care
END:VEVENT
BEGIN:VEVENT
DTSTART;TZID=America/Chicago:20251115T110000
DTEND;TZID=America/Chicago:20251115T113000
DTSTAMP:20260421T060632
CREATED:20251103T103927Z
LAST-MODIFIED:20251115T112436Z
UID:10003044-1763204400-1763206200@eaglepointseniorliving.com
SUMMARY:Midmorning with Brenda
DESCRIPTION:
URL:https://eaglepointseniorliving.com/event-calendar/midmorning-with-brenda/
CATEGORIES:Memory Care
END:VEVENT
BEGIN:VEVENT
DTSTART;TZID=America/Chicago:20251115T140000
DTEND;TZID=America/Chicago:20251115T150000
DTSTAMP:20260421T060632
CREATED:20251017T092833Z
LAST-MODIFIED:20251115T112436Z
UID:10002773-1763215200-1763218800@eaglepointseniorliving.com
SUMMARY:Reminisce
DESCRIPTION:
URL:https://eaglepointseniorliving.com/event-calendar/reminisce-54/
CATEGORIES:Memory Care
END:VEVENT
BEGIN:VEVENT
DTSTART;TZID=America/Chicago:20251115T180000
DTEND;TZID=America/Chicago:20251115T190000
DTSTAMP:20260421T060632
CREATED:20251017T092833Z
LAST-MODIFIED:20251115T112436Z
UID:10002774-1763229600-1763233200@eaglepointseniorliving.com
SUMMARY:Movie & A Snack
DESCRIPTION:
URL:https://eaglepointseniorliving.com/event-calendar/movie-a-snack-27/
CATEGORIES:Memory Care
END:VEVENT
BEGIN:VEVENT
DTSTART;TZID=America/Chicago:20251115T190000
DTEND;TZID=America/Chicago:20251115T191500
DTSTAMP:20260421T060632
CREATED:20251017T092833Z
LAST-MODIFIED:20251115T112436Z
UID:10002775-1763233200-1763234100@eaglepointseniorliving.com
SUMMARY:Snack Pass
DESCRIPTION:
URL:https://eaglepointseniorliving.com/event-calendar/snack-pass-77/
LOCATION:Dining Room
CATEGORIES:Memory Care
END:VEVENT
END:VCALENDAR