BEGIN:VCALENDAR
VERSION:2.0
PRODID:-//Eagle Point Senior Living - ECPv6.11.2.1//NONSGML v1.0//EN
CALSCALE:GREGORIAN
METHOD:PUBLISH
X-WR-CALNAME:Eagle Point Senior Living
X-ORIGINAL-URL:https://eaglepointseniorliving.com
X-WR-CALDESC:Events for Eagle Point Senior Living
REFRESH-INTERVAL;VALUE=DURATION:PT1H
X-Robots-Tag:noindex
X-PUBLISHED-TTL:PT1H
BEGIN:VTIMEZONE
TZID:America/Chicago
BEGIN:DAYLIGHT
TZOFFSETFROM:-0600
TZOFFSETTO:-0500
TZNAME:CDT
DTSTART:20250309T080000
END:DAYLIGHT
BEGIN:STANDARD
TZOFFSETFROM:-0500
TZOFFSETTO:-0600
TZNAME:CST
DTSTART:20251102T070000
END:STANDARD
END:VTIMEZONE
BEGIN:VEVENT
DTSTART;TZID=America/Chicago:20251110T080000
DTEND;TZID=America/Chicago:20251110T090000
DTSTAMP:20260421T060045
CREATED:20251012T090929Z
LAST-MODIFIED:20251110T110923Z
UID:10002679-1762761600-1762765200@eaglepointseniorliving.com
SUMMARY:Morning Melodies
DESCRIPTION:
URL:https://eaglepointseniorliving.com/event-calendar/morning-melodies-181/
CATEGORIES:Memory Care
END:VEVENT
BEGIN:VEVENT
DTSTART;TZID=America/Chicago:20251110T100000
DTEND;TZID=America/Chicago:20251110T103000
DTSTAMP:20260421T060045
CREATED:20251012T090929Z
LAST-MODIFIED:20251110T110923Z
UID:10002680-1762768800-1762770600@eaglepointseniorliving.com
SUMMARY:Fit While You Sit
DESCRIPTION:
URL:https://eaglepointseniorliving.com/event-calendar/fit-while-you-sit-38/
CATEGORIES:Memory Care
END:VEVENT
BEGIN:VEVENT
DTSTART;TZID=America/Chicago:20251110T103000
DTEND;TZID=America/Chicago:20251110T111500
DTSTAMP:20260421T060045
CREATED:20251012T090929Z
LAST-MODIFIED:20251110T110923Z
UID:10002681-1762770600-1762773300@eaglepointseniorliving.com
SUMMARY:Wheel of Fortune
DESCRIPTION:
URL:https://eaglepointseniorliving.com/event-calendar/monday-manicures-5/
CATEGORIES:Memory Care
END:VEVENT
BEGIN:VEVENT
DTSTART;TZID=America/Chicago:20251110T120000
DTEND;TZID=America/Chicago:20251110T123000
DTSTAMP:20260421T060045
CREATED:20251012T090929Z
LAST-MODIFIED:20251110T110923Z
UID:10002682-1762776000-1762777800@eaglepointseniorliving.com
SUMMARY:Oshibori
DESCRIPTION:
URL:https://eaglepointseniorliving.com/event-calendar/oshibori-220/
CATEGORIES:Memory Care
END:VEVENT
BEGIN:VEVENT
DTSTART;TZID=America/Chicago:20251110T134500
DTEND;TZID=America/Chicago:20251110T153000
DTSTAMP:20260421T060045
CREATED:20251012T090929Z
LAST-MODIFIED:20251110T110923Z
UID:10002683-1762782300-1762788600@eaglepointseniorliving.com
SUMMARY:Movie Matinee
DESCRIPTION:
URL:https://eaglepointseniorliving.com/event-calendar/movie-matinee-4/
CATEGORIES:Memory Care
END:VEVENT
BEGIN:VEVENT
DTSTART;TZID=America/Chicago:20251110T180000
DTEND;TZID=America/Chicago:20251110T190000
DTSTAMP:20260421T060045
CREATED:20251020T094021Z
LAST-MODIFIED:20251110T110923Z
UID:10002812-1762797600-1762801200@eaglepointseniorliving.com
SUMMARY:Wacky Wordies
DESCRIPTION:
URL:https://eaglepointseniorliving.com/event-calendar/wacky-wordies-2/
CATEGORIES:Memory Care
END:VEVENT
BEGIN:VEVENT
DTSTART;TZID=America/Chicago:20251110T190000
DTEND;TZID=America/Chicago:20251110T191500
DTSTAMP:20260421T060045
CREATED:20251012T090929Z
LAST-MODIFIED:20251110T110923Z
UID:10002684-1762801200-1762802100@eaglepointseniorliving.com
SUMMARY:Snack Pass
DESCRIPTION:
URL:https://eaglepointseniorliving.com/event-calendar/snack-pass-71/
LOCATION:Dining Room
CATEGORIES:Memory Care
END:VEVENT
END:VCALENDAR