BEGIN:VCALENDAR
VERSION:2.0
PRODID:-//Eagle Point Senior Living - ECPv6.11.2.1//NONSGML v1.0//EN
CALSCALE:GREGORIAN
METHOD:PUBLISH
X-WR-CALNAME:Eagle Point Senior Living
X-ORIGINAL-URL:https://eaglepointseniorliving.com
X-WR-CALDESC:Events for Eagle Point Senior Living
REFRESH-INTERVAL;VALUE=DURATION:PT1H
X-Robots-Tag:noindex
X-PUBLISHED-TTL:PT1H
BEGIN:VTIMEZONE
TZID:America/Chicago
BEGIN:DAYLIGHT
TZOFFSETFROM:-0600
TZOFFSETTO:-0500
TZNAME:CDT
DTSTART:20250309T080000
END:DAYLIGHT
BEGIN:STANDARD
TZOFFSETFROM:-0500
TZOFFSETTO:-0600
TZNAME:CST
DTSTART:20251102T070000
END:STANDARD
END:VTIMEZONE
BEGIN:VEVENT
DTSTART;TZID=America/Chicago:20251108T080000
DTEND;TZID=America/Chicago:20251108T090000
DTSTAMP:20260421T060029
CREATED:20251010T085826Z
LAST-MODIFIED:20251108T110923Z
UID:10002659-1762588800-1762592400@eaglepointseniorliving.com
SUMMARY:Morning Melodies
DESCRIPTION:
URL:https://eaglepointseniorliving.com/event-calendar/morning-melodies-179/
CATEGORIES:Memory Care
END:VEVENT
BEGIN:VEVENT
DTSTART;TZID=America/Chicago:20251108T100000
DTEND;TZID=America/Chicago:20251108T103000
DTSTAMP:20260421T060029
CREATED:20251016T092554Z
LAST-MODIFIED:20251108T110923Z
UID:10002758-1762596000-1762597800@eaglepointseniorliving.com
SUMMARY:Morning Doughnuts & Social
DESCRIPTION:
URL:https://eaglepointseniorliving.com/event-calendar/morning-mingle-3/
CATEGORIES:Memory Care
END:VEVENT
BEGIN:VEVENT
DTSTART;TZID=America/Chicago:20251108T103000
DTEND;TZID=America/Chicago:20251108T113000
DTSTAMP:20260421T060029
CREATED:20251106T105422Z
LAST-MODIFIED:20251108T110923Z
UID:10003106-1762597800-1762601400@eaglepointseniorliving.com
SUMMARY:Art Activity - Cornucopia
DESCRIPTION:Cornucopia paper craft
URL:https://eaglepointseniorliving.com/event-calendar/art-activity-cornucopia/
LOCATION:Art Room
CATEGORIES:Memory Care
END:VEVENT
BEGIN:VEVENT
DTSTART;TZID=America/Chicago:20251108T140000
DTEND;TZID=America/Chicago:20251108T150000
DTSTAMP:20260421T060029
CREATED:20251010T085826Z
LAST-MODIFIED:20251108T110923Z
UID:10002660-1762610400-1762614000@eaglepointseniorliving.com
SUMMARY:Reminisce
DESCRIPTION:
URL:https://eaglepointseniorliving.com/event-calendar/reminisce-52/
CATEGORIES:Memory Care
END:VEVENT
BEGIN:VEVENT
DTSTART;TZID=America/Chicago:20251108T180000
DTEND;TZID=America/Chicago:20251108T190000
DTSTAMP:20260421T060029
CREATED:20251010T085826Z
LAST-MODIFIED:20251108T110923Z
UID:10002661-1762624800-1762628400@eaglepointseniorliving.com
SUMMARY:Movie & A Snack
DESCRIPTION:
URL:https://eaglepointseniorliving.com/event-calendar/movie-a-snack-26/
CATEGORIES:Memory Care
END:VEVENT
BEGIN:VEVENT
DTSTART;TZID=America/Chicago:20251108T190000
DTEND;TZID=America/Chicago:20251108T191500
DTSTAMP:20260421T060029
CREATED:20251010T085826Z
LAST-MODIFIED:20251108T110923Z
UID:10002662-1762628400-1762629300@eaglepointseniorliving.com
SUMMARY:Snack Pass
DESCRIPTION:
URL:https://eaglepointseniorliving.com/event-calendar/snack-pass-69/
LOCATION:Dining Room
CATEGORIES:Memory Care
END:VEVENT
END:VCALENDAR