BEGIN:VCALENDAR
VERSION:2.0
PRODID:-//Eagle Point Senior Living - ECPv6.11.2.1//NONSGML v1.0//EN
CALSCALE:GREGORIAN
METHOD:PUBLISH
X-ORIGINAL-URL:https://eaglepointseniorliving.com
X-WR-CALDESC:Events for Eagle Point Senior Living
REFRESH-INTERVAL;VALUE=DURATION:PT1H
X-Robots-Tag:noindex
X-PUBLISHED-TTL:PT1H
BEGIN:VTIMEZONE
TZID:America/Chicago
BEGIN:DAYLIGHT
TZOFFSETFROM:-0600
TZOFFSETTO:-0500
TZNAME:CDT
DTSTART:20250309T080000
END:DAYLIGHT
BEGIN:STANDARD
TZOFFSETFROM:-0500
TZOFFSETTO:-0600
TZNAME:CST
DTSTART:20251102T070000
END:STANDARD
END:VTIMEZONE
BEGIN:VEVENT
DTSTART;TZID=America/Chicago:20251103T080000
DTEND;TZID=America/Chicago:20251103T090000
DTSTAMP:20260421T060601
CREATED:20251005T084041Z
LAST-MODIFIED:20251103T103924Z
UID:10002569-1762156800-1762160400@eaglepointseniorliving.com
SUMMARY:Morning Melodies
DESCRIPTION:
URL:https://eaglepointseniorliving.com/event-calendar/morning-melodies-174/
CATEGORIES:Memory Care
END:VEVENT
BEGIN:VEVENT
DTSTART;TZID=America/Chicago:20251103T100000
DTEND;TZID=America/Chicago:20251103T103000
DTSTAMP:20260421T060601
CREATED:20251005T084041Z
LAST-MODIFIED:20251103T103924Z
UID:10002571-1762164000-1762165800@eaglepointseniorliving.com
SUMMARY:Traveling Yogi
DESCRIPTION:
URL:https://eaglepointseniorliving.com/event-calendar/traveling-yogi/
CATEGORIES:Memory Care
END:VEVENT
BEGIN:VEVENT
DTSTART;TZID=America/Chicago:20251103T110000
DTEND;TZID=America/Chicago:20251103T114500
DTSTAMP:20260421T060601
CREATED:20251005T084041Z
LAST-MODIFIED:20251103T103924Z
UID:10002572-1762167600-1762170300@eaglepointseniorliving.com
SUMMARY:Wheel of Fortune
DESCRIPTION:
URL:https://eaglepointseniorliving.com/event-calendar/creative-coloring-7/
CATEGORIES:Memory Care
END:VEVENT
BEGIN:VEVENT
DTSTART;TZID=America/Chicago:20251103T120000
DTEND;TZID=America/Chicago:20251103T123000
DTSTAMP:20260421T060601
CREATED:20251005T084041Z
LAST-MODIFIED:20251103T103924Z
UID:10002573-1762171200-1762173000@eaglepointseniorliving.com
SUMMARY:Oshibori
DESCRIPTION:
URL:https://eaglepointseniorliving.com/event-calendar/oshibori-215/
CATEGORIES:Memory Care
END:VEVENT
BEGIN:VEVENT
DTSTART;TZID=America/Chicago:20251103T134500
DTEND;TZID=America/Chicago:20251103T153000
DTSTAMP:20260421T060601
CREATED:20251007T083944Z
LAST-MODIFIED:20251103T103924Z
UID:10002608-1762177500-1762183800@eaglepointseniorliving.com
SUMMARY:Movie Matinee
DESCRIPTION:
URL:https://eaglepointseniorliving.com/event-calendar/movie-matinee-3/
CATEGORIES:Memory Care
END:VEVENT
BEGIN:VEVENT
DTSTART;TZID=America/Chicago:20251103T190000
DTEND;TZID=America/Chicago:20251103T191500
DTSTAMP:20260421T060601
CREATED:20251005T084041Z
LAST-MODIFIED:20251103T103924Z
UID:10002576-1762196400-1762197300@eaglepointseniorliving.com
SUMMARY:Snack Pass
DESCRIPTION:
URL:https://eaglepointseniorliving.com/event-calendar/snack-pass-64/
LOCATION:Dining Room
CATEGORIES:Memory Care
END:VEVENT
END:VCALENDAR