BEGIN:VCALENDAR
VERSION:2.0
PRODID:-//Eagle Point Senior Living - ECPv6.11.2.1//NONSGML v1.0//EN
CALSCALE:GREGORIAN
METHOD:PUBLISH
X-WR-CALNAME:Eagle Point Senior Living
X-ORIGINAL-URL:https://eaglepointseniorliving.com
X-WR-CALDESC:Events for Eagle Point Senior Living
REFRESH-INTERVAL;VALUE=DURATION:PT1H
X-Robots-Tag:noindex
X-PUBLISHED-TTL:PT1H
BEGIN:VTIMEZONE
TZID:America/Chicago
BEGIN:DAYLIGHT
TZOFFSETFROM:-0600
TZOFFSETTO:-0500
TZNAME:CDT
DTSTART:20250309T080000
END:DAYLIGHT
BEGIN:STANDARD
TZOFFSETFROM:-0500
TZOFFSETTO:-0600
TZNAME:CST
DTSTART:20251102T070000
END:STANDARD
END:VTIMEZONE
BEGIN:VEVENT
DTSTART;TZID=America/Chicago:20251030T080000
DTEND;TZID=America/Chicago:20251030T090000
DTSTAMP:20260421T060028
CREATED:20251002T080932Z
LAST-MODIFIED:20251030T102429Z
UID:10002501-1761811200-1761814800@eaglepointseniorliving.com
SUMMARY:Morning Melodies
DESCRIPTION:
URL:https://eaglepointseniorliving.com/event-calendar/morning-melodies-170/
CATEGORIES:Memory Care
END:VEVENT
BEGIN:VEVENT
DTSTART;TZID=America/Chicago:20251030T093000
DTEND;TZID=America/Chicago:20251030T103000
DTSTAMP:20260421T060028
CREATED:20251002T080932Z
LAST-MODIFIED:20251030T102430Z
UID:10002506-1761816600-1761820200@eaglepointseniorliving.com
SUMMARY:News Currents-Chicago's Rat Hole
DESCRIPTION:
URL:https://eaglepointseniorliving.com/event-calendar/news-currents-14/
CATEGORIES:Memory Care
END:VEVENT
BEGIN:VEVENT
DTSTART;TZID=America/Chicago:20251030T100000
DTEND;TZID=America/Chicago:20251030T110000
DTSTAMP:20260421T060028
CREATED:20251002T080932Z
LAST-MODIFIED:20251030T102430Z
UID:10002504-1761818400-1761822000@eaglepointseniorliving.com
SUMMARY:Daily Spirit Spark
DESCRIPTION:Various spiritual topics and activities with Chaplain Peter.
URL:https://eaglepointseniorliving.com/event-calendar/daily-spirit-spark-66/
CATEGORIES:Memory Care
END:VEVENT
BEGIN:VEVENT
DTSTART;TZID=America/Chicago:20251030T110000
DTEND;TZID=America/Chicago:20251030T113000
DTSTAMP:20260421T060028
CREATED:20251002T080932Z
LAST-MODIFIED:20251030T102430Z
UID:10002503-1761822000-1761823800@eaglepointseniorliving.com
SUMMARY:Jeopardy
DESCRIPTION:
URL:https://eaglepointseniorliving.com/event-calendar/jeopardy-15/
CATEGORIES:Memory Care
END:VEVENT
BEGIN:VEVENT
DTSTART;TZID=America/Chicago:20251030T120000
DTEND;TZID=America/Chicago:20251030T123000
DTSTAMP:20260421T060028
CREATED:20251002T080932Z
LAST-MODIFIED:20251030T102430Z
UID:10002505-1761825600-1761827400@eaglepointseniorliving.com
SUMMARY:Oshibori
DESCRIPTION:
URL:https://eaglepointseniorliving.com/event-calendar/oshibori-213/
CATEGORIES:Memory Care
END:VEVENT
BEGIN:VEVENT
DTSTART;TZID=America/Chicago:20251030T153000
DTEND;TZID=America/Chicago:20251030T163000
DTSTAMP:20260421T060028
CREATED:20251025T102426Z
LAST-MODIFIED:20251030T102430Z
UID:10002918-1761838200-1761841800@eaglepointseniorliving.com
SUMMARY:Read A Long-"Dancing Through Halloween"
DESCRIPTION:AC
URL:https://eaglepointseniorliving.com/event-calendar/read-a-long-dancing-through-halloween/
CATEGORIES:Memory Care
END:VEVENT
BEGIN:VEVENT
DTSTART;TZID=America/Chicago:20251030T180000
DTEND;TZID=America/Chicago:20251030T190000
DTSTAMP:20260421T060028
CREATED:20251002T080932Z
LAST-MODIFIED:20251030T102430Z
UID:10002509-1761847200-1761850800@eaglepointseniorliving.com
SUMMARY:Halloween sing-along and orange snack mix
DESCRIPTION:
URL:https://eaglepointseniorliving.com/event-calendar/halloween-sing-along-and-orange-snack-mix/
CATEGORIES:Memory Care
END:VEVENT
BEGIN:VEVENT
DTSTART;TZID=America/Chicago:20251030T190000
DTEND;TZID=America/Chicago:20251030T191500
DTSTAMP:20260421T060028
CREATED:20251002T080932Z
LAST-MODIFIED:20251030T102430Z
UID:10002510-1761850800-1761851700@eaglepointseniorliving.com
SUMMARY:Snack Pass
DESCRIPTION:
URL:https://eaglepointseniorliving.com/event-calendar/snack-pass-60/
LOCATION:Dining Room
CATEGORIES:Memory Care
END:VEVENT
END:VCALENDAR