BEGIN:VCALENDAR
VERSION:2.0
PRODID:-//Eagle Point Senior Living - ECPv6.11.2.1//NONSGML v1.0//EN
CALSCALE:GREGORIAN
METHOD:PUBLISH
X-ORIGINAL-URL:https://eaglepointseniorliving.com
X-WR-CALDESC:Events for Eagle Point Senior Living
REFRESH-INTERVAL;VALUE=DURATION:PT1H
X-Robots-Tag:noindex
X-PUBLISHED-TTL:PT1H
BEGIN:VTIMEZONE
TZID:America/Chicago
BEGIN:DAYLIGHT
TZOFFSETFROM:-0600
TZOFFSETTO:-0500
TZNAME:CDT
DTSTART:20250309T080000
END:DAYLIGHT
BEGIN:STANDARD
TZOFFSETFROM:-0500
TZOFFSETTO:-0600
TZNAME:CST
DTSTART:20251102T070000
END:STANDARD
END:VTIMEZONE
BEGIN:VEVENT
DTSTART;TZID=America/Chicago:20251027T080000
DTEND;TZID=America/Chicago:20251027T090000
DTSTAMP:20260421T060459
CREATED:20250928T075444Z
LAST-MODIFIED:20251027T102426Z
UID:10002441-1761552000-1761555600@eaglepointseniorliving.com
SUMMARY:Morning Melodies
DESCRIPTION:
URL:https://eaglepointseniorliving.com/event-calendar/morning-melodies-167/
CATEGORIES:Memory Care
END:VEVENT
BEGIN:VEVENT
DTSTART;TZID=America/Chicago:20251027T093000
DTEND;TZID=America/Chicago:20251027T100000
DTSTAMP:20260421T060459
CREATED:20250928T075444Z
LAST-MODIFIED:20251027T102426Z
UID:10002442-1761557400-1761559200@eaglepointseniorliving.com
SUMMARY:Fit While You Sit
DESCRIPTION:
URL:https://eaglepointseniorliving.com/event-calendar/fit-while-you-sit-29/
CATEGORIES:Memory Care
END:VEVENT
BEGIN:VEVENT
DTSTART;TZID=America/Chicago:20251027T110000
DTEND;TZID=America/Chicago:20251027T114500
DTSTAMP:20260421T060459
CREATED:20251004T081306Z
LAST-MODIFIED:20251027T102426Z
UID:10002554-1761562800-1761565500@eaglepointseniorliving.com
SUMMARY:Wheel of Fortune
DESCRIPTION:
URL:https://eaglepointseniorliving.com/event-calendar/creative-coloring-6/
CATEGORIES:Memory Care
END:VEVENT
BEGIN:VEVENT
DTSTART;TZID=America/Chicago:20251027T120000
DTEND;TZID=America/Chicago:20251027T123000
DTSTAMP:20260421T060459
CREATED:20250928T075444Z
LAST-MODIFIED:20251027T102426Z
UID:10002444-1761566400-1761568200@eaglepointseniorliving.com
SUMMARY:Oshibori
DESCRIPTION:
URL:https://eaglepointseniorliving.com/event-calendar/oshibori-210/
CATEGORIES:Memory Care
END:VEVENT
BEGIN:VEVENT
DTSTART;TZID=America/Chicago:20251027T134500
DTEND;TZID=America/Chicago:20251027T153000
DTSTAMP:20260421T060459
CREATED:20251007T083942Z
LAST-MODIFIED:20251027T102426Z
UID:10002607-1761572700-1761579000@eaglepointseniorliving.com
SUMMARY:Movie Matinee
DESCRIPTION:
URL:https://eaglepointseniorliving.com/event-calendar/movie-matinee-2/
CATEGORIES:Memory Care
END:VEVENT
BEGIN:VEVENT
DTSTART;TZID=America/Chicago:20251027T180000
DTEND;TZID=America/Chicago:20251027T190000
DTSTAMP:20260421T060459
CREATED:20250928T075444Z
LAST-MODIFIED:20251027T102426Z
UID:10002446-1761588000-1761591600@eaglepointseniorliving.com
SUMMARY:Sweet\, Sweet Music
DESCRIPTION:
URL:https://eaglepointseniorliving.com/event-calendar/sweet-sweet-music/
CATEGORIES:Memory Care
END:VEVENT
BEGIN:VEVENT
DTSTART;TZID=America/Chicago:20251027T190000
DTEND;TZID=America/Chicago:20251027T191500
DTSTAMP:20260421T060459
CREATED:20250928T075444Z
LAST-MODIFIED:20251027T102426Z
UID:10002447-1761591600-1761592500@eaglepointseniorliving.com
SUMMARY:Snack Pass
DESCRIPTION:
URL:https://eaglepointseniorliving.com/event-calendar/snack-pass-57/
LOCATION:Dining Room
CATEGORIES:Memory Care
END:VEVENT
END:VCALENDAR