BEGIN:VCALENDAR
VERSION:2.0
PRODID:-//Eagle Point Senior Living - ECPv6.11.2.1//NONSGML v1.0//EN
CALSCALE:GREGORIAN
METHOD:PUBLISH
X-WR-CALNAME:Eagle Point Senior Living
X-ORIGINAL-URL:https://eaglepointseniorliving.com
X-WR-CALDESC:Events for Eagle Point Senior Living
REFRESH-INTERVAL;VALUE=DURATION:PT1H
X-Robots-Tag:noindex
X-PUBLISHED-TTL:PT1H
BEGIN:VTIMEZONE
TZID:America/Chicago
BEGIN:DAYLIGHT
TZOFFSETFROM:-0600
TZOFFSETTO:-0500
TZNAME:CDT
DTSTART:20250309T080000
END:DAYLIGHT
BEGIN:STANDARD
TZOFFSETFROM:-0500
TZOFFSETTO:-0600
TZNAME:CST
DTSTART:20251102T070000
END:STANDARD
END:VTIMEZONE
BEGIN:VEVENT
DTSTART;TZID=America/Chicago:20251023T080000
DTEND;TZID=America/Chicago:20251023T090000
DTSTAMP:20260421T073711
CREATED:20250924T073931Z
LAST-MODIFIED:20251023T095816Z
UID:10002391-1761206400-1761210000@eaglepointseniorliving.com
SUMMARY:Morning Melodies
DESCRIPTION:
URL:https://eaglepointseniorliving.com/event-calendar/morning-melodies-163/
CATEGORIES:Memory Care
END:VEVENT
BEGIN:VEVENT
DTSTART;TZID=America/Chicago:20251023T093000
DTEND;TZID=America/Chicago:20251023T100000
DTSTAMP:20260421T073711
CREATED:20251007T083941Z
LAST-MODIFIED:20251023T095816Z
UID:10002603-1761211800-1761213600@eaglepointseniorliving.com
SUMMARY:Fit While You Sit
DESCRIPTION:
URL:https://eaglepointseniorliving.com/event-calendar/fit-while-you-sit-35/
CATEGORIES:Memory Care
END:VEVENT
BEGIN:VEVENT
DTSTART;TZID=America/Chicago:20251023T100000
DTEND;TZID=America/Chicago:20251023T110000
DTSTAMP:20260421T073711
CREATED:20250924T073932Z
LAST-MODIFIED:20251023T095816Z
UID:10002392-1761213600-1761217200@eaglepointseniorliving.com
SUMMARY:Daily Spirit Spark
DESCRIPTION:Various spiritual topics and activities with Chaplain Peter.
URL:https://eaglepointseniorliving.com/event-calendar/daily-spirit-spark-63/
CATEGORIES:Memory Care
END:VEVENT
BEGIN:VEVENT
DTSTART;TZID=America/Chicago:20251023T110000
DTEND;TZID=America/Chicago:20251023T114500
DTSTAMP:20260421T073711
CREATED:20251007T083941Z
LAST-MODIFIED:20251023T095816Z
UID:10002604-1761217200-1761219900@eaglepointseniorliving.com
SUMMARY:Early Bird Bingo
DESCRIPTION:
URL:https://eaglepointseniorliving.com/event-calendar/early-bird-bingo-2/
CATEGORIES:Memory Care
END:VEVENT
BEGIN:VEVENT
DTSTART;TZID=America/Chicago:20251023T120000
DTEND;TZID=America/Chicago:20251023T123000
DTSTAMP:20260421T073711
CREATED:20250924T073932Z
LAST-MODIFIED:20251023T095817Z
UID:10002393-1761220800-1761222600@eaglepointseniorliving.com
SUMMARY:Oshibori
DESCRIPTION:
URL:https://eaglepointseniorliving.com/event-calendar/oshibori-208/
CATEGORIES:Memory Care
END:VEVENT
BEGIN:VEVENT
DTSTART;TZID=America/Chicago:20251023T133000
DTEND;TZID=America/Chicago:20251023T141500
DTSTAMP:20260421T073711
CREATED:20251007T083941Z
LAST-MODIFIED:20251023T095817Z
UID:10002605-1761226200-1761228900@eaglepointseniorliving.com
SUMMARY:OUSI
DESCRIPTION:
URL:https://eaglepointseniorliving.com/event-calendar/ousi/
CATEGORIES:Memory Care
END:VEVENT
BEGIN:VEVENT
DTSTART;TZID=America/Chicago:20251023T143000
DTEND;TZID=America/Chicago:20251023T153000
DTSTAMP:20260421T073711
CREATED:20251007T083942Z
LAST-MODIFIED:20251023T095817Z
UID:10002606-1761229800-1761233400@eaglepointseniorliving.com
SUMMARY:Snack & Social
DESCRIPTION:
URL:https://eaglepointseniorliving.com/event-calendar/snack-social-11/
CATEGORIES:Memory Care
END:VEVENT
BEGIN:VEVENT
DTSTART;TZID=America/Chicago:20251023T190000
DTEND;TZID=America/Chicago:20251023T191500
DTSTAMP:20260421T073711
CREATED:20250924T073932Z
LAST-MODIFIED:20251023T095817Z
UID:10002394-1761246000-1761246900@eaglepointseniorliving.com
SUMMARY:Snack Pass
DESCRIPTION:
URL:https://eaglepointseniorliving.com/event-calendar/snack-pass-53/
LOCATION:Dining Room
CATEGORIES:Memory Care
END:VEVENT
END:VCALENDAR