BEGIN:VCALENDAR
VERSION:2.0
PRODID:-//Eagle Point Senior Living - ECPv6.11.2.1//NONSGML v1.0//EN
CALSCALE:GREGORIAN
METHOD:PUBLISH
X-ORIGINAL-URL:https://eaglepointseniorliving.com
X-WR-CALDESC:Events for Eagle Point Senior Living
REFRESH-INTERVAL;VALUE=DURATION:PT1H
X-Robots-Tag:noindex
X-PUBLISHED-TTL:PT1H
BEGIN:VTIMEZONE
TZID:America/Chicago
BEGIN:DAYLIGHT
TZOFFSETFROM:-0600
TZOFFSETTO:-0500
TZNAME:CDT
DTSTART:20250309T080000
END:DAYLIGHT
BEGIN:STANDARD
TZOFFSETFROM:-0500
TZOFFSETTO:-0600
TZNAME:CST
DTSTART:20251102T070000
END:STANDARD
END:VTIMEZONE
BEGIN:VEVENT
DTSTART;TZID=America/Chicago:20251022T080000
DTEND;TZID=America/Chicago:20251022T090000
DTSTAMP:20260421T073410
CREATED:20250923T073953Z
LAST-MODIFIED:20251022T095425Z
UID:10002371-1761120000-1761123600@eaglepointseniorliving.com
SUMMARY:Morning Melodies
DESCRIPTION:
URL:https://eaglepointseniorliving.com/event-calendar/morning-melodies-162/
CATEGORIES:Memory Care
END:VEVENT
BEGIN:VEVENT
DTSTART;TZID=America/Chicago:20251022T093000
DTEND;TZID=America/Chicago:20251022T100000
DTSTAMP:20260421T073410
CREATED:20250923T073953Z
LAST-MODIFIED:20251022T095425Z
UID:10002372-1761125400-1761127200@eaglepointseniorliving.com
SUMMARY:Fit While You Sit
DESCRIPTION:
URL:https://eaglepointseniorliving.com/event-calendar/fit-while-you-sit-27/
CATEGORIES:Memory Care
END:VEVENT
BEGIN:VEVENT
DTSTART;TZID=America/Chicago:20251022T100000
DTEND;TZID=America/Chicago:20251022T103000
DTSTAMP:20260421T073410
CREATED:20250923T073953Z
LAST-MODIFIED:20251022T095425Z
UID:10002373-1761127200-1761129000@eaglepointseniorliving.com
SUMMARY:Weekly Worship
DESCRIPTION:Christian worship service with communion led by Chaplain Peter.
URL:https://eaglepointseniorliving.com/event-calendar/weekly-worship-17/
CATEGORIES:Memory Care
END:VEVENT
BEGIN:VEVENT
DTSTART;TZID=America/Chicago:20251022T110000
DTEND;TZID=America/Chicago:20251022T114500
DTSTAMP:20260421T073410
CREATED:20250923T073953Z
LAST-MODIFIED:20251022T095425Z
UID:10002374-1761130800-1761133500@eaglepointseniorliving.com
SUMMARY:Resident Wednesday
DESCRIPTION:
URL:https://eaglepointseniorliving.com/event-calendar/wheel-of-fortune-13/
CATEGORIES:Memory Care
END:VEVENT
BEGIN:VEVENT
DTSTART;TZID=America/Chicago:20251022T120000
DTEND;TZID=America/Chicago:20251022T123000
DTSTAMP:20260421T073410
CREATED:20250923T073953Z
LAST-MODIFIED:20251022T095425Z
UID:10002375-1761134400-1761136200@eaglepointseniorliving.com
SUMMARY:Oshibori
DESCRIPTION:
URL:https://eaglepointseniorliving.com/event-calendar/oshibori-207/
CATEGORIES:Memory Care
END:VEVENT
BEGIN:VEVENT
DTSTART;TZID=America/Chicago:20251022T133000
DTEND;TZID=America/Chicago:20251022T141500
DTSTAMP:20260421T073410
CREATED:20250923T073953Z
LAST-MODIFIED:20251022T095425Z
UID:10002376-1761139800-1761142500@eaglepointseniorliving.com
SUMMARY:Active Games & Phyical Movement Activity
DESCRIPTION:
URL:https://eaglepointseniorliving.com/event-calendar/active-games-phyical-movement-activity-6/
LOCATION:Activity room
CATEGORIES:Memory Care
END:VEVENT
BEGIN:VEVENT
DTSTART;TZID=America/Chicago:20251022T141500
DTEND;TZID=America/Chicago:20251022T150000
DTSTAMP:20260421T073410
CREATED:20251002T080930Z
LAST-MODIFIED:20251022T095425Z
UID:10002499-1761142500-1761145200@eaglepointseniorliving.com
SUMMARY:Word Games
DESCRIPTION:Refreshments (Iced water) after physical activity\, then socializing with some word games.
URL:https://eaglepointseniorliving.com/event-calendar/word-games-2/
LOCATION:Activity room
CATEGORIES:Memory Care
END:VEVENT
BEGIN:VEVENT
DTSTART;TZID=America/Chicago:20251022T173000
DTEND;TZID=America/Chicago:20251022T181500
DTSTAMP:20260421T073410
CREATED:20250923T073953Z
LAST-MODIFIED:20251022T095425Z
UID:10002377-1761154200-1761156900@eaglepointseniorliving.com
SUMMARY:Sing a long to the oldies
DESCRIPTION:
URL:https://eaglepointseniorliving.com/event-calendar/sing-a-long-to-the-oldies-6/
LOCATION:Activity room
CATEGORIES:Memory Care
END:VEVENT
BEGIN:VEVENT
DTSTART;TZID=America/Chicago:20251022T181500
DTEND;TZID=America/Chicago:20251022T190000
DTSTAMP:20260421T073410
CREATED:20250923T073953Z
LAST-MODIFIED:20251022T095425Z
UID:10002378-1761156900-1761159600@eaglepointseniorliving.com
SUMMARY:Current Events/Daily Delights
DESCRIPTION:
URL:https://eaglepointseniorliving.com/event-calendar/current-events-daily-delights-5/
LOCATION:Dining Room
CATEGORIES:Memory Care
END:VEVENT
BEGIN:VEVENT
DTSTART;TZID=America/Chicago:20251022T190000
DTEND;TZID=America/Chicago:20251022T191500
DTSTAMP:20260421T073410
CREATED:20250923T073953Z
LAST-MODIFIED:20251022T095425Z
UID:10002379-1761159600-1761160500@eaglepointseniorliving.com
SUMMARY:Snack Pass
DESCRIPTION:
URL:https://eaglepointseniorliving.com/event-calendar/snack-pass-52/
LOCATION:Dining Room
CATEGORIES:Memory Care
END:VEVENT
END:VCALENDAR