BEGIN:VCALENDAR
VERSION:2.0
PRODID:-//Eagle Point Senior Living - ECPv6.11.2.1//NONSGML v1.0//EN
CALSCALE:GREGORIAN
METHOD:PUBLISH
X-WR-CALNAME:Eagle Point Senior Living
X-ORIGINAL-URL:https://eaglepointseniorliving.com
X-WR-CALDESC:Events for Eagle Point Senior Living
REFRESH-INTERVAL;VALUE=DURATION:PT1H
X-Robots-Tag:noindex
X-PUBLISHED-TTL:PT1H
BEGIN:VTIMEZONE
TZID:America/Chicago
BEGIN:DAYLIGHT
TZOFFSETFROM:-0600
TZOFFSETTO:-0500
TZNAME:CDT
DTSTART:20250309T080000
END:DAYLIGHT
BEGIN:STANDARD
TZOFFSETFROM:-0500
TZOFFSETTO:-0600
TZNAME:CST
DTSTART:20251102T070000
END:STANDARD
END:VTIMEZONE
BEGIN:VEVENT
DTSTART;TZID=America/Chicago:20251016T080000
DTEND;TZID=America/Chicago:20251016T090000
DTSTAMP:20260421T073206
CREATED:20250917T073929Z
LAST-MODIFIED:20251016T092549Z
UID:10002241-1760601600-1760605200@eaglepointseniorliving.com
SUMMARY:Morning Melodies
DESCRIPTION:
URL:https://eaglepointseniorliving.com/event-calendar/morning-melodies-156/
CATEGORIES:Memory Care
END:VEVENT
BEGIN:VEVENT
DTSTART;TZID=America/Chicago:20251016T093000
DTEND;TZID=America/Chicago:20251016T100000
DTSTAMP:20260421T073206
CREATED:20250921T073938Z
LAST-MODIFIED:20251016T092549Z
UID:10002324-1760607000-1760608800@eaglepointseniorliving.com
SUMMARY:Today's Special-Angela Landsbury
DESCRIPTION:
URL:https://eaglepointseniorliving.com/event-calendar/todays-special-3/
CATEGORIES:Memory Care
END:VEVENT
BEGIN:VEVENT
DTSTART;TZID=America/Chicago:20251016T100000
DTEND;TZID=America/Chicago:20251016T110000
DTSTAMP:20260421T073206
CREATED:20250917T073929Z
LAST-MODIFIED:20251016T092549Z
UID:10002242-1760608800-1760612400@eaglepointseniorliving.com
SUMMARY:Daily Spirit Spark
DESCRIPTION:Various spiritual topics and activities with Chaplain Peter.
URL:https://eaglepointseniorliving.com/event-calendar/daily-spirit-spark-60/
CATEGORIES:Memory Care
END:VEVENT
BEGIN:VEVENT
DTSTART;TZID=America/Chicago:20251016T110000
DTEND;TZID=America/Chicago:20251016T113000
DTSTAMP:20260421T073206
CREATED:20250921T073938Z
LAST-MODIFIED:20251016T092549Z
UID:10002325-1760612400-1760614200@eaglepointseniorliving.com
SUMMARY:Jeopardy
DESCRIPTION:
URL:https://eaglepointseniorliving.com/event-calendar/jeopardy-14/
CATEGORIES:Memory Care
END:VEVENT
BEGIN:VEVENT
DTSTART;TZID=America/Chicago:20251016T120000
DTEND;TZID=America/Chicago:20251016T123000
DTSTAMP:20260421T073206
CREATED:20250917T073929Z
LAST-MODIFIED:20251016T092549Z
UID:10002243-1760616000-1760617800@eaglepointseniorliving.com
SUMMARY:Oshibori
DESCRIPTION:
URL:https://eaglepointseniorliving.com/event-calendar/oshibori-203/
CATEGORIES:Memory Care
END:VEVENT
BEGIN:VEVENT
DTSTART;TZID=America/Chicago:20251016T130000
DTEND;TZID=America/Chicago:20251016T140000
DTSTAMP:20260421T073206
CREATED:20250921T073938Z
LAST-MODIFIED:20251016T092549Z
UID:10002326-1760619600-1760623200@eaglepointseniorliving.com
SUMMARY:News Currents-Jane Godall
DESCRIPTION:
URL:https://eaglepointseniorliving.com/event-calendar/news-currents-13/
CATEGORIES:Memory Care
END:VEVENT
BEGIN:VEVENT
DTSTART;TZID=America/Chicago:20251016T140000
DTEND;TZID=America/Chicago:20251016T143000
DTSTAMP:20260421T073206
CREATED:20250921T073938Z
LAST-MODIFIED:20251016T092549Z
UID:10002327-1760623200-1760625000@eaglepointseniorliving.com
SUMMARY:Drumming
DESCRIPTION:
URL:https://eaglepointseniorliving.com/event-calendar/drumming-3/
CATEGORIES:Memory Care
END:VEVENT
BEGIN:VEVENT
DTSTART;TZID=America/Chicago:20251016T143000
DTEND;TZID=America/Chicago:20251016T150000
DTSTAMP:20260421T073206
CREATED:20250921T073938Z
LAST-MODIFIED:20251016T092549Z
UID:10002328-1760625000-1760626800@eaglepointseniorliving.com
SUMMARY:Afternoon Chat-Zinnia October History
DESCRIPTION:
URL:https://eaglepointseniorliving.com/event-calendar/afternoon-chat-3/
CATEGORIES:Memory Care
END:VEVENT
BEGIN:VEVENT
DTSTART;TZID=America/Chicago:20251016T150000
DTEND;TZID=America/Chicago:20251016T160000
DTSTAMP:20260421T073206
CREATED:20250921T073938Z
LAST-MODIFIED:20251016T092549Z
UID:10002329-1760626800-1760630400@eaglepointseniorliving.com
SUMMARY:Thursday Time Capsule-Remembering with Baby Boomers
DESCRIPTION:
URL:https://eaglepointseniorliving.com/event-calendar/thursday-time-capsule-3/
CATEGORIES:Memory Care
END:VEVENT
BEGIN:VEVENT
DTSTART;TZID=America/Chicago:20251016T180000
DTEND;TZID=America/Chicago:20251016T190000
DTSTAMP:20260421T073206
CREATED:20250922T074014Z
LAST-MODIFIED:20251016T092549Z
UID:10002351-1760637600-1760641200@eaglepointseniorliving.com
SUMMARY:Order up!
DESCRIPTION:
URL:https://eaglepointseniorliving.com/event-calendar/order-up/
CATEGORIES:Memory Care
END:VEVENT
BEGIN:VEVENT
DTSTART;TZID=America/Chicago:20251016T190000
DTEND;TZID=America/Chicago:20251016T191500
DTSTAMP:20260421T073206
CREATED:20250917T073929Z
LAST-MODIFIED:20251016T092547Z
UID:10002244-1760641200-1760642100@eaglepointseniorliving.com
SUMMARY:Snack Pass
DESCRIPTION:
URL:https://eaglepointseniorliving.com/event-calendar/snack-pass-46/
LOCATION:Dining Room
CATEGORIES:Memory Care
END:VEVENT
END:VCALENDAR