BEGIN:VCALENDAR
VERSION:2.0
PRODID:-//Eagle Point Senior Living - ECPv6.11.2.1//NONSGML v1.0//EN
CALSCALE:GREGORIAN
METHOD:PUBLISH
X-ORIGINAL-URL:https://eaglepointseniorliving.com
X-WR-CALDESC:Events for Eagle Point Senior Living
REFRESH-INTERVAL;VALUE=DURATION:PT1H
X-Robots-Tag:noindex
X-PUBLISHED-TTL:PT1H
BEGIN:VTIMEZONE
TZID:America/Chicago
BEGIN:DAYLIGHT
TZOFFSETFROM:-0600
TZOFFSETTO:-0500
TZNAME:CDT
DTSTART:20250309T080000
END:DAYLIGHT
BEGIN:STANDARD
TZOFFSETFROM:-0500
TZOFFSETTO:-0600
TZNAME:CST
DTSTART:20251102T070000
END:STANDARD
END:VTIMEZONE
BEGIN:VEVENT
DTSTART;TZID=America/Chicago:20251014T080000
DTEND;TZID=America/Chicago:20251014T090000
DTSTAMP:20260421T074145
CREATED:20250915T073928Z
LAST-MODIFIED:20251014T090924Z
UID:10002210-1760428800-1760432400@eaglepointseniorliving.com
SUMMARY:Morning Melodies
DESCRIPTION:
URL:https://eaglepointseniorliving.com/event-calendar/morning-melodies-154/
CATEGORIES:Memory Care
END:VEVENT
BEGIN:VEVENT
DTSTART;TZID=America/Chicago:20251014T100000
DTEND;TZID=America/Chicago:20251014T110000
DTSTAMP:20260421T074145
CREATED:20250915T073928Z
LAST-MODIFIED:20251014T090924Z
UID:10002212-1760436000-1760439600@eaglepointseniorliving.com
SUMMARY:Daily Spirit Spark
DESCRIPTION:Various spiritual topics and activities with Chaplain Peter.
URL:https://eaglepointseniorliving.com/event-calendar/daily-spirit-spark-59/
CATEGORIES:Memory Care
END:VEVENT
BEGIN:VEVENT
DTSTART;TZID=America/Chicago:20251014T120000
DTEND;TZID=America/Chicago:20251014T123000
DTSTAMP:20260421T074145
CREATED:20250915T073928Z
LAST-MODIFIED:20251014T090924Z
UID:10002214-1760443200-1760445000@eaglepointseniorliving.com
SUMMARY:Oshibori
DESCRIPTION:
URL:https://eaglepointseniorliving.com/event-calendar/oshibori-201/
CATEGORIES:Memory Care
END:VEVENT
BEGIN:VEVENT
DTSTART;TZID=America/Chicago:20251014T180000
DTEND;TZID=America/Chicago:20251014T190000
DTSTAMP:20260421T074145
CREATED:20250915T073928Z
LAST-MODIFIED:20251014T090924Z
UID:10002217-1760464800-1760468400@eaglepointseniorliving.com
SUMMARY:Bingo With Dawn
DESCRIPTION:Bingo is a fun\, low-pressure game that supports cognitive skills like memory\, attention\, and pattern recognition while encouraging social interaction and emotional well-being. Its adaptability makes it accessible for various ability levels\, offering joy\, routine\, and community.
URL:https://eaglepointseniorliving.com/event-calendar/bingo-with-dawn-18/
CATEGORIES:Memory Care
END:VEVENT
BEGIN:VEVENT
DTSTART;TZID=America/Chicago:20251014T190000
DTEND;TZID=America/Chicago:20251014T191500
DTSTAMP:20260421T074145
CREATED:20250915T073928Z
LAST-MODIFIED:20251014T090924Z
UID:10002218-1760468400-1760469300@eaglepointseniorliving.com
SUMMARY:Snack Pass
DESCRIPTION:
URL:https://eaglepointseniorliving.com/event-calendar/snack-pass-44/
LOCATION:Dining Room
CATEGORIES:Memory Care
END:VEVENT
END:VCALENDAR