BEGIN:VCALENDAR
VERSION:2.0
PRODID:-//Eagle Point Senior Living - ECPv6.11.2.1//NONSGML v1.0//EN
CALSCALE:GREGORIAN
METHOD:PUBLISH
X-ORIGINAL-URL:https://eaglepointseniorliving.com
X-WR-CALDESC:Events for Eagle Point Senior Living
REFRESH-INTERVAL;VALUE=DURATION:PT1H
X-Robots-Tag:noindex
X-PUBLISHED-TTL:PT1H
BEGIN:VTIMEZONE
TZID:America/Chicago
BEGIN:DAYLIGHT
TZOFFSETFROM:-0600
TZOFFSETTO:-0500
TZNAME:CDT
DTSTART:20250309T080000
END:DAYLIGHT
BEGIN:STANDARD
TZOFFSETFROM:-0500
TZOFFSETTO:-0600
TZNAME:CST
DTSTART:20251102T070000
END:STANDARD
END:VTIMEZONE
BEGIN:VEVENT
DTSTART;TZID=America/Chicago:20251012T080000
DTEND;TZID=America/Chicago:20251012T090000
DTSTAMP:20260421T074152
CREATED:20250913T072456Z
LAST-MODIFIED:20251012T090924Z
UID:10002189-1760256000-1760259600@eaglepointseniorliving.com
SUMMARY:Morning Melodies
DESCRIPTION:
URL:https://eaglepointseniorliving.com/event-calendar/morning-melodies-152/
CATEGORIES:Memory Care
END:VEVENT
BEGIN:VEVENT
DTSTART;TZID=America/Chicago:20251012T100000
DTEND;TZID=America/Chicago:20251012T114500
DTSTAMP:20260421T074152
CREATED:20250922T074012Z
LAST-MODIFIED:20251012T090924Z
UID:10002347-1760263200-1760269500@eaglepointseniorliving.com
SUMMARY:Coloring and puzzles
DESCRIPTION:
URL:https://eaglepointseniorliving.com/event-calendar/coloring-and-puzzles-10/
CATEGORIES:Memory Care
END:VEVENT
BEGIN:VEVENT
DTSTART;TZID=America/Chicago:20251012T130000
DTEND;TZID=America/Chicago:20251012T133000
DTSTAMP:20260421T074152
CREATED:20250922T074012Z
LAST-MODIFIED:20251012T090924Z
UID:10002348-1760274000-1760275800@eaglepointseniorliving.com
SUMMARY:Orange you glad I didn't say banana
DESCRIPTION:
URL:https://eaglepointseniorliving.com/event-calendar/orange-you-glad-i-didnt-say-banana/
CATEGORIES:Memory Care
END:VEVENT
BEGIN:VEVENT
DTSTART;TZID=America/Chicago:20251012T140000
DTEND;TZID=America/Chicago:20251012T143000
DTSTAMP:20260421T074152
CREATED:20250913T072456Z
LAST-MODIFIED:20251012T090924Z
UID:10002190-1760277600-1760279400@eaglepointseniorliving.com
SUMMARY:Exercise
DESCRIPTION:
URL:https://eaglepointseniorliving.com/event-calendar/exercise-22/
CATEGORIES:Memory Care
END:VEVENT
BEGIN:VEVENT
DTSTART;TZID=America/Chicago:20251012T143000
DTEND;TZID=America/Chicago:20251012T153000
DTSTAMP:20260421T074152
CREATED:20250922T074013Z
LAST-MODIFIED:20251012T090924Z
UID:10002349-1760279400-1760283000@eaglepointseniorliving.com
SUMMARY:Pumpkin Craft
DESCRIPTION:
URL:https://eaglepointseniorliving.com/event-calendar/pumpkin-craft/
CATEGORIES:Memory Care
END:VEVENT
BEGIN:VEVENT
DTSTART;TZID=America/Chicago:20251012T190000
DTEND;TZID=America/Chicago:20251012T191500
DTSTAMP:20260421T074152
CREATED:20250913T072456Z
LAST-MODIFIED:20251012T090924Z
UID:10002191-1760295600-1760296500@eaglepointseniorliving.com
SUMMARY:Snack Pass
DESCRIPTION:
URL:https://eaglepointseniorliving.com/event-calendar/snack-pass-42/
LOCATION:Dining Room
CATEGORIES:Memory Care
END:VEVENT
END:VCALENDAR