BEGIN:VCALENDAR
VERSION:2.0
PRODID:-//Eagle Point Senior Living - ECPv6.11.2.1//NONSGML v1.0//EN
CALSCALE:GREGORIAN
METHOD:PUBLISH
X-ORIGINAL-URL:https://eaglepointseniorliving.com
X-WR-CALDESC:Events for Eagle Point Senior Living
REFRESH-INTERVAL;VALUE=DURATION:PT1H
X-Robots-Tag:noindex
X-PUBLISHED-TTL:PT1H
BEGIN:VTIMEZONE
TZID:America/Chicago
BEGIN:DAYLIGHT
TZOFFSETFROM:-0600
TZOFFSETTO:-0500
TZNAME:CDT
DTSTART:20250309T080000
END:DAYLIGHT
BEGIN:STANDARD
TZOFFSETFROM:-0500
TZOFFSETTO:-0600
TZNAME:CST
DTSTART:20251102T070000
END:STANDARD
END:VTIMEZONE
BEGIN:VEVENT
DTSTART;TZID=America/Chicago:20251010T080000
DTEND;TZID=America/Chicago:20251010T090000
DTSTAMP:20260421T074201
CREATED:20250911T065430Z
LAST-MODIFIED:20251010T090955Z
UID:10002173-1760083200-1760086800@eaglepointseniorliving.com
SUMMARY:Morning Melodies
DESCRIPTION:
URL:https://eaglepointseniorliving.com/event-calendar/morning-melodies-150/
CATEGORIES:Memory Care
END:VEVENT
BEGIN:VEVENT
DTSTART;TZID=America/Chicago:20251010T093000
DTEND;TZID=America/Chicago:20251010T100000
DTSTAMP:20260421T074201
CREATED:20250911T065430Z
LAST-MODIFIED:20251010T090955Z
UID:10002174-1760088600-1760090400@eaglepointseniorliving.com
SUMMARY:Fit While You Sit
DESCRIPTION:
URL:https://eaglepointseniorliving.com/event-calendar/fit-while-you-sit-19/
CATEGORIES:Memory Care
END:VEVENT
BEGIN:VEVENT
DTSTART;TZID=America/Chicago:20251010T100000
DTEND;TZID=America/Chicago:20251010T110000
DTSTAMP:20260421T074201
CREATED:20250911T065430Z
LAST-MODIFIED:20251010T090955Z
UID:10002175-1760090400-1760094000@eaglepointseniorliving.com
SUMMARY:Daily Spirit Spark
DESCRIPTION:Various spiritual topics and activities with Chaplain Peter.
URL:https://eaglepointseniorliving.com/event-calendar/daily-spirit-spark-58/
CATEGORIES:Memory Care
END:VEVENT
BEGIN:VEVENT
DTSTART;TZID=America/Chicago:20251010T120000
DTEND;TZID=America/Chicago:20251010T123000
DTSTAMP:20260421T074201
CREATED:20250911T065430Z
LAST-MODIFIED:20251010T090955Z
UID:10002176-1760097600-1760099400@eaglepointseniorliving.com
SUMMARY:Oshibori
DESCRIPTION:
URL:https://eaglepointseniorliving.com/event-calendar/oshibori-199/
CATEGORIES:Memory Care
END:VEVENT
BEGIN:VEVENT
DTSTART;TZID=America/Chicago:20251010T133000
DTEND;TZID=America/Chicago:20251010T143000
DTSTAMP:20260421T074201
CREATED:20250921T073937Z
LAST-MODIFIED:20251010T090955Z
UID:10002323-1760103000-1760106600@eaglepointseniorliving.com
SUMMARY:Mindful Moments-Aging with Grace and Purpose
DESCRIPTION:
URL:https://eaglepointseniorliving.com/event-calendar/october-mindful-moments-2/
CATEGORIES:Memory Care
END:VEVENT
BEGIN:VEVENT
DTSTART;TZID=America/Chicago:20251010T143000
DTEND;TZID=America/Chicago:20251010T153000
DTSTAMP:20260421T074201
CREATED:20250921T073937Z
LAST-MODIFIED:20251010T090955Z
UID:10002322-1760106600-1760110200@eaglepointseniorliving.com
SUMMARY:Today's Special-World Egg Day and other Specials
DESCRIPTION:
URL:https://eaglepointseniorliving.com/event-calendar/todays-special-2/
CATEGORIES:Memory Care
END:VEVENT
BEGIN:VEVENT
DTSTART;TZID=America/Chicago:20251010T153000
DTEND;TZID=America/Chicago:20251010T163000
DTSTAMP:20260421T074201
CREATED:20250921T073937Z
LAST-MODIFIED:20251010T090955Z
UID:10002321-1760110200-1760113800@eaglepointseniorliving.com
SUMMARY:Friday Fun Day
DESCRIPTION:
URL:https://eaglepointseniorliving.com/event-calendar/friday-fun-day-2/
CATEGORIES:Memory Care
END:VEVENT
BEGIN:VEVENT
DTSTART;TZID=America/Chicago:20251010T190000
DTEND;TZID=America/Chicago:20251010T191500
DTSTAMP:20260421T074201
CREATED:20250911T065430Z
LAST-MODIFIED:20251010T090955Z
UID:10002177-1760122800-1760123700@eaglepointseniorliving.com
SUMMARY:Snack Pass
DESCRIPTION:
URL:https://eaglepointseniorliving.com/event-calendar/snack-pass-40/
LOCATION:Dining Room
CATEGORIES:Memory Care
END:VEVENT
END:VCALENDAR