BEGIN:VCALENDAR
VERSION:2.0
PRODID:-//Eagle Point Senior Living - ECPv6.11.2.1//NONSGML v1.0//EN
CALSCALE:GREGORIAN
METHOD:PUBLISH
X-ORIGINAL-URL:https://eaglepointseniorliving.com
X-WR-CALDESC:Events for Eagle Point Senior Living
REFRESH-INTERVAL;VALUE=DURATION:PT1H
X-Robots-Tag:noindex
X-PUBLISHED-TTL:PT1H
BEGIN:VTIMEZONE
TZID:America/Chicago
BEGIN:DAYLIGHT
TZOFFSETFROM:-0600
TZOFFSETTO:-0500
TZNAME:CDT
DTSTART:20250309T080000
END:DAYLIGHT
BEGIN:STANDARD
TZOFFSETFROM:-0500
TZOFFSETTO:-0600
TZNAME:CST
DTSTART:20251102T070000
END:STANDARD
END:VTIMEZONE
BEGIN:VEVENT
DTSTART;TZID=America/Chicago:20251009T080000
DTEND;TZID=America/Chicago:20251009T090000
DTSTAMP:20260421T091420
CREATED:20250910T065438Z
LAST-MODIFIED:20251009T085500Z
UID:10002140-1759996800-1760000400@eaglepointseniorliving.com
SUMMARY:Morning Melodies
DESCRIPTION:
URL:https://eaglepointseniorliving.com/event-calendar/morning-melodies-149/
CATEGORIES:Memory Care
END:VEVENT
BEGIN:VEVENT
DTSTART;TZID=America/Chicago:20251009T093000
DTEND;TZID=America/Chicago:20251009T100000
DTSTAMP:20260421T091420
CREATED:20250921T073936Z
LAST-MODIFIED:20251009T085500Z
UID:10002316-1760002200-1760004000@eaglepointseniorliving.com
SUMMARY:Today's Special-October Can You Picture This
DESCRIPTION:
URL:https://eaglepointseniorliving.com/event-calendar/todays-special/
CATEGORIES:Memory Care
END:VEVENT
BEGIN:VEVENT
DTSTART;TZID=America/Chicago:20251009T100000
DTEND;TZID=America/Chicago:20251009T110000
DTSTAMP:20260421T091420
CREATED:20250910T065438Z
LAST-MODIFIED:20251009T085500Z
UID:10002141-1760004000-1760007600@eaglepointseniorliving.com
SUMMARY:Daily Spirit Spark
DESCRIPTION:Various spiritual topics and activities with Chaplain Peter.
URL:https://eaglepointseniorliving.com/event-calendar/daily-spirit-spark-57/
CATEGORIES:Memory Care
END:VEVENT
BEGIN:VEVENT
DTSTART;TZID=America/Chicago:20251009T110000
DTEND;TZID=America/Chicago:20251009T113000
DTSTAMP:20260421T091420
CREATED:20250921T073936Z
LAST-MODIFIED:20251009T085500Z
UID:10002315-1760007600-1760009400@eaglepointseniorliving.com
SUMMARY:Jeopardy
DESCRIPTION:
URL:https://eaglepointseniorliving.com/event-calendar/jeopardy-13/
CATEGORIES:Memory Care
END:VEVENT
BEGIN:VEVENT
DTSTART;TZID=America/Chicago:20251009T120000
DTEND;TZID=America/Chicago:20251009T123000
DTSTAMP:20260421T091420
CREATED:20250910T065438Z
LAST-MODIFIED:20251009T085500Z
UID:10002142-1760011200-1760013000@eaglepointseniorliving.com
SUMMARY:Oshibori
DESCRIPTION:
URL:https://eaglepointseniorliving.com/event-calendar/oshibori-198/
CATEGORIES:Memory Care
END:VEVENT
BEGIN:VEVENT
DTSTART;TZID=America/Chicago:20251009T130000
DTEND;TZID=America/Chicago:20251009T140000
DTSTAMP:20260421T091420
CREATED:20250921T073936Z
LAST-MODIFIED:20251009T085500Z
UID:10002317-1760014800-1760018400@eaglepointseniorliving.com
SUMMARY:News Currents-Fat Bear Week
DESCRIPTION:
URL:https://eaglepointseniorliving.com/event-calendar/news-currents-12/
CATEGORIES:Memory Care
END:VEVENT
BEGIN:VEVENT
DTSTART;TZID=America/Chicago:20251009T140000
DTEND;TZID=America/Chicago:20251009T143000
DTSTAMP:20260421T091420
CREATED:20250921T073936Z
LAST-MODIFIED:20251009T085500Z
UID:10002318-1760018400-1760020200@eaglepointseniorliving.com
SUMMARY:Drumming
DESCRIPTION:
URL:https://eaglepointseniorliving.com/event-calendar/drumming-2/
CATEGORIES:Memory Care
END:VEVENT
BEGIN:VEVENT
DTSTART;TZID=America/Chicago:20251009T143000
DTEND;TZID=America/Chicago:20251009T150000
DTSTAMP:20260421T091420
CREATED:20250921T073936Z
LAST-MODIFIED:20251009T085500Z
UID:10002319-1760020200-1760022000@eaglepointseniorliving.com
SUMMARY:Afternoon Chat-Zinnia October History
DESCRIPTION:
URL:https://eaglepointseniorliving.com/event-calendar/afternoon-chat-2/
CATEGORIES:Memory Care
END:VEVENT
BEGIN:VEVENT
DTSTART;TZID=America/Chicago:20251009T150000
DTEND;TZID=America/Chicago:20251009T160000
DTSTAMP:20260421T091420
CREATED:20250921T073936Z
LAST-MODIFIED:20251009T085500Z
UID:10002320-1760022000-1760025600@eaglepointseniorliving.com
SUMMARY:Thursday Nature Talk-Squirrels
DESCRIPTION:
URL:https://eaglepointseniorliving.com/event-calendar/thursday-time-capsule-2/
CATEGORIES:Memory Care
END:VEVENT
BEGIN:VEVENT
DTSTART;TZID=America/Chicago:20251009T180000
DTEND;TZID=America/Chicago:20251009T190000
DTSTAMP:20260421T091420
CREATED:20250922T074012Z
LAST-MODIFIED:20251009T085500Z
UID:10002346-1760032800-1760036400@eaglepointseniorliving.com
SUMMARY:Explore with Oranges
DESCRIPTION:
URL:https://eaglepointseniorliving.com/event-calendar/explore-with-oranges/
CATEGORIES:Memory Care
END:VEVENT
BEGIN:VEVENT
DTSTART;TZID=America/Chicago:20251009T190000
DTEND;TZID=America/Chicago:20251009T191500
DTSTAMP:20260421T091420
CREATED:20250910T065438Z
LAST-MODIFIED:20251009T085500Z
UID:10002143-1760036400-1760037300@eaglepointseniorliving.com
SUMMARY:Snack Pass
DESCRIPTION:
URL:https://eaglepointseniorliving.com/event-calendar/snack-pass-39/
LOCATION:Dining Room
CATEGORIES:Memory Care
END:VEVENT
END:VCALENDAR