BEGIN:VCALENDAR
VERSION:2.0
PRODID:-//Eagle Point Senior Living - ECPv6.11.2.1//NONSGML v1.0//EN
CALSCALE:GREGORIAN
METHOD:PUBLISH
X-ORIGINAL-URL:https://eaglepointseniorliving.com
X-WR-CALDESC:Events for Eagle Point Senior Living
REFRESH-INTERVAL;VALUE=DURATION:PT1H
X-Robots-Tag:noindex
X-PUBLISHED-TTL:PT1H
BEGIN:VTIMEZONE
TZID:America/Chicago
BEGIN:DAYLIGHT
TZOFFSETFROM:-0600
TZOFFSETTO:-0500
TZNAME:CDT
DTSTART:20250309T080000
END:DAYLIGHT
BEGIN:STANDARD
TZOFFSETFROM:-0500
TZOFFSETTO:-0600
TZNAME:CST
DTSTART:20251102T070000
END:STANDARD
END:VTIMEZONE
BEGIN:VEVENT
DTSTART;TZID=America/Chicago:20251008T080000
DTEND;TZID=America/Chicago:20251008T090000
DTSTAMP:20260421T073416
CREATED:20250909T065433Z
LAST-MODIFIED:20251008T083925Z
UID:10002126-1759910400-1759914000@eaglepointseniorliving.com
SUMMARY:Morning Melodies
DESCRIPTION:
URL:https://eaglepointseniorliving.com/event-calendar/morning-melodies-148/
CATEGORIES:Memory Care
END:VEVENT
BEGIN:VEVENT
DTSTART;TZID=America/Chicago:20251008T110000
DTEND;TZID=America/Chicago:20251008T114500
DTSTAMP:20260421T073416
CREATED:20250909T065433Z
LAST-MODIFIED:20251008T083925Z
UID:10002129-1759921200-1759923900@eaglepointseniorliving.com
SUMMARY:Resident Wednesday
DESCRIPTION:
URL:https://eaglepointseniorliving.com/event-calendar/wheel-of-fortune-10/
CATEGORIES:Memory Care
END:VEVENT
BEGIN:VEVENT
DTSTART;TZID=America/Chicago:20251008T120000
DTEND;TZID=America/Chicago:20251008T123000
DTSTAMP:20260421T073416
CREATED:20250909T065433Z
LAST-MODIFIED:20251008T083925Z
UID:10002130-1759924800-1759926600@eaglepointseniorliving.com
SUMMARY:Oshibori
DESCRIPTION:
URL:https://eaglepointseniorliving.com/event-calendar/oshibori-197/
CATEGORIES:Memory Care
END:VEVENT
BEGIN:VEVENT
DTSTART;TZID=America/Chicago:20251008T133000
DTEND;TZID=America/Chicago:20251008T141500
DTSTAMP:20260421T073416
CREATED:20250911T065430Z
LAST-MODIFIED:20251008T083925Z
UID:10002169-1759930200-1759932900@eaglepointseniorliving.com
SUMMARY:Active Games & Phyical Movement Activity
DESCRIPTION:
URL:https://eaglepointseniorliving.com/event-calendar/active-games-phyical-movement-activity-4/
LOCATION:Activity room
CATEGORIES:Memory Care
END:VEVENT
BEGIN:VEVENT
DTSTART;TZID=America/Chicago:20251008T150000
DTEND;TZID=America/Chicago:20251008T153000
DTSTAMP:20260421T073416
CREATED:20251002T080926Z
LAST-MODIFIED:20251008T083925Z
UID:10002497-1759935600-1759937400@eaglepointseniorliving.com
SUMMARY:Patio-Sunshine and Conversation
DESCRIPTION:Patio-Weather permitting. Otherwise\, fireplace chat.
URL:https://eaglepointseniorliving.com/event-calendar/patio-sunshine-and-conversation/
LOCATION:Patio
CATEGORIES:Memory Care
END:VEVENT
BEGIN:VEVENT
DTSTART;TZID=America/Chicago:20251008T173000
DTEND;TZID=America/Chicago:20251008T181500
DTSTAMP:20260421T073416
CREATED:20250911T065430Z
LAST-MODIFIED:20251008T083925Z
UID:10002172-1759944600-1759947300@eaglepointseniorliving.com
SUMMARY:Sing a long to the oldies
DESCRIPTION:
URL:https://eaglepointseniorliving.com/event-calendar/sing-a-long-to-the-oldies-4/
LOCATION:Activity room
CATEGORIES:Memory Care
END:VEVENT
BEGIN:VEVENT
DTSTART;TZID=America/Chicago:20251008T181500
DTEND;TZID=America/Chicago:20251008T190000
DTSTAMP:20260421T073416
CREATED:20250911T065430Z
LAST-MODIFIED:20251008T083925Z
UID:10002171-1759947300-1759950000@eaglepointseniorliving.com
SUMMARY:Current Events/Daily Delights
DESCRIPTION:
URL:https://eaglepointseniorliving.com/event-calendar/current-events-daily-delights-4/
LOCATION:Dining Room
CATEGORIES:Memory Care
END:VEVENT
BEGIN:VEVENT
DTSTART;TZID=America/Chicago:20251008T190000
DTEND;TZID=America/Chicago:20251008T191500
DTSTAMP:20260421T073416
CREATED:20250909T065433Z
LAST-MODIFIED:20251008T083925Z
UID:10002131-1759950000-1759950900@eaglepointseniorliving.com
SUMMARY:Snack Pass
DESCRIPTION:
URL:https://eaglepointseniorliving.com/event-calendar/snack-pass-38/
LOCATION:Dining Room
CATEGORIES:Memory Care
END:VEVENT
END:VCALENDAR