BEGIN:VCALENDAR
VERSION:2.0
PRODID:-//Eagle Point Senior Living - ECPv6.11.2.1//NONSGML v1.0//EN
CALSCALE:GREGORIAN
METHOD:PUBLISH
X-ORIGINAL-URL:https://eaglepointseniorliving.com
X-WR-CALDESC:Events for Eagle Point Senior Living
REFRESH-INTERVAL;VALUE=DURATION:PT1H
X-Robots-Tag:noindex
X-PUBLISHED-TTL:PT1H
BEGIN:VTIMEZONE
TZID:America/Chicago
BEGIN:DAYLIGHT
TZOFFSETFROM:-0600
TZOFFSETTO:-0500
TZNAME:CDT
DTSTART:20250309T080000
END:DAYLIGHT
BEGIN:STANDARD
TZOFFSETFROM:-0500
TZOFFSETTO:-0600
TZNAME:CST
DTSTART:20251102T070000
END:STANDARD
END:VTIMEZONE
BEGIN:VEVENT
DTSTART;TZID=America/Chicago:20251007T080000
DTEND;TZID=America/Chicago:20251007T090000
DTSTAMP:20260421T073345
CREATED:20250908T065433Z
LAST-MODIFIED:20251007T083938Z
UID:10002111-1759824000-1759827600@eaglepointseniorliving.com
SUMMARY:Morning Melodies
DESCRIPTION:
URL:https://eaglepointseniorliving.com/event-calendar/morning-melodies-147/
CATEGORIES:Memory Care
END:VEVENT
BEGIN:VEVENT
DTSTART;TZID=America/Chicago:20251007T093000
DTEND;TZID=America/Chicago:20251007T100000
DTSTAMP:20260421T073345
CREATED:20250908T065433Z
LAST-MODIFIED:20251007T083938Z
UID:10002112-1759829400-1759831200@eaglepointseniorliving.com
SUMMARY:Fit While You Sit
DESCRIPTION:
URL:https://eaglepointseniorliving.com/event-calendar/fit-while-you-sit-17/
CATEGORIES:Memory Care
END:VEVENT
BEGIN:VEVENT
DTSTART;TZID=America/Chicago:20251007T100000
DTEND;TZID=America/Chicago:20251007T110000
DTSTAMP:20260421T073345
CREATED:20250908T065433Z
LAST-MODIFIED:20251007T083938Z
UID:10002113-1759831200-1759834800@eaglepointseniorliving.com
SUMMARY:Daily Spirit Spark
DESCRIPTION:Various spiritual topics and activities with Chaplain Peter.
URL:https://eaglepointseniorliving.com/event-calendar/daily-spirit-spark-56/
CATEGORIES:Memory Care
END:VEVENT
BEGIN:VEVENT
DTSTART;TZID=America/Chicago:20251007T110000
DTEND;TZID=America/Chicago:20251007T114500
DTSTAMP:20260421T073345
CREATED:20250908T065433Z
LAST-MODIFIED:20251007T083938Z
UID:10002114-1759834800-1759837500@eaglepointseniorliving.com
SUMMARY:Brain Games
DESCRIPTION:
URL:https://eaglepointseniorliving.com/event-calendar/trivia-tuesday-2/
CATEGORIES:Memory Care
END:VEVENT
BEGIN:VEVENT
DTSTART;TZID=America/Chicago:20251007T120000
DTEND;TZID=America/Chicago:20251007T123000
DTSTAMP:20260421T073345
CREATED:20250908T065433Z
LAST-MODIFIED:20251007T083938Z
UID:10002115-1759838400-1759840200@eaglepointseniorliving.com
SUMMARY:Oshibori
DESCRIPTION:
URL:https://eaglepointseniorliving.com/event-calendar/oshibori-196/
CATEGORIES:Memory Care
END:VEVENT
BEGIN:VEVENT
DTSTART;TZID=America/Chicago:20251007T133000
DTEND;TZID=America/Chicago:20251007T140000
DTSTAMP:20260421T073345
CREATED:20250908T065433Z
LAST-MODIFIED:20251007T083938Z
UID:10002116-1759843800-1759845600@eaglepointseniorliving.com
SUMMARY:Reminisce
DESCRIPTION:
URL:https://eaglepointseniorliving.com/event-calendar/reminisce-43/
CATEGORIES:Memory Care
END:VEVENT
BEGIN:VEVENT
DTSTART;TZID=America/Chicago:20251007T180000
DTEND;TZID=America/Chicago:20251007T190000
DTSTAMP:20260421T073345
CREATED:20250908T065433Z
LAST-MODIFIED:20251007T083938Z
UID:10002117-1759860000-1759863600@eaglepointseniorliving.com
SUMMARY:Bingo With Dawn
DESCRIPTION:Bingo is a fun\, low-pressure game that supports cognitive skills like memory\, attention\, and pattern recognition while encouraging social interaction and emotional well-being. Its adaptability makes it accessible for various ability levels\, offering joy\, routine\, and community.
URL:https://eaglepointseniorliving.com/event-calendar/bingo-with-dawn-17/
CATEGORIES:Memory Care
END:VEVENT
BEGIN:VEVENT
DTSTART;TZID=America/Chicago:20251007T190000
DTEND;TZID=America/Chicago:20251007T191500
DTSTAMP:20260421T073345
CREATED:20250908T065433Z
LAST-MODIFIED:20251007T083938Z
UID:10002118-1759863600-1759864500@eaglepointseniorliving.com
SUMMARY:Snack Pass
DESCRIPTION:
URL:https://eaglepointseniorliving.com/event-calendar/snack-pass-37/
LOCATION:Dining Room
CATEGORIES:Memory Care
END:VEVENT
END:VCALENDAR