BEGIN:VCALENDAR
VERSION:2.0
PRODID:-//Eagle Point Senior Living - ECPv6.11.2.1//NONSGML v1.0//EN
CALSCALE:GREGORIAN
METHOD:PUBLISH
X-ORIGINAL-URL:https://eaglepointseniorliving.com
X-WR-CALDESC:Events for Eagle Point Senior Living
REFRESH-INTERVAL;VALUE=DURATION:PT1H
X-Robots-Tag:noindex
X-PUBLISHED-TTL:PT1H
BEGIN:VTIMEZONE
TZID:America/Chicago
BEGIN:DAYLIGHT
TZOFFSETFROM:-0600
TZOFFSETTO:-0500
TZNAME:CDT
DTSTART:20250309T080000
END:DAYLIGHT
BEGIN:STANDARD
TZOFFSETFROM:-0500
TZOFFSETTO:-0600
TZNAME:CST
DTSTART:20251102T070000
END:STANDARD
END:VTIMEZONE
BEGIN:VEVENT
DTSTART;TZID=America/Chicago:20251005T080000
DTEND;TZID=America/Chicago:20251005T090000
DTSTAMP:20260421T073411
CREATED:20250906T065435Z
LAST-MODIFIED:20251005T084035Z
UID:10002090-1759651200-1759654800@eaglepointseniorliving.com
SUMMARY:Morning Melodies
DESCRIPTION:
URL:https://eaglepointseniorliving.com/event-calendar/morning-melodies-145/
CATEGORIES:Memory Care
END:VEVENT
BEGIN:VEVENT
DTSTART;TZID=America/Chicago:20251005T100000
DTEND;TZID=America/Chicago:20251005T114500
DTSTAMP:20260421T073411
CREATED:20250922T074011Z
LAST-MODIFIED:20251005T084035Z
UID:10002344-1759658400-1759664700@eaglepointseniorliving.com
SUMMARY:Coloring and puzzles
DESCRIPTION:
URL:https://eaglepointseniorliving.com/event-calendar/coloring-and-puzzles-9/
CATEGORIES:Memory Care
END:VEVENT
BEGIN:VEVENT
DTSTART;TZID=America/Chicago:20251005T140000
DTEND;TZID=America/Chicago:20251005T143000
DTSTAMP:20260421T073411
CREATED:20250906T065435Z
LAST-MODIFIED:20251005T084035Z
UID:10002091-1759672800-1759674600@eaglepointseniorliving.com
SUMMARY:Exercise
DESCRIPTION:
URL:https://eaglepointseniorliving.com/event-calendar/exercise-21/
CATEGORIES:Memory Care
END:VEVENT
BEGIN:VEVENT
DTSTART;TZID=America/Chicago:20251005T190000
DTEND;TZID=America/Chicago:20251005T191500
DTSTAMP:20260421T073411
CREATED:20250906T065435Z
LAST-MODIFIED:20251005T084035Z
UID:10002092-1759690800-1759691700@eaglepointseniorliving.com
SUMMARY:Snack Pass
DESCRIPTION:
URL:https://eaglepointseniorliving.com/event-calendar/snack-pass-35/
LOCATION:Dining Room
CATEGORIES:Memory Care
END:VEVENT
END:VCALENDAR