BEGIN:VCALENDAR
VERSION:2.0
PRODID:-//Eagle Point Senior Living - ECPv6.11.2.1//NONSGML v1.0//EN
CALSCALE:GREGORIAN
METHOD:PUBLISH
X-ORIGINAL-URL:https://eaglepointseniorliving.com
X-WR-CALDESC:Events for Eagle Point Senior Living
REFRESH-INTERVAL;VALUE=DURATION:PT1H
X-Robots-Tag:noindex
X-PUBLISHED-TTL:PT1H
BEGIN:VTIMEZONE
TZID:America/Chicago
BEGIN:DAYLIGHT
TZOFFSETFROM:-0600
TZOFFSETTO:-0500
TZNAME:CDT
DTSTART:20250309T080000
END:DAYLIGHT
BEGIN:STANDARD
TZOFFSETFROM:-0500
TZOFFSETTO:-0600
TZNAME:CST
DTSTART:20251102T070000
END:STANDARD
END:VTIMEZONE
BEGIN:VEVENT
DTSTART;TZID=America/Chicago:20250929T080000
DTEND;TZID=America/Chicago:20250929T090000
DTSTAMP:20260421T074324
CREATED:20250831T064009Z
LAST-MODIFIED:20250929T075425Z
UID:10002017-1759132800-1759136400@eaglepointseniorliving.com
SUMMARY:Morning Melodies
DESCRIPTION:
URL:https://eaglepointseniorliving.com/event-calendar/morning-melodies-139/
CATEGORIES:Memory Care
END:VEVENT
BEGIN:VEVENT
DTSTART;TZID=America/Chicago:20250929T093000
DTEND;TZID=America/Chicago:20250929T100000
DTSTAMP:20260421T074324
CREATED:20250831T064009Z
LAST-MODIFIED:20250929T075425Z
UID:10002018-1759138200-1759140000@eaglepointseniorliving.com
SUMMARY:Fit While You Sit
DESCRIPTION:
URL:https://eaglepointseniorliving.com/event-calendar/fit-while-you-sit-11/
CATEGORIES:Memory Care
END:VEVENT
BEGIN:VEVENT
DTSTART;TZID=America/Chicago:20250929T110000
DTEND;TZID=America/Chicago:20250929T114500
DTSTAMP:20260421T074324
CREATED:20250831T064009Z
LAST-MODIFIED:20250929T075425Z
UID:10002019-1759143600-1759146300@eaglepointseniorliving.com
SUMMARY:Canvas Art
DESCRIPTION:
URL:https://eaglepointseniorliving.com/event-calendar/canvas-art-3/
CATEGORIES:Memory Care
END:VEVENT
BEGIN:VEVENT
DTSTART;TZID=America/Chicago:20250929T120000
DTEND;TZID=America/Chicago:20250929T123000
DTSTAMP:20260421T074324
CREATED:20250831T064009Z
LAST-MODIFIED:20250929T075425Z
UID:10002020-1759147200-1759149000@eaglepointseniorliving.com
SUMMARY:Oshibori
DESCRIPTION:
URL:https://eaglepointseniorliving.com/event-calendar/oshibori-190/
CATEGORIES:Memory Care
END:VEVENT
BEGIN:VEVENT
DTSTART;TZID=America/Chicago:20250929T133000
DTEND;TZID=America/Chicago:20250929T134500
DTSTAMP:20260421T074324
CREATED:20250831T064009Z
LAST-MODIFIED:20250929T075425Z
UID:10002021-1759152600-1759153500@eaglepointseniorliving.com
SUMMARY:Conversations on The Patio
DESCRIPTION:
URL:https://eaglepointseniorliving.com/event-calendar/coffee-conversations-6/
CATEGORIES:Memory Care
END:VEVENT
BEGIN:VEVENT
DTSTART;TZID=America/Chicago:20250929T180000
DTEND;TZID=America/Chicago:20250929T190000
DTSTAMP:20260421T074324
CREATED:20250831T064009Z
LAST-MODIFIED:20250929T075425Z
UID:10002022-1759168800-1759172400@eaglepointseniorliving.com
SUMMARY:Who am I?
DESCRIPTION:
URL:https://eaglepointseniorliving.com/event-calendar/who-am-i-2/
CATEGORIES:Memory Care
END:VEVENT
BEGIN:VEVENT
DTSTART;TZID=America/Chicago:20250929T190000
DTEND;TZID=America/Chicago:20250929T193000
DTSTAMP:20260421T074324
CREATED:20250831T064009Z
LAST-MODIFIED:20250929T075425Z
UID:10002023-1759172400-1759174200@eaglepointseniorliving.com
SUMMARY:Snack Pass
DESCRIPTION:
URL:https://eaglepointseniorliving.com/event-calendar/snack-pass-29/
CATEGORIES:Memory Care
END:VEVENT
END:VCALENDAR