BEGIN:VCALENDAR
VERSION:2.0
PRODID:-//Eagle Point Senior Living - ECPv6.11.2.1//NONSGML v1.0//EN
CALSCALE:GREGORIAN
METHOD:PUBLISH
X-ORIGINAL-URL:https://eaglepointseniorliving.com
X-WR-CALDESC:Events for Eagle Point Senior Living
REFRESH-INTERVAL;VALUE=DURATION:PT1H
X-Robots-Tag:noindex
X-PUBLISHED-TTL:PT1H
BEGIN:VTIMEZONE
TZID:America/Chicago
BEGIN:DAYLIGHT
TZOFFSETFROM:-0600
TZOFFSETTO:-0500
TZNAME:CDT
DTSTART:20250309T080000
END:DAYLIGHT
BEGIN:STANDARD
TZOFFSETFROM:-0500
TZOFFSETTO:-0600
TZNAME:CST
DTSTART:20251102T070000
END:STANDARD
END:VTIMEZONE
BEGIN:VEVENT
DTSTART;TZID=America/Chicago:20250927T080000
DTEND;TZID=America/Chicago:20250927T090000
DTSTAMP:20260421T091304
CREATED:20250829T063929Z
LAST-MODIFIED:20250927T073925Z
UID:10001998-1758960000-1758963600@eaglepointseniorliving.com
SUMMARY:Morning Melodies
DESCRIPTION:
URL:https://eaglepointseniorliving.com/event-calendar/morning-melodies-137/
CATEGORIES:Memory Care
END:VEVENT
BEGIN:VEVENT
DTSTART;TZID=America/Chicago:20250927T093000
DTEND;TZID=America/Chicago:20250927T103000
DTSTAMP:20260421T091304
CREATED:20250925T074026Z
LAST-MODIFIED:20250927T073925Z
UID:10002402-1758965400-1758969000@eaglepointseniorliving.com
SUMMARY:Donuts & Conversation
DESCRIPTION:
URL:https://eaglepointseniorliving.com/event-calendar/donuts-conversation/
LOCATION:Dining Room
CATEGORIES:Memory Care
END:VEVENT
BEGIN:VEVENT
DTSTART;TZID=America/Chicago:20250927T103000
DTEND;TZID=America/Chicago:20250927T111500
DTSTAMP:20260421T091304
CREATED:20250925T074026Z
LAST-MODIFIED:20250927T073925Z
UID:10002403-1758969000-1758971700@eaglepointseniorliving.com
SUMMARY:Creative Arts Activity-Making fabric wrapped bracelets
DESCRIPTION:Join in for a fun creative arts project.
URL:https://eaglepointseniorliving.com/event-calendar/creative-arts-activity/
LOCATION:Activity room
CATEGORIES:Memory Care
END:VEVENT
BEGIN:VEVENT
DTSTART;TZID=America/Chicago:20250927T140000
DTEND;TZID=America/Chicago:20250927T150000
DTSTAMP:20260421T091304
CREATED:20250829T063929Z
LAST-MODIFIED:20250927T073925Z
UID:10001999-1758981600-1758985200@eaglepointseniorliving.com
SUMMARY:Reminisce
DESCRIPTION:
URL:https://eaglepointseniorliving.com/event-calendar/reminisce-40/
CATEGORIES:Memory Care
END:VEVENT
BEGIN:VEVENT
DTSTART;TZID=America/Chicago:20250927T180000
DTEND;TZID=America/Chicago:20250927T190000
DTSTAMP:20260421T091304
CREATED:20250829T063929Z
LAST-MODIFIED:20250927T073925Z
UID:10002000-1758996000-1758999600@eaglepointseniorliving.com
SUMMARY:Movie & A Snack
DESCRIPTION:
URL:https://eaglepointseniorliving.com/event-calendar/movie-a-snack-20/
CATEGORIES:Memory Care
END:VEVENT
BEGIN:VEVENT
DTSTART;TZID=America/Chicago:20250927T190000
DTEND;TZID=America/Chicago:20250927T193000
DTSTAMP:20260421T091304
CREATED:20250829T063929Z
LAST-MODIFIED:20250927T073925Z
UID:10002001-1758999600-1759001400@eaglepointseniorliving.com
SUMMARY:Snack Pass
DESCRIPTION:
URL:https://eaglepointseniorliving.com/event-calendar/snack-pass-27/
CATEGORIES:Memory Care
END:VEVENT
END:VCALENDAR