BEGIN:VCALENDAR
VERSION:2.0
PRODID:-//Eagle Point Senior Living - ECPv6.11.2.1//NONSGML v1.0//EN
CALSCALE:GREGORIAN
METHOD:PUBLISH
X-ORIGINAL-URL:https://eaglepointseniorliving.com
X-WR-CALDESC:Events for Eagle Point Senior Living
REFRESH-INTERVAL;VALUE=DURATION:PT1H
X-Robots-Tag:noindex
X-PUBLISHED-TTL:PT1H
BEGIN:VTIMEZONE
TZID:America/Chicago
BEGIN:DAYLIGHT
TZOFFSETFROM:-0600
TZOFFSETTO:-0500
TZNAME:CDT
DTSTART:20250309T080000
END:DAYLIGHT
BEGIN:STANDARD
TZOFFSETFROM:-0500
TZOFFSETTO:-0600
TZNAME:CST
DTSTART:20251102T070000
END:STANDARD
END:VTIMEZONE
BEGIN:VEVENT
DTSTART;TZID=America/Chicago:20250925T080000
DTEND;TZID=America/Chicago:20250925T090000
DTSTAMP:20260421T091304
CREATED:20250827T062434Z
LAST-MODIFIED:20250925T074027Z
UID:10001967-1758787200-1758790800@eaglepointseniorliving.com
SUMMARY:Morning Melodies
DESCRIPTION:
URL:https://eaglepointseniorliving.com/event-calendar/morning-melodies-135/
CATEGORIES:Memory Care
END:VEVENT
BEGIN:VEVENT
DTSTART;TZID=America/Chicago:20250925T093000
DTEND;TZID=America/Chicago:20250925T100000
DTSTAMP:20260421T091304
CREATED:20250921T073933Z
LAST-MODIFIED:20250925T074027Z
UID:10002301-1758792600-1758794400@eaglepointseniorliving.com
SUMMARY:News Currents
DESCRIPTION:
URL:https://eaglepointseniorliving.com/event-calendar/news-currents-10/
CATEGORIES:Memory Care
END:VEVENT
BEGIN:VEVENT
DTSTART;TZID=America/Chicago:20250925T100000
DTEND;TZID=America/Chicago:20250925T110000
DTSTAMP:20260421T091304
CREATED:20250827T062434Z
LAST-MODIFIED:20250925T074027Z
UID:10001968-1758794400-1758798000@eaglepointseniorliving.com
SUMMARY:Daily Spirit Spark
DESCRIPTION:Various spiritual topics and activities with Chaplain Peter.
URL:https://eaglepointseniorliving.com/event-calendar/daily-spirit-spark-51/
CATEGORIES:Memory Care
END:VEVENT
BEGIN:VEVENT
DTSTART;TZID=America/Chicago:20250925T110000
DTEND;TZID=America/Chicago:20250925T114500
DTSTAMP:20260421T091304
CREATED:20250921T073933Z
LAST-MODIFIED:20250925T074027Z
UID:10002303-1758798000-1758800700@eaglepointseniorliving.com
SUMMARY:Jeopardy
DESCRIPTION:
URL:https://eaglepointseniorliving.com/event-calendar/jeopardy-12/
CATEGORIES:Memory Care
END:VEVENT
BEGIN:VEVENT
DTSTART;TZID=America/Chicago:20250925T120000
DTEND;TZID=America/Chicago:20250925T123000
DTSTAMP:20260421T091304
CREATED:20250827T062434Z
LAST-MODIFIED:20250925T074027Z
UID:10001969-1758801600-1758803400@eaglepointseniorliving.com
SUMMARY:Oshibori
DESCRIPTION:
URL:https://eaglepointseniorliving.com/event-calendar/oshibori-188/
CATEGORIES:Memory Care
END:VEVENT
BEGIN:VEVENT
DTSTART;TZID=America/Chicago:20250925T150000
DTEND;TZID=America/Chicago:20250925T153000
DTSTAMP:20260421T091304
CREATED:20250921T073933Z
LAST-MODIFIED:20250925T074027Z
UID:10002302-1758812400-1758814200@eaglepointseniorliving.com
SUMMARY:Explore the Great Outdoors "Riddle Me This"
DESCRIPTION:
URL:https://eaglepointseniorliving.com/event-calendar/explore-the-great-outdoors-riddle-me-this/
CATEGORIES:Memory Care
END:VEVENT
BEGIN:VEVENT
DTSTART;TZID=America/Chicago:20250925T190000
DTEND;TZID=America/Chicago:20250925T193000
DTSTAMP:20260421T091304
CREATED:20250827T062434Z
LAST-MODIFIED:20250925T074027Z
UID:10001970-1758826800-1758828600@eaglepointseniorliving.com
SUMMARY:Snack Pass
DESCRIPTION:
URL:https://eaglepointseniorliving.com/event-calendar/snack-pass-25/
CATEGORIES:Memory Care
END:VEVENT
END:VCALENDAR