BEGIN:VCALENDAR
VERSION:2.0
PRODID:-//Eagle Point Senior Living - ECPv6.11.2.1//NONSGML v1.0//EN
CALSCALE:GREGORIAN
METHOD:PUBLISH
X-ORIGINAL-URL:https://eaglepointseniorliving.com
X-WR-CALDESC:Events for Eagle Point Senior Living
REFRESH-INTERVAL;VALUE=DURATION:PT1H
X-Robots-Tag:noindex
X-PUBLISHED-TTL:PT1H
BEGIN:VTIMEZONE
TZID:America/Chicago
BEGIN:DAYLIGHT
TZOFFSETFROM:-0600
TZOFFSETTO:-0500
TZNAME:CDT
DTSTART:20250309T080000
END:DAYLIGHT
BEGIN:STANDARD
TZOFFSETFROM:-0500
TZOFFSETTO:-0600
TZNAME:CST
DTSTART:20251102T070000
END:STANDARD
END:VTIMEZONE
BEGIN:VEVENT
DTSTART;TZID=America/Chicago:20250924T080000
DTEND;TZID=America/Chicago:20250924T090000
DTSTAMP:20260421T091420
CREATED:20250826T055728Z
LAST-MODIFIED:20250924T073925Z
UID:10001933-1758700800-1758704400@eaglepointseniorliving.com
SUMMARY:Morning Melodies
DESCRIPTION:
URL:https://eaglepointseniorliving.com/event-calendar/morning-melodies-134/
CATEGORIES:Memory Care
END:VEVENT
BEGIN:VEVENT
DTSTART;TZID=America/Chicago:20250924T093000
DTEND;TZID=America/Chicago:20250924T100000
DTSTAMP:20260421T091420
CREATED:20250826T055728Z
LAST-MODIFIED:20250924T073925Z
UID:10001934-1758706200-1758708000@eaglepointseniorliving.com
SUMMARY:Fit While You Sit
DESCRIPTION:
URL:https://eaglepointseniorliving.com/event-calendar/fit-while-you-sit-9/
CATEGORIES:Memory Care
END:VEVENT
BEGIN:VEVENT
DTSTART;TZID=America/Chicago:20250924T100000
DTEND;TZID=America/Chicago:20250924T103000
DTSTAMP:20260421T091420
CREATED:20250826T055728Z
LAST-MODIFIED:20250924T073925Z
UID:10001935-1758708000-1758709800@eaglepointseniorliving.com
SUMMARY:Weekly Worship
DESCRIPTION:Christian worship service with communion led by Chaplain Peter.
URL:https://eaglepointseniorliving.com/event-calendar/weekly-worship-13/
CATEGORIES:Memory Care
END:VEVENT
BEGIN:VEVENT
DTSTART;TZID=America/Chicago:20250924T110000
DTEND;TZID=America/Chicago:20250924T113000
DTSTAMP:20260421T091420
CREATED:20250924T073924Z
LAST-MODIFIED:20250924T073926Z
UID:10002390-1758711600-1758713400@eaglepointseniorliving.com
SUMMARY:Resident Wednesday
DESCRIPTION:
URL:https://eaglepointseniorliving.com/event-calendar/resident-wednesday-21/
CATEGORIES:Memory Care
END:VEVENT
BEGIN:VEVENT
DTSTART;TZID=America/Chicago:20250924T120000
DTEND;TZID=America/Chicago:20250924T123000
DTSTAMP:20260421T091420
CREATED:20250826T055741Z
LAST-MODIFIED:20250924T073926Z
UID:10001937-1758715200-1758717000@eaglepointseniorliving.com
SUMMARY:Oshibori
DESCRIPTION:
URL:https://eaglepointseniorliving.com/event-calendar/oshibori-187/
CATEGORIES:Memory Care
END:VEVENT
BEGIN:VEVENT
DTSTART;TZID=America/Chicago:20250924T133000
DTEND;TZID=America/Chicago:20250924T141500
DTSTAMP:20260421T091420
CREATED:20250911T065427Z
LAST-MODIFIED:20250924T073926Z
UID:10002160-1758720600-1758723300@eaglepointseniorliving.com
SUMMARY:Active Games & Phyical Movement Activity
DESCRIPTION:
URL:https://eaglepointseniorliving.com/event-calendar/active-games-phyical-movement-activity-2/
LOCATION:Activity room
CATEGORIES:Memory Care
END:VEVENT
BEGIN:VEVENT
DTSTART;TZID=America/Chicago:20250924T141500
DTEND;TZID=America/Chicago:20250924T150000
DTSTAMP:20260421T091420
CREATED:20250911T065427Z
LAST-MODIFIED:20250924T073926Z
UID:10002161-1758723300-1758726000@eaglepointseniorliving.com
SUMMARY:Word Games-Animal Word Scramble
DESCRIPTION:Refreshments (Iced water) after physical activity\, then socializing with some word games.
URL:https://eaglepointseniorliving.com/event-calendar/word-games-animal-word-scramble-2/
LOCATION:Activity room
CATEGORIES:Memory Care
END:VEVENT
BEGIN:VEVENT
DTSTART;TZID=America/Chicago:20250924T173000
DTEND;TZID=America/Chicago:20250924T181500
DTSTAMP:20260421T091420
CREATED:20250911T065427Z
LAST-MODIFIED:20250924T073926Z
UID:10002162-1758735000-1758737700@eaglepointseniorliving.com
SUMMARY:Sing a long to the oldies
DESCRIPTION:
URL:https://eaglepointseniorliving.com/event-calendar/sing-a-long-to-the-oldies-2/
LOCATION:Activity room
CATEGORIES:Memory Care
END:VEVENT
BEGIN:VEVENT
DTSTART;TZID=America/Chicago:20250924T181500
DTEND;TZID=America/Chicago:20250924T190000
DTSTAMP:20260421T091420
CREATED:20250911T065427Z
LAST-MODIFIED:20250924T073926Z
UID:10002163-1758737700-1758740400@eaglepointseniorliving.com
SUMMARY:Current Events/Daily Delights
DESCRIPTION:
URL:https://eaglepointseniorliving.com/event-calendar/current-events-daily-delights-2/
LOCATION:Dining Room
CATEGORIES:Memory Care
END:VEVENT
BEGIN:VEVENT
DTSTART;TZID=America/Chicago:20250924T190000
DTEND;TZID=America/Chicago:20250924T193000
DTSTAMP:20260421T091420
CREATED:20250827T062434Z
LAST-MODIFIED:20250924T073926Z
UID:10001966-1758740400-1758742200@eaglepointseniorliving.com
SUMMARY:Snack Pass
DESCRIPTION:
URL:https://eaglepointseniorliving.com/event-calendar/snack-pass-24/
CATEGORIES:Memory Care
END:VEVENT
END:VCALENDAR