BEGIN:VCALENDAR
VERSION:2.0
PRODID:-//Eagle Point Senior Living - ECPv6.11.2.1//NONSGML v1.0//EN
CALSCALE:GREGORIAN
METHOD:PUBLISH
X-ORIGINAL-URL:https://eaglepointseniorliving.com
X-WR-CALDESC:Events for Eagle Point Senior Living
REFRESH-INTERVAL;VALUE=DURATION:PT1H
X-Robots-Tag:noindex
X-PUBLISHED-TTL:PT1H
BEGIN:VTIMEZONE
TZID:America/Chicago
BEGIN:DAYLIGHT
TZOFFSETFROM:-0600
TZOFFSETTO:-0500
TZNAME:CDT
DTSTART:20250309T080000
END:DAYLIGHT
BEGIN:STANDARD
TZOFFSETFROM:-0500
TZOFFSETTO:-0600
TZNAME:CST
DTSTART:20251102T070000
END:STANDARD
END:VTIMEZONE
BEGIN:VEVENT
DTSTART;TZID=America/Chicago:20250922T080000
DTEND;TZID=America/Chicago:20250922T090000
DTSTAMP:20260421T091420
CREATED:20250824T055506Z
LAST-MODIFIED:20250922T074009Z
UID:10001895-1758528000-1758531600@eaglepointseniorliving.com
SUMMARY:Morning Melodies
DESCRIPTION:
URL:https://eaglepointseniorliving.com/event-calendar/morning-melodies-132/
CATEGORIES:Memory Care
END:VEVENT
BEGIN:VEVENT
DTSTART;TZID=America/Chicago:20250922T093000
DTEND;TZID=America/Chicago:20250922T100000
DTSTAMP:20260421T091420
CREATED:20250824T055507Z
LAST-MODIFIED:20250922T074009Z
UID:10001896-1758533400-1758535200@eaglepointseniorliving.com
SUMMARY:Fit While You Sit
DESCRIPTION:
URL:https://eaglepointseniorliving.com/event-calendar/fit-while-you-sit-7/
CATEGORIES:Memory Care
END:VEVENT
BEGIN:VEVENT
DTSTART;TZID=America/Chicago:20250922T110000
DTEND;TZID=America/Chicago:20250922T114500
DTSTAMP:20260421T091420
CREATED:20250824T055507Z
LAST-MODIFIED:20250922T074009Z
UID:10001897-1758538800-1758541500@eaglepointseniorliving.com
SUMMARY:Jeopardy
DESCRIPTION:
URL:https://eaglepointseniorliving.com/event-calendar/canvas-art-2/
CATEGORIES:Memory Care
END:VEVENT
BEGIN:VEVENT
DTSTART;TZID=America/Chicago:20250922T120000
DTEND;TZID=America/Chicago:20250922T123000
DTSTAMP:20260421T091420
CREATED:20250824T055507Z
LAST-MODIFIED:20250922T074009Z
UID:10001898-1758542400-1758544200@eaglepointseniorliving.com
SUMMARY:Oshibori
DESCRIPTION:
URL:https://eaglepointseniorliving.com/event-calendar/oshibori-185/
CATEGORIES:Memory Care
END:VEVENT
BEGIN:VEVENT
DTSTART;TZID=America/Chicago:20250922T133000
DTEND;TZID=America/Chicago:20250922T143000
DTSTAMP:20260421T091420
CREATED:20250920T073924Z
LAST-MODIFIED:20250922T074009Z
UID:10002286-1758547800-1758551400@eaglepointseniorliving.com
SUMMARY:You Share I Share
DESCRIPTION:
URL:https://eaglepointseniorliving.com/event-calendar/you-share-i-share/
CATEGORIES:Memory Care
END:VEVENT
BEGIN:VEVENT
DTSTART;TZID=America/Chicago:20250922T180000
DTEND;TZID=America/Chicago:20250922T190000
DTSTAMP:20260421T091420
CREATED:20250825T055444Z
LAST-MODIFIED:20250922T074009Z
UID:10001917-1758564000-1758567600@eaglepointseniorliving.com
SUMMARY:Picture it
DESCRIPTION:
URL:https://eaglepointseniorliving.com/event-calendar/picture-it/
CATEGORIES:Memory Care
END:VEVENT
BEGIN:VEVENT
DTSTART;TZID=America/Chicago:20250922T190000
DTEND;TZID=America/Chicago:20250922T193000
DTSTAMP:20260421T091420
CREATED:20250827T062434Z
LAST-MODIFIED:20250922T074009Z
UID:10001964-1758567600-1758569400@eaglepointseniorliving.com
SUMMARY:Snack Pass
DESCRIPTION:
URL:https://eaglepointseniorliving.com/event-calendar/snack-pass-22/
CATEGORIES:Memory Care
END:VEVENT
END:VCALENDAR