BEGIN:VCALENDAR
VERSION:2.0
PRODID:-//Eagle Point Senior Living - ECPv6.11.2.1//NONSGML v1.0//EN
CALSCALE:GREGORIAN
METHOD:PUBLISH
X-ORIGINAL-URL:https://eaglepointseniorliving.com
X-WR-CALDESC:Events for Eagle Point Senior Living
REFRESH-INTERVAL;VALUE=DURATION:PT1H
X-Robots-Tag:noindex
X-PUBLISHED-TTL:PT1H
BEGIN:VTIMEZONE
TZID:America/Chicago
BEGIN:DAYLIGHT
TZOFFSETFROM:-0600
TZOFFSETTO:-0500
TZNAME:CDT
DTSTART:20250309T080000
END:DAYLIGHT
BEGIN:STANDARD
TZOFFSETFROM:-0500
TZOFFSETTO:-0600
TZNAME:CST
DTSTART:20251102T070000
END:STANDARD
END:VTIMEZONE
BEGIN:VEVENT
DTSTART;TZID=America/Chicago:20250921T080000
DTEND;TZID=America/Chicago:20250921T090000
DTSTAMP:20260421T091420
CREATED:20250823T055427Z
LAST-MODIFIED:20250921T073933Z
UID:10001883-1758441600-1758445200@eaglepointseniorliving.com
SUMMARY:Morning Melodies
DESCRIPTION:
URL:https://eaglepointseniorliving.com/event-calendar/morning-melodies-131/
CATEGORIES:Memory Care
END:VEVENT
BEGIN:VEVENT
DTSTART;TZID=America/Chicago:20250921T100000
DTEND;TZID=America/Chicago:20250921T114500
DTSTAMP:20260421T091420
CREATED:20250823T055427Z
LAST-MODIFIED:20250921T073933Z
UID:10001884-1758448800-1758455100@eaglepointseniorliving.com
SUMMARY:Coloring and puzzles
DESCRIPTION:
URL:https://eaglepointseniorliving.com/event-calendar/coloring-and-puzzles-7/
CATEGORIES:Memory Care
END:VEVENT
BEGIN:VEVENT
DTSTART;TZID=America/Chicago:20250921T120000
DTEND;TZID=America/Chicago:20250921T150000
DTSTAMP:20260421T091420
CREATED:20250916T073937Z
LAST-MODIFIED:20250921T073933Z
UID:10002226-1758456000-1758466800@eaglepointseniorliving.com
SUMMARY:PACKER Vs. BROWNS
DESCRIPTION:
URL:https://eaglepointseniorliving.com/event-calendar/packer-vs-browns/
CATEGORIES:Memory Care
END:VEVENT
BEGIN:VEVENT
DTSTART;TZID=America/Chicago:20250921T130000
DTEND;TZID=America/Chicago:20250921T140000
DTSTAMP:20260421T091420
CREATED:20250825T055444Z
LAST-MODIFIED:20250921T073933Z
UID:10001915-1758459600-1758463200@eaglepointseniorliving.com
SUMMARY:The Fantastic Fox
DESCRIPTION:
URL:https://eaglepointseniorliving.com/event-calendar/the-fantastic-fox/
CATEGORIES:Memory Care
END:VEVENT
BEGIN:VEVENT
DTSTART;TZID=America/Chicago:20250921T140000
DTEND;TZID=America/Chicago:20250921T143000
DTSTAMP:20260421T091420
CREATED:20250823T055427Z
LAST-MODIFIED:20250921T073933Z
UID:10001885-1758463200-1758465000@eaglepointseniorliving.com
SUMMARY:Exercise
DESCRIPTION:
URL:https://eaglepointseniorliving.com/event-calendar/exercise-19/
CATEGORIES:Memory Care
END:VEVENT
BEGIN:VEVENT
DTSTART;TZID=America/Chicago:20250921T143000
DTEND;TZID=America/Chicago:20250921T153000
DTSTAMP:20260421T091420
CREATED:20250825T055444Z
LAST-MODIFIED:20250921T073933Z
UID:10001916-1758465000-1758468600@eaglepointseniorliving.com
SUMMARY:Bowling
DESCRIPTION:
URL:https://eaglepointseniorliving.com/event-calendar/bowling/
CATEGORIES:Memory Care
END:VEVENT
BEGIN:VEVENT
DTSTART;TZID=America/Chicago:20250921T190000
DTEND;TZID=America/Chicago:20250921T193000
DTSTAMP:20260421T091420
CREATED:20250827T062433Z
LAST-MODIFIED:20250921T073933Z
UID:10001963-1758481200-1758483000@eaglepointseniorliving.com
SUMMARY:Snack Pass
DESCRIPTION:
URL:https://eaglepointseniorliving.com/event-calendar/snack-pass-21/
CATEGORIES:Memory Care
END:VEVENT
END:VCALENDAR