BEGIN:VCALENDAR
VERSION:2.0
PRODID:-//Eagle Point Senior Living - ECPv6.11.2.1//NONSGML v1.0//EN
CALSCALE:GREGORIAN
METHOD:PUBLISH
X-ORIGINAL-URL:https://eaglepointseniorliving.com
X-WR-CALDESC:Events for Eagle Point Senior Living
REFRESH-INTERVAL;VALUE=DURATION:PT1H
X-Robots-Tag:noindex
X-PUBLISHED-TTL:PT1H
BEGIN:VTIMEZONE
TZID:America/Chicago
BEGIN:DAYLIGHT
TZOFFSETFROM:-0600
TZOFFSETTO:-0500
TZNAME:CDT
DTSTART:20250309T080000
END:DAYLIGHT
BEGIN:STANDARD
TZOFFSETFROM:-0500
TZOFFSETTO:-0600
TZNAME:CST
DTSTART:20251102T070000
END:STANDARD
END:VTIMEZONE
BEGIN:VEVENT
DTSTART;TZID=America/Chicago:20250915T080000
DTEND;TZID=America/Chicago:20250915T090000
DTSTAMP:20260421T091350
CREATED:20250817T052425Z
LAST-MODIFIED:20250915T073923Z
UID:10001773-1757923200-1757926800@eaglepointseniorliving.com
SUMMARY:Morning Melodies
DESCRIPTION:
URL:https://eaglepointseniorliving.com/event-calendar/morning-melodies-125/
CATEGORIES:Memory Care
END:VEVENT
BEGIN:VEVENT
DTSTART;TZID=America/Chicago:20250915T093000
DTEND;TZID=America/Chicago:20250915T100000
DTSTAMP:20260421T091350
CREATED:20250820T052526Z
LAST-MODIFIED:20250915T073923Z
UID:10001822-1757928600-1757930400@eaglepointseniorliving.com
SUMMARY:Fit While You Sit
DESCRIPTION:
URL:https://eaglepointseniorliving.com/event-calendar/fit-while-you-sit-4/
CATEGORIES:Memory Care
END:VEVENT
BEGIN:VEVENT
DTSTART;TZID=America/Chicago:20250915T110000
DTEND;TZID=America/Chicago:20250915T114500
DTSTAMP:20260421T091350
CREATED:20250821T054137Z
LAST-MODIFIED:20250915T073923Z
UID:10001850-1757934000-1757936700@eaglepointseniorliving.com
SUMMARY:PL8 Game
DESCRIPTION:
URL:https://eaglepointseniorliving.com/event-calendar/canvas-art/
CATEGORIES:Memory Care
END:VEVENT
BEGIN:VEVENT
DTSTART;TZID=America/Chicago:20250915T120000
DTEND;TZID=America/Chicago:20250915T123000
DTSTAMP:20260421T091350
CREATED:20250817T052425Z
LAST-MODIFIED:20250915T073923Z
UID:10001774-1757937600-1757939400@eaglepointseniorliving.com
SUMMARY:Oshibori
DESCRIPTION:
URL:https://eaglepointseniorliving.com/event-calendar/oshibori-180/
CATEGORIES:Memory Care
END:VEVENT
BEGIN:VEVENT
DTSTART;TZID=America/Chicago:20250915T133000
DTEND;TZID=America/Chicago:20250915T143000
DTSTAMP:20260421T091350
CREATED:20250913T072451Z
LAST-MODIFIED:20250915T073923Z
UID:10002188-1757943000-1757946600@eaglepointseniorliving.com
SUMMARY:Outside on The Patio
DESCRIPTION:
URL:https://eaglepointseniorliving.com/event-calendar/outside-on-the-patio-48/
CATEGORIES:Memory Care
END:VEVENT
BEGIN:VEVENT
DTSTART;TZID=America/Chicago:20250915T180000
DTEND;TZID=America/Chicago:20250915T190000
DTSTAMP:20260421T091350
CREATED:20250825T055443Z
LAST-MODIFIED:20250915T073923Z
UID:10001913-1757959200-1757962800@eaglepointseniorliving.com
SUMMARY:What's that sound?
DESCRIPTION:
URL:https://eaglepointseniorliving.com/event-calendar/whats-that-sound/
CATEGORIES:Memory Care
END:VEVENT
BEGIN:VEVENT
DTSTART;TZID=America/Chicago:20250915T190000
DTEND;TZID=America/Chicago:20250915T193000
DTSTAMP:20260421T091350
CREATED:20250827T062432Z
LAST-MODIFIED:20250915T073923Z
UID:10001957-1757962800-1757964600@eaglepointseniorliving.com
SUMMARY:Snack Pass
DESCRIPTION:
URL:https://eaglepointseniorliving.com/event-calendar/snack-pass-15/
CATEGORIES:Memory Care
END:VEVENT
END:VCALENDAR