BEGIN:VCALENDAR
VERSION:2.0
PRODID:-//Eagle Point Senior Living - ECPv6.11.2.1//NONSGML v1.0//EN
CALSCALE:GREGORIAN
METHOD:PUBLISH
X-ORIGINAL-URL:https://eaglepointseniorliving.com
X-WR-CALDESC:Events for Eagle Point Senior Living
REFRESH-INTERVAL;VALUE=DURATION:PT1H
X-Robots-Tag:noindex
X-PUBLISHED-TTL:PT1H
BEGIN:VTIMEZONE
TZID:America/Chicago
BEGIN:DAYLIGHT
TZOFFSETFROM:-0600
TZOFFSETTO:-0500
TZNAME:CDT
DTSTART:20250309T080000
END:DAYLIGHT
BEGIN:STANDARD
TZOFFSETFROM:-0500
TZOFFSETTO:-0600
TZNAME:CST
DTSTART:20251102T070000
END:STANDARD
END:VTIMEZONE
BEGIN:VEVENT
DTSTART;TZID=America/Chicago:20250910T080000
DTEND;TZID=America/Chicago:20250910T090000
DTSTAMP:20260421T091420
CREATED:20250812T050928Z
LAST-MODIFIED:20250910T065424Z
UID:10001715-1757491200-1757494800@eaglepointseniorliving.com
SUMMARY:Morning Melodies
DESCRIPTION:
URL:https://eaglepointseniorliving.com/event-calendar/morning-melodies-120/
CATEGORIES:Memory Care
END:VEVENT
BEGIN:VEVENT
DTSTART;TZID=America/Chicago:20250910T093000
DTEND;TZID=America/Chicago:20250910T100000
DTSTAMP:20260421T091420
CREATED:20250812T050928Z
LAST-MODIFIED:20250910T065424Z
UID:10001716-1757496600-1757498400@eaglepointseniorliving.com
SUMMARY:Fit While You Sit
DESCRIPTION:
URL:https://eaglepointseniorliving.com/event-calendar/morning-exercise-68/
CATEGORIES:Memory Care
END:VEVENT
BEGIN:VEVENT
DTSTART;TZID=America/Chicago:20250910T100000
DTEND;TZID=America/Chicago:20250910T103000
DTSTAMP:20260421T091420
CREATED:20250812T050928Z
LAST-MODIFIED:20250910T065424Z
UID:10001717-1757498400-1757500200@eaglepointseniorliving.com
SUMMARY:Weekly Worship
DESCRIPTION:Christian worship service with communion led by Chaplain Peter.
URL:https://eaglepointseniorliving.com/event-calendar/weekly-worship-11/
CATEGORIES:Memory Care
END:VEVENT
BEGIN:VEVENT
DTSTART;TZID=America/Chicago:20250910T110000
DTEND;TZID=America/Chicago:20250910T114500
DTSTAMP:20260421T091420
CREATED:20250812T050928Z
LAST-MODIFIED:20250910T065424Z
UID:10001718-1757502000-1757504700@eaglepointseniorliving.com
SUMMARY:Resident Wednesday
DESCRIPTION:
URL:https://eaglepointseniorliving.com/event-calendar/resident-wednesday-18/
CATEGORIES:Memory Care
END:VEVENT
BEGIN:VEVENT
DTSTART;TZID=America/Chicago:20250910T120000
DTEND;TZID=America/Chicago:20250910T123000
DTSTAMP:20260421T091420
CREATED:20250812T050928Z
LAST-MODIFIED:20250910T065425Z
UID:10001719-1757505600-1757507400@eaglepointseniorliving.com
SUMMARY:Oshibori
DESCRIPTION:
URL:https://eaglepointseniorliving.com/event-calendar/oshibori-177/
CATEGORIES:Memory Care
END:VEVENT
BEGIN:VEVENT
DTSTART;TZID=America/Chicago:20250910T130000
DTEND;TZID=America/Chicago:20250910T140000
DTSTAMP:20260421T091420
CREATED:20250821T054114Z
LAST-MODIFIED:20250910T065425Z
UID:10001849-1757509200-1757512800@eaglepointseniorliving.com
SUMMARY:Hula Hoop Ball Toss
DESCRIPTION:A new twist on a ball toss game.
URL:https://eaglepointseniorliving.com/event-calendar/hula-hoop-ball-toss/
LOCATION:Activity room
CATEGORIES:Memory Care
END:VEVENT
BEGIN:VEVENT
DTSTART;TZID=America/Chicago:20250910T190000
DTEND;TZID=America/Chicago:20250910T193000
DTSTAMP:20260421T091420
CREATED:20250827T062431Z
LAST-MODIFIED:20250910T065425Z
UID:10001952-1757530800-1757532600@eaglepointseniorliving.com
SUMMARY:Snack Pass
DESCRIPTION:
URL:https://eaglepointseniorliving.com/event-calendar/snack-pass-10/
CATEGORIES:Memory Care
END:VEVENT
END:VCALENDAR