BEGIN:VCALENDAR
VERSION:2.0
PRODID:-//Eagle Point Senior Living - ECPv6.11.2.1//NONSGML v1.0//EN
CALSCALE:GREGORIAN
METHOD:PUBLISH
X-ORIGINAL-URL:https://eaglepointseniorliving.com
X-WR-CALDESC:Events for Eagle Point Senior Living
REFRESH-INTERVAL;VALUE=DURATION:PT1H
X-Robots-Tag:noindex
X-PUBLISHED-TTL:PT1H
BEGIN:VTIMEZONE
TZID:America/Chicago
BEGIN:DAYLIGHT
TZOFFSETFROM:-0600
TZOFFSETTO:-0500
TZNAME:CDT
DTSTART:20250309T080000
END:DAYLIGHT
BEGIN:STANDARD
TZOFFSETFROM:-0500
TZOFFSETTO:-0600
TZNAME:CST
DTSTART:20251102T070000
END:STANDARD
END:VTIMEZONE
BEGIN:VEVENT
DTSTART;TZID=America/Chicago:20250909T080000
DTEND;TZID=America/Chicago:20250909T090000
DTSTAMP:20260421T091350
CREATED:20250811T045538Z
LAST-MODIFIED:20250909T065426Z
UID:10001694-1757404800-1757408400@eaglepointseniorliving.com
SUMMARY:Morning Melodies
DESCRIPTION:
URL:https://eaglepointseniorliving.com/event-calendar/morning-melodies-119/
CATEGORIES:Memory Care
END:VEVENT
BEGIN:VEVENT
DTSTART;TZID=America/Chicago:20250909T093000
DTEND;TZID=America/Chicago:20250909T100000
DTSTAMP:20260421T091350
CREATED:20250820T052526Z
LAST-MODIFIED:20250909T065426Z
UID:10001818-1757410200-1757412000@eaglepointseniorliving.com
SUMMARY:Fit While You Sit
DESCRIPTION:
URL:https://eaglepointseniorliving.com/event-calendar/fit-while-you-sit-2/
CATEGORIES:Memory Care
END:VEVENT
BEGIN:VEVENT
DTSTART;TZID=America/Chicago:20250909T100000
DTEND;TZID=America/Chicago:20250909T110000
DTSTAMP:20260421T091350
CREATED:20250811T045538Z
LAST-MODIFIED:20250909T065426Z
UID:10001696-1757412000-1757415600@eaglepointseniorliving.com
SUMMARY:Daily Spirit Spark
DESCRIPTION:Various spiritual topics and activities with Chaplain Peter.
URL:https://eaglepointseniorliving.com/event-calendar/daily-spirit-spark-44/
CATEGORIES:Memory Care
END:VEVENT
BEGIN:VEVENT
DTSTART;TZID=America/Chicago:20250909T110000
DTEND;TZID=America/Chicago:20250909T114500
DTSTAMP:20260421T091350
CREATED:20250820T052526Z
LAST-MODIFIED:20250909T065426Z
UID:10001819-1757415600-1757418300@eaglepointseniorliving.com
SUMMARY:Trivia Tuesday
DESCRIPTION:
URL:https://eaglepointseniorliving.com/event-calendar/triva-tuesday/
CATEGORIES:Memory Care
END:VEVENT
BEGIN:VEVENT
DTSTART;TZID=America/Chicago:20250909T120000
DTEND;TZID=America/Chicago:20250909T123000
DTSTAMP:20260421T091350
CREATED:20250811T045538Z
LAST-MODIFIED:20250909T065426Z
UID:10001697-1757419200-1757421000@eaglepointseniorliving.com
SUMMARY:Oshibori
DESCRIPTION:
URL:https://eaglepointseniorliving.com/event-calendar/oshibori-176/
CATEGORIES:Memory Care
END:VEVENT
BEGIN:VEVENT
DTSTART;TZID=America/Chicago:20250909T133000
DTEND;TZID=America/Chicago:20250909T150000
DTSTAMP:20260421T091350
CREATED:20250811T045539Z
LAST-MODIFIED:20250909T065426Z
UID:10001698-1757424600-1757430000@eaglepointseniorliving.com
SUMMARY:Sitting Outside on The Patio
DESCRIPTION:
URL:https://eaglepointseniorliving.com/event-calendar/outside-on-the-patio-43/
CATEGORIES:Memory Care
END:VEVENT
BEGIN:VEVENT
DTSTART;TZID=America/Chicago:20250909T150000
DTEND;TZID=America/Chicago:20250909T153000
DTSTAMP:20260421T091350
CREATED:20250811T045539Z
LAST-MODIFIED:20250909T065426Z
UID:10001699-1757430000-1757431800@eaglepointseniorliving.com
SUMMARY:Creative Coloring
DESCRIPTION:
URL:https://eaglepointseniorliving.com/event-calendar/reminisce-35/
CATEGORIES:Memory Care
END:VEVENT
BEGIN:VEVENT
DTSTART;TZID=America/Chicago:20250909T180000
DTEND;TZID=America/Chicago:20250909T190000
DTSTAMP:20260421T091350
CREATED:20250811T045539Z
LAST-MODIFIED:20250909T065426Z
UID:10001700-1757440800-1757444400@eaglepointseniorliving.com
SUMMARY:Bingo With Dawn
DESCRIPTION:Bingo is a fun\, low-pressure game that supports cognitive skills like memory\, attention\, and pattern recognition while encouraging social interaction and emotional well-being. Its adaptability makes it accessible for various ability levels\, offering joy\, routine\, and community.
URL:https://eaglepointseniorliving.com/event-calendar/bingo-with-dawn-13/
CATEGORIES:Memory Care
END:VEVENT
BEGIN:VEVENT
DTSTART;TZID=America/Chicago:20250909T190000
DTEND;TZID=America/Chicago:20250909T193000
DTSTAMP:20260421T091350
CREATED:20250827T062431Z
LAST-MODIFIED:20250909T065426Z
UID:10001951-1757444400-1757446200@eaglepointseniorliving.com
SUMMARY:Snack Pass
DESCRIPTION:
URL:https://eaglepointseniorliving.com/event-calendar/snack-pass-9/
CATEGORIES:Memory Care
END:VEVENT
END:VCALENDAR