BEGIN:VCALENDAR
VERSION:2.0
PRODID:-//Eagle Point Senior Living - ECPv6.11.2.1//NONSGML v1.0//EN
CALSCALE:GREGORIAN
METHOD:PUBLISH
X-ORIGINAL-URL:https://eaglepointseniorliving.com
X-WR-CALDESC:Events for Eagle Point Senior Living
REFRESH-INTERVAL;VALUE=DURATION:PT1H
X-Robots-Tag:noindex
X-PUBLISHED-TTL:PT1H
BEGIN:VTIMEZONE
TZID:America/Chicago
BEGIN:DAYLIGHT
TZOFFSETFROM:-0600
TZOFFSETTO:-0500
TZNAME:CDT
DTSTART:20250309T080000
END:DAYLIGHT
BEGIN:STANDARD
TZOFFSETFROM:-0500
TZOFFSETTO:-0600
TZNAME:CST
DTSTART:20251102T070000
END:STANDARD
END:VTIMEZONE
BEGIN:VEVENT
DTSTART;TZID=America/Chicago:20250906T080000
DTEND;TZID=America/Chicago:20250906T090000
DTSTAMP:20260421T091242
CREATED:20250808T043926Z
LAST-MODIFIED:20250906T065430Z
UID:10001666-1757145600-1757149200@eaglepointseniorliving.com
SUMMARY:Morning Melodies
DESCRIPTION:
URL:https://eaglepointseniorliving.com/event-calendar/morning-melodies-116/
CATEGORIES:Memory Care
END:VEVENT
BEGIN:VEVENT
DTSTART;TZID=America/Chicago:20250906T140000
DTEND;TZID=America/Chicago:20250906T150000
DTSTAMP:20260421T091242
CREATED:20250808T043926Z
LAST-MODIFIED:20250906T065430Z
UID:10001667-1757167200-1757170800@eaglepointseniorliving.com
SUMMARY:Reminisce
DESCRIPTION:
URL:https://eaglepointseniorliving.com/event-calendar/reminisce-34/
CATEGORIES:Memory Care
END:VEVENT
BEGIN:VEVENT
DTSTART;TZID=America/Chicago:20250906T180000
DTEND;TZID=America/Chicago:20250906T190000
DTSTAMP:20260421T091242
CREATED:20250808T043926Z
LAST-MODIFIED:20250906T065430Z
UID:10001668-1757181600-1757185200@eaglepointseniorliving.com
SUMMARY:Movie & A Snack
DESCRIPTION:
URL:https://eaglepointseniorliving.com/event-calendar/movie-a-snack-17/
CATEGORIES:Memory Care
END:VEVENT
BEGIN:VEVENT
DTSTART;TZID=America/Chicago:20250906T190000
DTEND;TZID=America/Chicago:20250906T193000
DTSTAMP:20260421T091242
CREATED:20250827T062430Z
LAST-MODIFIED:20250906T065430Z
UID:10001948-1757185200-1757187000@eaglepointseniorliving.com
SUMMARY:Snack Pass
DESCRIPTION:
URL:https://eaglepointseniorliving.com/event-calendar/snack-pass-6/
CATEGORIES:Memory Care
END:VEVENT
END:VCALENDAR