BEGIN:VCALENDAR
VERSION:2.0
PRODID:-//Eagle Point Senior Living - ECPv6.11.2.1//NONSGML v1.0//EN
CALSCALE:GREGORIAN
METHOD:PUBLISH
X-ORIGINAL-URL:https://eaglepointseniorliving.com
X-WR-CALDESC:Events for Eagle Point Senior Living
REFRESH-INTERVAL;VALUE=DURATION:PT1H
X-Robots-Tag:noindex
X-PUBLISHED-TTL:PT1H
BEGIN:VTIMEZONE
TZID:America/Chicago
BEGIN:DAYLIGHT
TZOFFSETFROM:-0600
TZOFFSETTO:-0500
TZNAME:CDT
DTSTART:20250309T080000
END:DAYLIGHT
BEGIN:STANDARD
TZOFFSETFROM:-0500
TZOFFSETTO:-0600
TZNAME:CST
DTSTART:20251102T070000
END:STANDARD
END:VTIMEZONE
BEGIN:VEVENT
DTSTART;TZID=America/Chicago:20250905T080000
DTEND;TZID=America/Chicago:20250905T090000
DTSTAMP:20260421T091420
CREATED:20250807T043956Z
LAST-MODIFIED:20250905T063940Z
UID:10001650-1757059200-1757062800@eaglepointseniorliving.com
SUMMARY:Morning Melodies
DESCRIPTION:
URL:https://eaglepointseniorliving.com/event-calendar/morning-melodies-115/
CATEGORIES:Memory Care
END:VEVENT
BEGIN:VEVENT
DTSTART;TZID=America/Chicago:20250905T093000
DTEND;TZID=America/Chicago:20250905T100000
DTSTAMP:20260421T091420
CREATED:20250807T043956Z
LAST-MODIFIED:20250905T063940Z
UID:10001651-1757064600-1757066400@eaglepointseniorliving.com
SUMMARY:Fit While You Sit
DESCRIPTION:
URL:https://eaglepointseniorliving.com/event-calendar/morning-exercise-65/
CATEGORIES:Memory Care
END:VEVENT
BEGIN:VEVENT
DTSTART;TZID=America/Chicago:20250905T100000
DTEND;TZID=America/Chicago:20250905T110000
DTSTAMP:20260421T091420
CREATED:20250904T063922Z
LAST-MODIFIED:20250905T063940Z
UID:10002068-1757066400-1757070000@eaglepointseniorliving.com
SUMMARY:Early Bird Bingo
DESCRIPTION:
URL:https://eaglepointseniorliving.com/event-calendar/early-bird-bingo/
CATEGORIES:Memory Care
END:VEVENT
BEGIN:VEVENT
DTSTART;TZID=America/Chicago:20250905T120000
DTEND;TZID=America/Chicago:20250905T123000
DTSTAMP:20260421T091420
CREATED:20250807T043956Z
LAST-MODIFIED:20250905T063940Z
UID:10001654-1757073600-1757075400@eaglepointseniorliving.com
SUMMARY:Oshibori
DESCRIPTION:
URL:https://eaglepointseniorliving.com/event-calendar/oshibori-174/
CATEGORIES:Memory Care
END:VEVENT
BEGIN:VEVENT
DTSTART;TZID=America/Chicago:20250905T190000
DTEND;TZID=America/Chicago:20250905T193000
DTSTAMP:20260421T091420
CREATED:20250827T062430Z
LAST-MODIFIED:20250905T063940Z
UID:10001947-1757098800-1757100600@eaglepointseniorliving.com
SUMMARY:Snack Pass
DESCRIPTION:
URL:https://eaglepointseniorliving.com/event-calendar/snack-pass-5/
CATEGORIES:Memory Care
END:VEVENT
END:VCALENDAR