BEGIN:VCALENDAR
VERSION:2.0
PRODID:-//Eagle Point Senior Living - ECPv6.11.2.1//NONSGML v1.0//EN
CALSCALE:GREGORIAN
METHOD:PUBLISH
X-ORIGINAL-URL:https://eaglepointseniorliving.com
X-WR-CALDESC:Events for Eagle Point Senior Living
REFRESH-INTERVAL;VALUE=DURATION:PT1H
X-Robots-Tag:noindex
X-PUBLISHED-TTL:PT1H
BEGIN:VTIMEZONE
TZID:America/Chicago
BEGIN:DAYLIGHT
TZOFFSETFROM:-0600
TZOFFSETTO:-0500
TZNAME:CDT
DTSTART:20250309T080000
END:DAYLIGHT
BEGIN:STANDARD
TZOFFSETFROM:-0500
TZOFFSETTO:-0600
TZNAME:CST
DTSTART:20251102T070000
END:STANDARD
END:VTIMEZONE
BEGIN:VEVENT
DTSTART;TZID=America/Chicago:20250904T080000
DTEND;TZID=America/Chicago:20250904T090000
DTSTAMP:20260421T103027
CREATED:20250806T043929Z
LAST-MODIFIED:20250904T063923Z
UID:10001639-1756972800-1756976400@eaglepointseniorliving.com
SUMMARY:Morning Melodies
DESCRIPTION:
URL:https://eaglepointseniorliving.com/event-calendar/morning-melodies-114/
CATEGORIES:Memory Care
END:VEVENT
BEGIN:VEVENT
DTSTART;TZID=America/Chicago:20250904T120000
DTEND;TZID=America/Chicago:20250904T123000
DTSTAMP:20260421T103027
CREATED:20250806T043929Z
LAST-MODIFIED:20250904T063923Z
UID:10001641-1756987200-1756989000@eaglepointseniorliving.com
SUMMARY:Oshibori
DESCRIPTION:
URL:https://eaglepointseniorliving.com/event-calendar/oshibori-173/
CATEGORIES:Memory Care
END:VEVENT
BEGIN:VEVENT
DTSTART;TZID=America/Chicago:20250904T180000
DTEND;TZID=America/Chicago:20250904T190000
DTSTAMP:20260421T103027
CREATED:20250806T043929Z
LAST-MODIFIED:20250904T063923Z
UID:10001642-1757008800-1757012400@eaglepointseniorliving.com
SUMMARY:Summer Concert Series
DESCRIPTION:
URL:https://eaglepointseniorliving.com/event-calendar/summer-concert-series-4/
CATEGORIES:Memory Care
END:VEVENT
BEGIN:VEVENT
DTSTART;TZID=America/Chicago:20250904T190000
DTEND;TZID=America/Chicago:20250904T193000
DTSTAMP:20260421T103027
CREATED:20250827T062430Z
LAST-MODIFIED:20250904T063923Z
UID:10001946-1757012400-1757014200@eaglepointseniorliving.com
SUMMARY:Snack Pass
DESCRIPTION:
URL:https://eaglepointseniorliving.com/event-calendar/snack-pass-4/
CATEGORIES:Memory Care
END:VEVENT
END:VCALENDAR