BEGIN:VCALENDAR
VERSION:2.0
PRODID:-//Eagle Point Senior Living - ECPv6.11.2.1//NONSGML v1.0//EN
CALSCALE:GREGORIAN
METHOD:PUBLISH
X-WR-CALNAME:Eagle Point Senior Living
X-ORIGINAL-URL:https://eaglepointseniorliving.com
X-WR-CALDESC:Events for Eagle Point Senior Living
REFRESH-INTERVAL;VALUE=DURATION:PT1H
X-Robots-Tag:noindex
X-PUBLISHED-TTL:PT1H
BEGIN:VTIMEZONE
TZID:America/Chicago
BEGIN:DAYLIGHT
TZOFFSETFROM:-0600
TZOFFSETTO:-0500
TZNAME:CDT
DTSTART:20250309T080000
END:DAYLIGHT
BEGIN:STANDARD
TZOFFSETFROM:-0500
TZOFFSETTO:-0600
TZNAME:CST
DTSTART:20251102T070000
END:STANDARD
END:VTIMEZONE
BEGIN:VEVENT
DTSTART;TZID=America/Chicago:20250903T080000
DTEND;TZID=America/Chicago:20250903T090000
DTSTAMP:20260421T090849
CREATED:20250805T043929Z
LAST-MODIFIED:20250903T064050Z
UID:10001624-1756886400-1756890000@eaglepointseniorliving.com
SUMMARY:Morning Melodies
DESCRIPTION:
URL:https://eaglepointseniorliving.com/event-calendar/morning-melodies-113/
CATEGORIES:Memory Care
END:VEVENT
BEGIN:VEVENT
DTSTART;TZID=America/Chicago:20250903T093000
DTEND;TZID=America/Chicago:20250903T100000
DTSTAMP:20260421T090849
CREATED:20250805T043929Z
LAST-MODIFIED:20250903T064050Z
UID:10001625-1756891800-1756893600@eaglepointseniorliving.com
SUMMARY:Fit While You Sit
DESCRIPTION:
URL:https://eaglepointseniorliving.com/event-calendar/morning-exercise-64/
CATEGORIES:Memory Care
END:VEVENT
BEGIN:VEVENT
DTSTART;TZID=America/Chicago:20250903T100000
DTEND;TZID=America/Chicago:20250903T103000
DTSTAMP:20260421T090849
CREATED:20250805T043929Z
LAST-MODIFIED:20250903T064050Z
UID:10001626-1756893600-1756895400@eaglepointseniorliving.com
SUMMARY:Weekly Worship
DESCRIPTION:Christian worship service with communion led by Chaplain Peter.
URL:https://eaglepointseniorliving.com/event-calendar/weekly-worship-10/
CATEGORIES:Memory Care
END:VEVENT
BEGIN:VEVENT
DTSTART;TZID=America/Chicago:20250903T110000
DTEND;TZID=America/Chicago:20250903T113000
DTSTAMP:20260421T090849
CREATED:20250805T043929Z
LAST-MODIFIED:20250903T064050Z
UID:10001627-1756897200-1756899000@eaglepointseniorliving.com
SUMMARY:Resident Wednesday
DESCRIPTION:
URL:https://eaglepointseniorliving.com/event-calendar/resident-wednesday-17/
CATEGORIES:Memory Care
END:VEVENT
BEGIN:VEVENT
DTSTART;TZID=America/Chicago:20250903T120000
DTEND;TZID=America/Chicago:20250903T123000
DTSTAMP:20260421T090849
CREATED:20250805T043929Z
LAST-MODIFIED:20250903T064050Z
UID:10001628-1756900800-1756902600@eaglepointseniorliving.com
SUMMARY:Oshibori
DESCRIPTION:
URL:https://eaglepointseniorliving.com/event-calendar/oshibori-172/
CATEGORIES:Memory Care
END:VEVENT
BEGIN:VEVENT
DTSTART;TZID=America/Chicago:20250903T130000
DTEND;TZID=America/Chicago:20250903T140000
DTSTAMP:20260421T090849
CREATED:20250821T054038Z
LAST-MODIFIED:20250903T064050Z
UID:10001846-1756904400-1756908000@eaglepointseniorliving.com
SUMMARY:Salt Dough Craft
DESCRIPTION:
URL:https://eaglepointseniorliving.com/event-calendar/salt-dough-craft/
LOCATION:Activity room
CATEGORIES:Memory Care
END:VEVENT
BEGIN:VEVENT
DTSTART;TZID=America/Chicago:20250903T140000
DTEND;TZID=America/Chicago:20250903T150000
DTSTAMP:20260421T090849
CREATED:20250821T054038Z
LAST-MODIFIED:20250903T064050Z
UID:10001847-1756908000-1756911600@eaglepointseniorliving.com
SUMMARY:Record Albums on the Patio
DESCRIPTION:Join in for some old school music listening.
URL:https://eaglepointseniorliving.com/event-calendar/record-albums-on-the-patio/
LOCATION:Patio
CATEGORIES:Memory Care
END:VEVENT
BEGIN:VEVENT
DTSTART;TZID=America/Chicago:20250903T173000
DTEND;TZID=America/Chicago:20250903T183000
DTSTAMP:20260421T090849
CREATED:20250821T054038Z
LAST-MODIFIED:20250903T064050Z
UID:10001848-1756920600-1756924200@eaglepointseniorliving.com
SUMMARY:Magazine Scavenger Hunt
DESCRIPTION:Join us for a tabletop magazine scavenger hunt! Let’s see what we can find!
URL:https://eaglepointseniorliving.com/event-calendar/magazine-scavenger-hunt/
LOCATION:Dining Room
CATEGORIES:Memory Care
END:VEVENT
BEGIN:VEVENT
DTSTART;TZID=America/Chicago:20250903T190000
DTEND;TZID=America/Chicago:20250903T193000
DTSTAMP:20260421T090849
CREATED:20250827T062430Z
LAST-MODIFIED:20250903T064050Z
UID:10001945-1756926000-1756927800@eaglepointseniorliving.com
SUMMARY:Snack Pass
DESCRIPTION:
URL:https://eaglepointseniorliving.com/event-calendar/snack-pass-3/
CATEGORIES:Memory Care
END:VEVENT
END:VCALENDAR