BEGIN:VCALENDAR
VERSION:2.0
PRODID:-//Eagle Point Senior Living - ECPv6.11.2.1//NONSGML v1.0//EN
CALSCALE:GREGORIAN
METHOD:PUBLISH
X-WR-CALNAME:Eagle Point Senior Living
X-ORIGINAL-URL:https://eaglepointseniorliving.com
X-WR-CALDESC:Events for Eagle Point Senior Living
REFRESH-INTERVAL;VALUE=DURATION:PT1H
X-Robots-Tag:noindex
X-PUBLISHED-TTL:PT1H
BEGIN:VTIMEZONE
TZID:America/Chicago
BEGIN:DAYLIGHT
TZOFFSETFROM:-0600
TZOFFSETTO:-0500
TZNAME:CDT
DTSTART:20250309T080000
END:DAYLIGHT
BEGIN:STANDARD
TZOFFSETFROM:-0500
TZOFFSETTO:-0600
TZNAME:CST
DTSTART:20251102T070000
END:STANDARD
END:VTIMEZONE
BEGIN:VEVENT
DTSTART;TZID=America/Chicago:20250829T080000
DTEND;TZID=America/Chicago:20250829T090000
DTSTAMP:20260421T103158
CREATED:20250731T043943Z
LAST-MODIFIED:20250829T063924Z
UID:10001571-1756454400-1756458000@eaglepointseniorliving.com
SUMMARY:Morning Melodies
DESCRIPTION:
URL:https://eaglepointseniorliving.com/event-calendar/morning-melodies-108/
CATEGORIES:Memory Care
END:VEVENT
BEGIN:VEVENT
DTSTART;TZID=America/Chicago:20250829T093000
DTEND;TZID=America/Chicago:20250829T100000
DTSTAMP:20260421T103158
CREATED:20250829T063923Z
LAST-MODIFIED:20250829T063924Z
UID:10001996-1756459800-1756461600@eaglepointseniorliving.com
SUMMARY:Morning Exercise With Tabitha
DESCRIPTION:
URL:https://eaglepointseniorliving.com/event-calendar/morning-exercise-with-tabitha/
CATEGORIES:Memory Care
END:VEVENT
BEGIN:VEVENT
DTSTART;TZID=America/Chicago:20250829T100000
DTEND;TZID=America/Chicago:20250829T110000
DTSTAMP:20260421T103159
CREATED:20250731T043943Z
LAST-MODIFIED:20250829T063924Z
UID:10001573-1756461600-1756465200@eaglepointseniorliving.com
SUMMARY:Daily Spirit Spark
DESCRIPTION:Various spiritual topics and activities with Chaplain Peter.
URL:https://eaglepointseniorliving.com/event-calendar/daily-spirit-spark-40/
CATEGORIES:Memory Care
END:VEVENT
BEGIN:VEVENT
DTSTART;TZID=America/Chicago:20250829T110000
DTEND;TZID=America/Chicago:20250829T120000
DTSTAMP:20260421T103159
CREATED:20250829T063923Z
LAST-MODIFIED:20250829T063924Z
UID:10001997-1756465200-1756468800@eaglepointseniorliving.com
SUMMARY:Morning Sunshine on The Patio
DESCRIPTION:
URL:https://eaglepointseniorliving.com/event-calendar/morning-sunshine-on-the-patio-2/
CATEGORIES:Memory Care
END:VEVENT
BEGIN:VEVENT
DTSTART;TZID=America/Chicago:20250829T120000
DTEND;TZID=America/Chicago:20250829T123000
DTSTAMP:20260421T103159
CREATED:20250731T043943Z
LAST-MODIFIED:20250829T063924Z
UID:10001575-1756468800-1756470600@eaglepointseniorliving.com
SUMMARY:Oshibori
DESCRIPTION:
URL:https://eaglepointseniorliving.com/event-calendar/oshibori-169/
CATEGORIES:Memory Care
END:VEVENT
BEGIN:VEVENT
DTSTART;TZID=America/Chicago:20250829T140000
DTEND;TZID=America/Chicago:20250829T150000
DTSTAMP:20260421T103159
CREATED:20250731T043943Z
LAST-MODIFIED:20250829T063924Z
UID:10001576-1756476000-1756479600@eaglepointseniorliving.com
SUMMARY:Music With Dave Ross
DESCRIPTION:Friday at 2:00 PM
URL:https://eaglepointseniorliving.com/event-calendar/music-with-dave-ross-2/
CATEGORIES:Memory Care
END:VEVENT
END:VCALENDAR