BEGIN:VCALENDAR
VERSION:2.0
PRODID:-//Eagle Point Senior Living - ECPv6.11.2.1//NONSGML v1.0//EN
CALSCALE:GREGORIAN
METHOD:PUBLISH
X-ORIGINAL-URL:https://eaglepointseniorliving.com
X-WR-CALDESC:Events for Eagle Point Senior Living
REFRESH-INTERVAL;VALUE=DURATION:PT1H
X-Robots-Tag:noindex
X-PUBLISHED-TTL:PT1H
BEGIN:VTIMEZONE
TZID:America/Chicago
BEGIN:DAYLIGHT
TZOFFSETFROM:-0600
TZOFFSETTO:-0500
TZNAME:CDT
DTSTART:20250309T080000
END:DAYLIGHT
BEGIN:STANDARD
TZOFFSETFROM:-0500
TZOFFSETTO:-0600
TZNAME:CST
DTSTART:20251102T070000
END:STANDARD
END:VTIMEZONE
BEGIN:VEVENT
DTSTART;TZID=America/Chicago:20250825T080000
DTEND;TZID=America/Chicago:20250825T090000
DTSTAMP:20260421T102903
CREATED:20250727T043932Z
LAST-MODIFIED:20250825T055440Z
UID:10001491-1756108800-1756112400@eaglepointseniorliving.com
SUMMARY:Morning Melodies
DESCRIPTION:
URL:https://eaglepointseniorliving.com/event-calendar/morning-melodies-104/
CATEGORIES:Memory Care
END:VEVENT
BEGIN:VEVENT
DTSTART;TZID=America/Chicago:20250825T093000
DTEND;TZID=America/Chicago:20250825T100000
DTSTAMP:20260421T102903
CREATED:20250823T055422Z
LAST-MODIFIED:20250825T055440Z
UID:10001878-1756114200-1756116000@eaglepointseniorliving.com
SUMMARY:News Currents-Happy Birthday Potato Chip Day
DESCRIPTION:
URL:https://eaglepointseniorliving.com/event-calendar/news-currents-3/
CATEGORIES:Memory Care
END:VEVENT
BEGIN:VEVENT
DTSTART;TZID=America/Chicago:20250825T110000
DTEND;TZID=America/Chicago:20250825T114500
DTSTAMP:20260421T102903
CREATED:20250823T055422Z
LAST-MODIFIED:20250825T055440Z
UID:10001879-1756119600-1756122300@eaglepointseniorliving.com
SUMMARY:Anniversary of National Parks
DESCRIPTION:
URL:https://eaglepointseniorliving.com/event-calendar/anniversary-of-national-parks/
CATEGORIES:Memory Care
END:VEVENT
BEGIN:VEVENT
DTSTART;TZID=America/Chicago:20250825T120000
DTEND;TZID=America/Chicago:20250825T123000
DTSTAMP:20260421T102903
CREATED:20250727T043932Z
LAST-MODIFIED:20250825T055440Z
UID:10001493-1756123200-1756125000@eaglepointseniorliving.com
SUMMARY:Oshibori
DESCRIPTION:
URL:https://eaglepointseniorliving.com/event-calendar/oshibori-165/
CATEGORIES:Memory Care
END:VEVENT
BEGIN:VEVENT
DTSTART;TZID=America/Chicago:20250825T180000
DTEND;TZID=America/Chicago:20250825T190000
DTSTAMP:20260421T102903
CREATED:20250728T043950Z
LAST-MODIFIED:20250825T055440Z
UID:10001517-1756144800-1756148400@eaglepointseniorliving.com
SUMMARY:Parachute Games
DESCRIPTION:
URL:https://eaglepointseniorliving.com/event-calendar/beanbag-toss/
CATEGORIES:Memory Care
END:VEVENT
END:VCALENDAR